Workbook

Sheet Журнал_заявок
A1: сегодня | B1: =TODAY() -> 44979 | E1: оформлены | F1: Для отбора проб | L1: Счет № | M1: сумма | N1: оплачено | O1: документы получены
A2: № вх | B2: дата | C2: номер и дата | D2: Наименование заявителя | F2: Заявку принял | G2: Количество образцов | H2: дата отбора | I2: Место отбора | J2: Отправитель | K2: Получатель | M2: =SUM(Журнал_заявок!M$3:M8460) -> 0 | N2: =SUM(Журнал_заявок!N$3:N8460) -> 0
A3: 08-0001 | B3: 44972 | D3: ООО Травы сухие | E3: =IF(COUNTIF(Журнал_образцов!A2:A2640,A3)=G3,0,1) -> 1 | F3: руководитель | G3: 1 | H3: 44972
A4: 08-0002 | B4: 44973 | D4: ООО Травы сухие | E4: =IF(COUNTIF(Журнал_образцов!A3:A2641,A4)=G4,0,1) -> 1 | F4: Кто-то | G4: 2 | H4: 44973
A5: 08-0003 | E5: =IF(COUNTIF(Журнал_образцов!A4:A2642,A5)=G5,0,1) -> 0
A6: 08-0004 | E6: =IF(COUNTIF(Журнал_образцов!A5:A2643,A6)=G6,0,1) -> 0
A7: 08-0005 | E7: =IF(COUNTIF(Журнал_образцов!A6:A2644,A7)=G7,0,1) -> 0
A8: 08-0006 | E8: =IF(COUNTIF(Журнал_образцов!A7:A2645,A8)=G8,0,1) -> 0
A9: 08-0007 | E9: =IF(COUNTIF(Журнал_образцов!A8:A2646,A9)=G9,0,1) -> 0
A10: 08-0008 | E10: =IF(COUNTIF(Журнал_образцов!A9:A2647,A10)=G10,0,1) -> 0
A11: 08-0009 | E11: =IF(COUNTIF(Журнал_образцов!A10:A2648,A11)=G11,0,1) -> 0
A12: 08-0010 | E12: =IF(COUNTIF(Журнал_образцов!A11:A2649,A12)=G12,0,1) -> 0
A13: 08-0011 | E13: =IF(COUNTIF(Журнал_образцов!A12:A2650,A13)=G13,0,1) -> 0
A14: 08-0012 | E14: =IF(COUNTIF(Журнал_образцов!A13:A2651,A14)=G14,0,1) -> 0
A15: 08-0013 | E15: =IF(COUNTIF(Журнал_образцов!A14:A2652,A15)=G15,0,1) -> 0
A16: 08-0014 | E16: =IF(COUNTIF(Журнал_образцов!A15:A2653,A16)=G16,0,1) -> 0
... A18: 08-0016 | E18: =IF(COUNTIF(Журнал_образцов!A17:A2655,A18)=G18,0,1) -> 0
A19: 08-0017 | E19: =IF(COUNTIF(Журнал_образцов!A2:A2656,A19)=G19,0,1) -> 0
A20: 08-0018 | E20: =IF(COUNTIF(Журнал_образцов!A3:A2657,A20)=G20,0,1) -> 0
A21: 08-0019 | E21: =IF(COUNTIF(Журнал_образцов!A4:A2658,A21)=G21,0,1) -> 0
A22: 08-0020 | E22: =IF(COUNTIF(Журнал_образцов!A5:A2659,A22)=G22,0,1) -> 0
A23: 08-0021 | E23: =IF(COUNTIF(Журнал_образцов!A6:A2660,A23)=G23,0,1) -> 0
A24: 08-0022 | E24: =IF(COUNTIF(Журнал_образцов!A7:A2661,A24)=G24,0,1) -> 0
A25: 08-0023 | E25: =IF(COUNTIF(Журнал_образцов!A8:A2662,A25)=G25,0,1) -> 0
A26: 08-0024 | E26: =IF(COUNTIF(Журнал_образцов!A9:A2663,A26)=G26,0,1) -> 0
A27: 08-0025 | E27: =IF(COUNTIF(Журнал_образцов!A10:A2664,A27)=G27,0,1) -> 0
A28: 08-0026 | E28: =IF(COUNTIF(Журнал_образцов!A11:A2665,A28)=G28,0,1) -> 0
A29: 08-0027 | E29: =IF(COUNTIF(Журнал_образцов!A12:A2666,A29)=G29,0,1) -> 0
A30: 08-0028 | E30: =IF(COUNTIF(Журнал_образцов!A13:A2667,A30)=G30,0,1) -> 0
... A591: 08-0589 | E591: =IF(COUNTIF(Журнал_образцов!A574:A3228,A591)=G591,0,1) -> 0

Sheet Журнал_образцов
A1: номер заявки | B1: номер образца | C1: Номер образца | D1: Дата заявки | E1: Дата отбора | F1: Наименование продукции | G1: вид транспорта | H1: № транспорта | I1: Объем партии | J1: Ед. изм. | K1: Сейф-пакет | L1: Объем образца | M1: Отправление продукции | N1: Назначение продукции | O1: ЭНТ | P1: ГЕРБ | Q1: ГЕЛ | R1: ПЦР | S1: обнаружения | T1: Дата выдачи заключения, подпись ответственного лица | U1: заявитель | V1: примечание | W1: формулы для заполнения протокола отбора | X1: _
A2: 08-0001 | B2: =IF(Журнал_образцов!A2=Журнал_образцов!A1,Журнал_образцов!B1,0)+1 -> 1 | C2: =CONCATENATE(Журнал_образцов!A2,"-",TEXT(Журнал_образцов!B2,"00")) -> 08-0001-01 | D2: =LOOKUP(Журнал_образцов!A2,Журнал_заявок!A$3:A19,Журнал_заявок!B$3:B19) -> 44972 | E2: =LOOKUP(Журнал_образцов!A2,Журнал_заявок!$A$3:$A19,Журнал_заявок!H$3:H19) -> 44972 | F2: Шиповника плоды | G2: авто - | H2: f456ds | I2: 10 | J2: =LOOKUP(Журнал_образцов!F2,справочник!K$2:K401,справочник!L$2:L401) -> т | K2: ab3242 | L2: =LOOKUP(Журнал_образцов!F2,справочник!K$2:K401,справочник!M$2:M401) -> 1кг | M2: =LOOKUP(Журнал_образцов!$A2,Журнал_заявок!A$3:$A19,Журнал_заявок!J$3:J19) -> 0 | N2: =LOOKUP(Журнал_образцов!$A2,Журнал_заявок!$A$3:B19,Журнал_заявок!K$3:K19) -> 0 | U2: =LOOKUP(Журнал_образцов!$A2,Журнал_заявок!$A$3:$A19,Журнал_заявок!$D$3:$D19) -> ООО Травы сухие | V2: =LOOKUP(Журнал_образцов!$A2,Журнал_заявок!$A$3:$A3556,Журнал_заявок!$L$3:$L3556) -> 0 | W2: =CONCATENATE(G2,H2," ",IF(A2=A3,IF(F2=F3," ",F2),F2)," ",I2,J2) -> авто - f456ds Шиповника плоды 10т | X2: =W2&IF(Журнал_образцов!A2=Журнал_образцов!A1,", "&Журнал_образцов!X1,"") -> авто - f456ds Шиповника плоды 10т
A3: 08-0001 | B3: =IF(Журнал_образцов!A3=Журнал_образцов!A2,Журнал_образцов!B2,0)+1 -> 2 | C3: =CONCATENATE(Журнал_образцов!A3,"-",TEXT(Журнал_образцов!B3,"00")) -> 08-0001-02 | D3: =LOOKUP(Журнал_образцов!A3,Журнал_заявок!A$3:A20,Журнал_заявок!B$3:B20) -> 44972 | E3: =LOOKUP(Журнал_образцов!A3,Журнал_заявок!$A$3:$A20,Журнал_заявок!H$3:H20) -> 44972 | F3: Сухофрукты (ассортимент) | G3: авто - | H3: f456ds | I3: 10 | J3: =LOOKUP(Журнал_образцов!F3,справочник!K$2:K402,справочник!L$2:L402) -> т | K3: ab3243 | L3: 50 шт | M3: =LOOKUP(Журнал_образцов!$A3,Журнал_заявок!A$3:$A20,Журнал_заявок!J$3:J20) -> 0 | N3: =LOOKUP(Журнал_образцов!$A3,Журнал_заявок!$A$3:B20,Журнал_заявок!K$3:K20) -> 0 | U3: =LOOKUP(Журнал_образцов!$A3,Журнал_заявок!$A$3:$A20,Журнал_заявок!$D$3:$D20) -> ООО Травы сухие | V3: =LOOKUP(Журнал_образцов!$A3,Журнал_заявок!$A$3:$A3557,Журнал_заявок!$L$3:$L3557) -> 0 | W3: =CONCATENATE(G3,H3," ",IF(A3=A4,IF(F3=F4," ",F3),F3)," ",I3,J3,", ") -> авто - f456ds Сухофрукты (ассортимент) 10т, | X3: =W3&IF(Журнал_образцов!A3=Журнал_образцов!A2,Журнал_образцов!X2,) -> авто - f456ds Сухофрукты (ассортимент) 10т, авто - f456ds Шиповника плоды 10т
A4: 08-0002 | B4: =IF(Журнал_образцов!A4=Журнал_образцов!A3,Журнал_образцов!B3,0)+1 -> 1 | C4: =CONCATENATE(Журнал_образцов!A4,"-",TEXT(Журнал_образцов!B4,"00")) -> 08-0002-01 | D4: =LOOKUP(Журнал_образцов!A4,Журнал_заявок!A$3:A21,Журнал_заявок!B$3:B21) -> 44973 | E4: =LOOKUP(Журнал_образцов!A4,Журнал_заявок!$A$3:$A21,Журнал_заявок!H$3:H21) -> 44973 | F4: Яблоки свежие | G4: вагон - | H4: 32423423 | I4: 60 | J4: =LOOKUP(Журнал_образцов!F4,справочник!K$2:K403,справочник!L$2:L403) -> т | K4: ab3244 | L4: 50 шт | M4: =LOOKUP(Журнал_образцов!$A4,Журнал_заявок!A$3:$A21,Журнал_заявок!J$3:J21) -> 0 | N4: =LOOKUP(Журнал_образцов!$A4,Журнал_заявок!$A$3:B21,Журнал_заявок!K$3:K21) -> 0 | U4: =LOOKUP(Журнал_образцов!$A4,Журнал_заявок!$A$3:$A21,Журнал_заявок!$D$3:$D21) -> ООО Травы сухие | V4: =LOOKUP(Журнал_образцов!$A4,Журнал_заявок!$A$3:$A3558,Журнал_заявок!$L$3:$L3558) -> 0 | W4: =CONCATENATE(G4,H4," ",IF(A4=A5,IF(F4=F5," ",F4),F4)," ",I4,J4,", ") -> вагон - 32423423 Яблоки свежие 60т, | X4: =W4&IF(Журнал_образцов!A4=Журнал_образцов!A3,Журнал_образцов!X3,) -> вагон - 32423423 Яблоки свежие 60т,
B5: =IF(Журнал_образцов!A5=Журнал_образцов!A4,Журнал_образцов!B4,0)+1 -> 1 | C5: =CONCATENATE(Журнал_образцов!A5,"-",TEXT(Журнал_образцов!B5,"00")) -> -01 | D5: =LOOKUP(Журнал_образцов!A5,Журнал_заявок!A$3:A22,Журнал_заявок!B$3:B22) -> #N/A | E5: =LOOKUP(Журнал_образцов!A5,Журнал_заявок!$A$3:$A22,Журнал_заявок!H$3:H22) -> #N/A | J5: =LOOKUP(Журнал_образцов!F5,справочник!K$2:K404,справочник!L$2:L404) -> #N/A | L5: 50 шт | M5: =LOOKUP(Журнал_образцов!$A5,Журнал_заявок!A$3:$A22,Журнал_заявок!J$3:J22) -> #N/A | N5: =LOOKUP(Журнал_образцов!$A5,Журнал_заявок!$A$3:B22,Журнал_заявок!K$3:K22) -> #N/A | U5: =LOOKUP(Журнал_образцов!$A5,Журнал_заявок!$A$3:$A22,Журнал_заявок!$D$3:$D22) -> #N/A | V5: =LOOKUP(Журнал_образцов!$A5,Журнал_заявок!$A$3:$A3559,Журнал_заявок!$L$3:$L3559) -> #N/A | W5: =CONCATENATE(G5,H5," ",IF(A5=A6,IF(F5=F6," ",F5),F5)," ",I5,J5,", ") -> #N/A | X5: =W5&IF(Журнал_образцов!A5=Журнал_образцов!A4,Журнал_образцов!X4,) -> #N/A
B6: =IF(Журнал_образцов!A6=Журнал_образцов!A5,Журнал_образцов!B5,0)+1 -> 2 | C6: =CONCATENATE(Журнал_образцов!A6,"-",TEXT(Журнал_образцов!B6,"00")) -> -02 | D6: =LOOKUP(Журнал_образцов!A6,Журнал_заявок!A$3:A23,Журнал_заявок!B$3:B23) -> #N/A | E6: =LOOKUP(Журнал_образцов!A6,Журнал_заявок!$A$3:$A23,Журнал_заявок!H$3:H23) -> #N/A | J6: =LOOKUP(Журнал_образцов!F6,справочник!K$2:K405,справочник!L$2:L405) -> #N/A | L6: 50 шт | M6: =LOOKUP(Журнал_образцов!$A6,Журнал_заявок!A$3:$A23,Журнал_заявок!J$3:J23) -> #N/A | N6: =LOOKUP(Журнал_образцов!$A6,Журнал_заявок!$A$3:B23,Журнал_заявок!K$3:K23) -> #N/A | U6: =LOOKUP(Журнал_образцов!$A6,Журнал_заявок!$A$3:$A23,Журнал_заявок!$D$3:$D23) -> #N/A | V6: =LOOKUP(Журнал_образцов!$A6,Журнал_заявок!$A$3:$A3560,Журнал_заявок!$L$3:$L3560) -> #N/A | W6: =CONCATENATE(G6,H6," ",IF(A6=A7,IF(F6=F7," ",F6),F6)," ",I6,J6,", ") -> #N/A | X6: =W6&IF(Журнал_образцов!A6=Журнал_образцов!A5,Журнал_образцов!X5,) -> #N/A
B7: =IF(Журнал_образцов!A7=Журнал_образцов!A6,Журнал_образцов!B6,0)+1 -> 3 | C7: =CONCATENATE(Журнал_образцов!A7,"-",TEXT(Журнал_образцов!B7,"00")) -> -03 | D7: =LOOKUP(Журнал_образцов!A7,Журнал_заявок!A$3:A24,Журнал_заявок!B$3:B24) -> #N/A | E7: =LOOKUP(Журнал_образцов!A7,Журнал_заявок!$A$3:$A24,Журнал_заявок!H$3:H24) -> #N/A | J7: =LOOKUP(Журнал_образцов!F7,справочник!K$2:K406,справочник!L$2:L406) -> #N/A | L7: 20 шт | M7: =LOOKUP(Журнал_образцов!$A7,Журнал_заявок!A$3:$A24,Журнал_заявок!J$3:J24) -> #N/A | N7: =LOOKUP(Журнал_образцов!$A7,Журнал_заявок!$A$3:B24,Журнал_заявок!K$3:K24) -> #N/A | U7: =LOOKUP(Журнал_образцов!$A7,Журнал_заявок!$A$3:$A24,Журнал_заявок!$D$3:$D24) -> #N/A | V7: =LOOKUP(Журнал_образцов!$A7,Журнал_заявок!$A$3:$A3561,Журнал_заявок!$L$3:$L3561) -> #N/A | W7: =CONCATENATE(G7,H7," ",IF(A7=A8,IF(F7=F8," ",F7),F7)," ",I7,J7,", ") -> #N/A | X7: =W7&IF(Журнал_образцов!A7=Журнал_образцов!A6,Журнал_образцов!X6,) -> #N/A
B8: =IF(Журнал_образцов!A8=Журнал_образцов!A7,Журнал_образцов!B7,0)+1 -> 4 | C8: =CONCATENATE(Журнал_образцов!A8,"-",TEXT(Журнал_образцов!B8,"00")) -> -04 | D8: =LOOKUP(Журнал_образцов!A8,Журнал_заявок!A$3:A25,Журнал_заявок!B$3:B25) -> #N/A | E8: =LOOKUP(Журнал_образцов!A8,Журнал_заявок!$A$3:$A25,Журнал_заявок!H$3:H25) -> #N/A | J8: =LOOKUP(Журнал_образцов!F8,справочник!K$2:K407,справочник!L$2:L407) -> #N/A | L8: 1 кг | M8: =LOOKUP(Журнал_образцов!$A8,Журнал_заявок!A$3:$A25,Журнал_заявок!J$3:J25) -> #N/A | N8: =LOOKUP(Журнал_образцов!$A8,Журнал_заявок!$A$3:B25,Журнал_заявок!K$3:K25) -> #N/A | U8: =LOOKUP(Журнал_образцов!$A8,Журнал_заявок!$A$3:$A25,Журнал_заявок!$D$3:$D25) -> #N/A | V8: =LOOKUP(Журнал_образцов!$A8,Журнал_заявок!$A$3:$A3562,Журнал_заявок!$L$3:$L3562) -> #N/A | W8: =CONCATENATE(G8,H8," ",IF(A8=A9,IF(F8=F9," ",F8),F8)," ",I8,J8,", ") -> #N/A | X8: =W8&IF(Журнал_образцов!A8=Журнал_образцов!A7,Журнал_образцов!X7,) -> #N/A
B9: =IF(Журнал_образцов!A9=Журнал_образцов!A8,Журнал_образцов!B8,0)+1 -> 5 | C9: =CONCATENATE(Журнал_образцов!A9,"-",TEXT(Журнал_образцов!B9,"00")) -> -05 | D9: =LOOKUP(Журнал_образцов!A9,Журнал_заявок!A$3:A26,Журнал_заявок!B$3:B26) -> #N/A | E9: =LOOKUP(Журнал_образцов!A9,Журнал_заявок!$A$3:$A26,Журнал_заявок!H$3:H26) -> #N/A | J9: =LOOKUP(Журнал_образцов!F9,справочник!K$2:K408,справочник!L$2:L408) -> #N/A | L9: 1 кг | M9: =LOOKUP(Журнал_образцов!$A9,Журнал_заявок!A$3:$A26,Журнал_заявок!J$3:J26) -> #N/A | N9: =LOOKUP(Журнал_образцов!$A9,Журнал_заявок!$A$3:B26,Журнал_заявок!K$3:K26) -> #N/A | U9: =LOOKUP(Журнал_образцов!$A9,Журнал_заявок!$A$3:$A26,Журнал_заявок!$D$3:$D26) -> #N/A | V9: =LOOKUP(Журнал_образцов!$A9,Журнал_заявок!$A$3:$A3563,Журнал_заявок!$L$3:$L3563) -> #N/A | W9: =CONCATENATE(G9,H9," ",IF(A9=A10,IF(F9=F10," ",F9),F9)," ",I9,J9,", ") -> #N/A | X9: =W9&IF(Журнал_образцов!A9=Журнал_образцов!A8,Журнал_образцов!X8,) -> #N/A
B10: =IF(Журнал_образцов!A10=Журнал_образцов!A9,Журнал_образцов!B9,0)+1 -> 6 | C10: =CONCATENATE(Журнал_образцов!A10,"-",TEXT(Журнал_образцов!B10,"00")) -> -06 | D10: =LOOKUP(Журнал_образцов!A10,Журнал_заявок!A$3:A27,Журнал_заявок!B$3:B27) -> #N/A | E10: =LOOKUP(Журнал_образцов!A10,Журнал_заявок!$A$3:$A27,Журнал_заявок!H$3:H27) -> #N/A | J10: =LOOKUP(Журнал_образцов!F10,справочник!K$2:K409,справочник!L$2:L409) -> #N/A | L10: 1 кг | M10: =LOOKUP(Журнал_образцов!$A10,Журнал_заявок!A$3:$A27,Журнал_заявок!J$3:J27) -> #N/A | N10: =LOOKUP(Журнал_образцов!$A10,Журнал_заявок!$A$3:B27,Журнал_заявок!K$3:K27) -> #N/A | U10: =LOOKUP(Журнал_образцов!$A10,Журнал_заявок!$A$3:$A27,Журнал_заявок!$D$3:$D27) -> #N/A | V10: =LOOKUP(Журнал_образцов!$A10,Журнал_заявок!$A$3:$A3564,Журнал_заявок!$L$3:$L3564) -> #N/A | W10: =CONCATENATE(G10,H10," ",IF(A10=A11,IF(F10=F11," ",F10),F10)," ",I10,J10,", ") -> #N/A | X10: =W10&IF(Журнал_образцов!A10=Журнал_образцов!A9,Журнал_образцов!X9,) -> #N/A
B11: =IF(Журнал_образцов!A11=Журнал_образцов!A10,Журнал_образцов!B10,0)+1 -> 7 | C11: =CONCATENATE(Журнал_образцов!A11,"-",TEXT(Журнал_образцов!B11,"00")) -> -07 | D11: =LOOKUP(Журнал_образцов!A11,Журнал_заявок!A$3:A28,Журнал_заявок!B$3:B28) -> #N/A | E11: =LOOKUP(Журнал_образцов!A11,Журнал_заявок!$A$3:$A28,Журнал_заявок!H$3:H28) -> #N/A | J11: =LOOKUP(Журнал_образцов!F11,справочник!K$2:K410,справочник!L$2:L410) -> #N/A | L11: 1 кг | M11: =LOOKUP(Журнал_образцов!$A11,Журнал_заявок!A$3:$A28,Журнал_заявок!J$3:J28) -> #N/A | N11: =LOOKUP(Журнал_образцов!$A11,Журнал_заявок!$A$3:B28,Журнал_заявок!K$3:K28) -> #N/A | U11: =LOOKUP(Журнал_образцов!$A11,Журнал_заявок!$A$3:$A28,Журнал_заявок!$D$3:$D28) -> #N/A | V11: =LOOKUP(Журнал_образцов!$A11,Журнал_заявок!$A$3:$A3565,Журнал_заявок!$L$3:$L3565) -> #N/A | W11: =CONCATENATE(G11,H11," ",IF(A11=A12,IF(F11=F12," ",F11),F11)," ",I11,J11,", ") -> #N/A | X11: =W11&IF(Журнал_образцов!A11=Журнал_образцов!A10,Журнал_образцов!X10,) -> #N/A
B12: =IF(Журнал_образцов!A12=Журнал_образцов!A11,Журнал_образцов!B11,0)+1 -> 8 | C12: =CONCATENATE(Журнал_образцов!A12,"-",TEXT(Журнал_образцов!B12,"00")) -> -08 | D12: =LOOKUP(Журнал_образцов!A12,Журнал_заявок!A$3:A29,Журнал_заявок!B$3:B29) -> #N/A | E12: =LOOKUP(Журнал_образцов!A12,Журнал_заявок!$A$3:$A29,Журнал_заявок!H$3:H29) -> #N/A | J12: =LOOKUP(Журнал_образцов!F12,справочник!K$2:K411,справочник!L$2:L411) -> #N/A | L12: 1 кг | M12: =LOOKUP(Журнал_образцов!$A12,Журнал_заявок!A$3:$A29,Журнал_заявок!J$3:J29) -> #N/A | N12: =LOOKUP(Журнал_образцов!$A12,Журнал_заявок!$A$3:B29,Журнал_заявок!K$3:K29) -> #N/A | U12: =LOOKUP(Журнал_образцов!$A12,Журнал_заявок!$A$3:$A29,Журнал_заявок!$D$3:$D29) -> #N/A | V12: =LOOKUP(Журнал_образцов!$A12,Журнал_заявок!$A$3:$A3566,Журнал_заявок!$L$3:$L3566) -> #N/A | W12: =CONCATENATE(G12,H12," ",IF(A12=A13,IF(F12=F13," ",F12),F12)," ",I12,J12,", ") -> #N/A | X12: =W12&IF(Журнал_образцов!A12=Журнал_образцов!A11,Журнал_образцов!X11,) -> #N/A
B13: =IF(Журнал_образцов!A13=Журнал_образцов!A12,Журнал_образцов!B12,0)+1 -> 9 | C13: =CONCATENATE(Журнал_образцов!A13,"-",TEXT(Журнал_образцов!B13,"00")) -> -09 | D13: =LOOKUP(Журнал_образцов!A13,Журнал_заявок!A$3:A30,Журнал_заявок!B$3:B30) -> #N/A | E13: =LOOKUP(Журнал_образцов!A13,Журнал_заявок!$A$3:$A30,Журнал_заявок!H$3:H30) -> #N/A | J13: =LOOKUP(Журнал_образцов!F13,справочник!K$2:K412,справочник!L$2:L412) -> #N/A | L13: 1 кг | M13: =LOOKUP(Журнал_образцов!$A13,Журнал_заявок!A$3:$A30,Журнал_заявок!J$3:J30) -> #N/A | N13: =LOOKUP(Журнал_образцов!$A13,Журнал_заявок!$A$3:B30,Журнал_заявок!K$3:K30) -> #N/A | U13: =LOOKUP(Журнал_образцов!$A13,Журнал_заявок!$A$3:$A30,Журнал_заявок!$D$3:$D30) -> #N/A | V13: =LOOKUP(Журнал_образцов!$A13,Журнал_заявок!$A$3:$A3567,Журнал_заявок!$L$3:$L3567) -> #N/A | W13: =CONCATENATE(G13,H13," ",IF(A13=A14,IF(F13=F14," ",F13),F13)," ",I13,J13,", ") -> #N/A | X13: =W13&IF(Журнал_образцов!A13=Журнал_образцов!A12,Журнал_образцов!X12,) -> #N/A
B14: =IF(Журнал_образцов!A14=Журнал_образцов!A13,Журнал_образцов!B13,0)+1 -> 10 | C14: =CONCATENATE(Журнал_образцов!A14,"-",TEXT(Журнал_образцов!B14,"00")) -> -10 | D14: =LOOKUP(Журнал_образцов!A14,Журнал_заявок!A$3:A31,Журнал_заявок!B$3:B31) -> #N/A | E14: =LOOKUP(Журнал_образцов!A14,Журнал_заявок!$A$3:$A31,Журнал_заявок!H$3:H31) -> #N/A | J14: =LOOKUP(Журнал_образцов!F14,справочник!K$2:K413,справочник!L$2:L413) -> #N/A | L14: 1 кг | M14: =LOOKUP(Журнал_образцов!$A14,Журнал_заявок!A$3:$A31,Журнал_заявок!J$3:J31) -> #N/A | N14: =LOOKUP(Журнал_образцов!$A14,Журнал_заявок!$A$3:B31,Журнал_заявок!K$3:K31) -> #N/A | U14: =LOOKUP(Журнал_образцов!$A14,Журнал_заявок!$A$3:$A31,Журнал_заявок!$D$3:$D31) -> #N/A | V14: =LOOKUP(Журнал_образцов!$A14,Журнал_заявок!$A$3:$A3568,Журнал_заявок!$L$3:$L3568) -> #N/A | W14: =CONCATENATE(G14,H14," ",IF(A14=A15,IF(F14=F15," ",F14),F14)," ",I14,J14,", ") -> #N/A | X14: =W14&IF(Журнал_образцов!A14=Журнал_образцов!A13,Журнал_образцов!X13,) -> #N/A
B15: =IF(Журнал_образцов!A15=Журнал_образцов!A14,Журнал_образцов!B14,0)+1 -> 11 | C15: =CONCATENATE(Журнал_образцов!A15,"-",TEXT(Журнал_образцов!B15,"00")) -> -11 | D15: =LOOKUP(Журнал_образцов!A15,Журнал_заявок!A$3:A32,Журнал_заявок!B$3:B32) -> #N/A | E15: =LOOKUP(Журнал_образцов!A15,Журнал_заявок!$A$3:$A32,Журнал_заявок!H$3:H32) -> #N/A | J15: =LOOKUP(Журнал_образцов!F15,справочник!K$2:K414,справочник!L$2:L414) -> #N/A | L15: 1 кг | M15: =LOOKUP(Журнал_образцов!$A15,Журнал_заявок!A$3:$A32,Журнал_заявок!J$3:J32) -> #N/A | N15: =LOOKUP(Журнал_образцов!$A15,Журнал_заявок!$A$3:B32,Журнал_заявок!K$3:K32) -> #N/A | U15: =LOOKUP(Журнал_образцов!$A15,Журнал_заявок!$A$3:$A32,Журнал_заявок!$D$3:$D32) -> #N/A | V15: =LOOKUP(Журнал_образцов!$A15,Журнал_заявок!$A$3:$A3569,Журнал_заявок!$L$3:$L3569) -> #N/A | W15: =CONCATENATE(G15,H15," ",IF(A15=A16,IF(F15=F16," ",F15),F15)," ",I15,J15,", ") -> #N/A | X15: =W15&IF(Журнал_образцов!A15=Журнал_образцов!A14,Журнал_образцов!X14,) -> #N/A
B16: =IF(Журнал_образцов!A16=Журнал_образцов!A15,Журнал_образцов!B15,0)+1 -> 12 | C16: =CONCATENATE(Журнал_образцов!A16,"-",TEXT(Журнал_образцов!B16,"00")) -> -12 | D16: =LOOKUP(Журнал_образцов!A16,Журнал_заявок!A$3:A33,Журнал_заявок!B$3:B33) -> #N/A | E16: =LOOKUP(Журнал_образцов!A16,Журнал_заявок!$A$3:$A33,Журнал_заявок!H$3:H33) -> #N/A | J16: =LOOKUP(Журнал_образцов!F16,справочник!K$2:K415,справочник!L$2:L415) -> #N/A | L16: 100 г | M16: =LOOKUP(Журнал_образцов!$A16,Журнал_заявок!A$3:$A33,Журнал_заявок!J$3:J33) -> #N/A | N16: =LOOKUP(Журнал_образцов!$A16,Журнал_заявок!$A$3:B33,Журнал_заявок!K$3:K33) -> #N/A | U16: =LOOKUP(Журнал_образцов!$A16,Журнал_заявок!$A$3:$A33,Журнал_заявок!$D$3:$D33) -> #N/A | V16: =LOOKUP(Журнал_образцов!$A16,Журнал_заявок!$A$3:$A3570,Журнал_заявок!$L$3:$L3570) -> #N/A | W16: =CONCATENATE(G16,H16," ",IF(A16=A17,IF(F16=F17," ",F16),F16)," ",I16,J16,", ") -> #N/A | X16: =W16&IF(Журнал_образцов!A16=Журнал_образцов!A15,Журнал_образцов!X15,) -> #N/A
... B28: =IF(Журнал_образцов!A28=Журнал_образцов!A27,Журнал_образцов!B27,0)+1 -> 24 | C28: =CONCATENATE(Журнал_образцов!A28,"-",TEXT(Журнал_образцов!B28,"00")) -> -24 | D28: =LOOKUP(Журнал_образцов!A28,Журнал_заявок!A$3:A45,Журнал_заявок!B$3:B45) -> #N/A | E28: =LOOKUP(Журнал_образцов!A28,Журнал_заявок!$A$3:$A45,Журнал_заявок!H$3:H45) -> #N/A | J28: =LOOKUP(Журнал_образцов!F28,справочник!K$2:K427,справочник!L$2:L427) -> #N/A | L28: 100 г | M28: =LOOKUP(Журнал_образцов!$A28,Журнал_заявок!A$3:$A45,Журнал_заявок!J$3:J45) -> #N/A | N28: =LOOKUP(Журнал_образцов!$A28,Журнал_заявок!$A$3:B45,Журнал_заявок!K$3:K45) -> #N/A | U28: =LOOKUP(Журнал_образцов!$A28,Журнал_заявок!$A$3:$A45,Журнал_заявок!$D$3:$D45) -> #N/A | V28: =LOOKUP(Журнал_образцов!$A28,Журнал_заявок!$A$3:$A3582,Журнал_заявок!$L$3:$L3582) -> #N/A | W28: =CONCATENATE(G28,H28," ",IF(A28=A29,IF(F28=F29," ",F28),F28)," ",I28,J28,", ") -> #N/A | X28: =W28&IF(Журнал_образцов!A28=Журнал_образцов!A27,Журнал_образцов!X27,) -> #N/A
B29: =IF(Журнал_образцов!A29=Журнал_образцов!A28,Журнал_образцов!B28,0)+1 -> 25 | C29: =CONCATENATE(Журнал_образцов!A29,"-",TEXT(Журнал_образцов!B29,"00")) -> -25 | D29: =LOOKUP(Журнал_образцов!A33,Журнал_заявок!A$3:A50,Журнал_заявок!B$3:B50) -> #N/A | E29: =LOOKUP(Журнал_образцов!A33,Журнал_заявок!$A$3:$A50,Журнал_заявок!H$3:H50) -> #N/A | J29: =LOOKUP(Журнал_образцов!F29,справочник!K$2:K428,справочник!L$2:L428) -> #N/A | L29: 1кг | M29: =LOOKUP(Журнал_образцов!$A29,Журнал_заявок!A$3:$A46,Журнал_заявок!J$3:J46) -> #N/A | N29: =LOOKUP(Журнал_образцов!$A29,Журнал_заявок!$A$3:B46,Журнал_заявок!K$3:K46) -> #N/A | U29: =LOOKUP(Журнал_образцов!$A29,Журнал_заявок!$A$3:$A46,Журнал_заявок!$D$3:$D46) -> #N/A | V29: =LOOKUP(Журнал_образцов!$A29,Журнал_заявок!$A$3:$A3583,Журнал_заявок!$L$3:$L3583) -> #N/A | W29: =CONCATENATE(G29,H29," ",IF(A29=A30,IF(F29=F30," ",F29),F29)," ",I29,J29,", ") -> #N/A | X29: =W29&IF(Журнал_образцов!A29=Журнал_образцов!A28,Журнал_образцов!X28,) -> #N/A
B30: =IF(Журнал_образцов!A30=Журнал_образцов!A29,Журнал_образцов!B29,0)+1 -> 26 | C30: =CONCATENATE(Журнал_образцов!A30,"-",TEXT(Журнал_образцов!B30,"00")) -> -26 | D30: =LOOKUP(Журнал_образцов!A34,Журнал_заявок!A$3:A51,Журнал_заявок!B$3:B51) -> #N/A | E30: =LOOKUP(Журнал_образцов!A34,Журнал_заявок!$A$3:$A51,Журнал_заявок!H$3:H51) -> #N/A | J30: =LOOKUP(Журнал_образцов!F30,справочник!K$2:K429,справочник!L$2:L429) -> #N/A | L30: 1кг | M30: =LOOKUP(Журнал_образцов!$A30,Журнал_заявок!A$3:$A47,Журнал_заявок!J$3:J47) -> #N/A | N30: =LOOKUP(Журнал_образцов!$A30,Журнал_заявок!$A$3:B47,Журнал_заявок!K$3:K47) -> #N/A | U30: =LOOKUP(Журнал_образцов!$A30,Журнал_заявок!$A$3:$A47,Журнал_заявок!$D$3:$D47) -> #N/A | V30: =LOOKUP(Журнал_образцов!$A30,Журнал_заявок!$A$3:$A3584,Журнал_заявок!$L$3:$L3584) -> #N/A | W30: =CONCATENATE(G30,H30," ",IF(A30=A31,IF(F30=F31," ",F30),F30)," ",I30,J30,", ") -> #N/A | X30: =W30&IF(Журнал_образцов!A30=Журнал_образцов!A29,Журнал_образцов!X29,) -> #N/A
B31: =IF(Журнал_образцов!A31=Журнал_образцов!A30,Журнал_образцов!B30,0)+1 -> 27 | C31: =CONCATENATE(Журнал_образцов!A31,"-",TEXT(Журнал_образцов!B31,"00")) -> -27 | D31: =LOOKUP(Журнал_образцов!A35,Журнал_заявок!A$3:A52,Журнал_заявок!B$3:B52) -> #N/A | E31: =LOOKUP(Журнал_образцов!A35,Журнал_заявок!$A$3:$A52,Журнал_заявок!H$3:H52) -> #N/A | J31: =LOOKUP(Журнал_образцов!F31,справочник!K$2:K430,справочник!L$2:L430) -> #N/A | L31: 1кг | M31: =LOOKUP(Журнал_образцов!$A31,Журнал_заявок!A$3:$A48,Журнал_заявок!J$3:J48) -> #N/A | N31: =LOOKUP(Журнал_образцов!$A31,Журнал_заявок!$A$3:B48,Журнал_заявок!K$3:K48) -> #N/A | U31: =LOOKUP(Журнал_образцов!$A31,Журнал_заявок!$A$3:$A48,Журнал_заявок!$D$3:$D48) -> #N/A | V31: =LOOKUP(Журнал_образцов!$A31,Журнал_заявок!$A$3:$A3585,Журнал_заявок!$L$3:$L3585) -> #N/A | W31: =CONCATENATE(G31,H31," ",IF(A31=A32,IF(F31=F32," ",F31),F31)," ",I31,J31,", ") -> #N/A | X31: =W31&IF(Журнал_образцов!A31=Журнал_образцов!A30,Журнал_образцов!X30,) -> #N/A
B32: =IF(Журнал_образцов!A32=Журнал_образцов!A31,Журнал_образцов!B31,0)+1 -> 28 | C32: =CONCATENATE(Журнал_образцов!A32,"-",TEXT(Журнал_образцов!B32,"00")) -> -28 | D32: =LOOKUP(Журнал_образцов!A36,Журнал_заявок!A$3:A53,Журнал_заявок!B$3:B53) -> #N/A | E32: =LOOKUP(Журнал_образцов!A36,Журнал_заявок!$A$3:$A53,Журнал_заявок!H$3:H53) -> #N/A | J32: =LOOKUP(Журнал_образцов!F32,справочник!K$2:K431,справочник!L$2:L431) -> #N/A | L32: 500г | M32: =LOOKUP(Журнал_образцов!$A32,Журнал_заявок!A$3:$A49,Журнал_заявок!J$3:J49) -> #N/A | N32: =LOOKUP(Журнал_образцов!$A32,Журнал_заявок!$A$3:B49,Журнал_заявок!K$3:K49) -> #N/A | U32: =LOOKUP(Журнал_образцов!$A32,Журнал_заявок!$A$3:$A49,Журнал_заявок!$D$3:$D49) -> #N/A | V32: =LOOKUP(Журнал_образцов!$A32,Журнал_заявок!$A$3:$A3586,Журнал_заявок!$L$3:$L3586) -> #N/A | W32: =CONCATENATE(G32,H32," ",IF(A32=A33,IF(F32=F33," ",F32),F32)," ",I32,J32,", ") -> #N/A | X32: =W32&IF(Журнал_образцов!A32=Журнал_образцов!A31,Журнал_образцов!X31,) -> #N/A
B33: =IF(Журнал_образцов!A33=Журнал_образцов!A32,Журнал_образцов!B32,0)+1 -> 29 | C33: =CONCATENATE(Журнал_образцов!A33,"-",TEXT(Журнал_образцов!B33,"00")) -> -29 | D33: =LOOKUP(Журнал_образцов!A37,Журнал_заявок!A$3:A54,Журнал_заявок!B$3:B54) -> #N/A | E33: =LOOKUP(Журнал_образцов!A37,Журнал_заявок!$A$3:$A54,Журнал_заявок!H$3:H54) -> #N/A | J33: =LOOKUP(Журнал_образцов!F33,справочник!K$2:K432,справочник!L$2:L432) -> #N/A | L33: 500г | M33: =LOOKUP(Журнал_образцов!$A33,Журнал_заявок!A$3:$A50,Журнал_заявок!J$3:J50) -> #N/A | N33: =LOOKUP(Журнал_образцов!$A33,Журнал_заявок!$A$3:B50,Журнал_заявок!K$3:K50) -> #N/A | U33: =LOOKUP(Журнал_образцов!$A33,Журнал_заявок!$A$3:$A50,Журнал_заявок!$D$3:$D50) -> #N/A | V33: =LOOKUP(Журнал_образцов!$A33,Журнал_заявок!$A$3:$A3587,Журнал_заявок!$L$3:$L3587) -> #N/A | W33: =CONCATENATE(G33,H33," ",IF(A33=A34,IF(F33=F34," ",F33),F33)," ",I33,J33,", ") -> #N/A | X33: =W33&IF(Журнал_образцов!A33=Журнал_образцов!A32,Журнал_образцов!X32,) -> #N/A
B34: =IF(Журнал_образцов!A34=Журнал_образцов!A33,Журнал_образцов!B33,0)+1 -> 30 | C34: =CONCATENATE(Журнал_образцов!A34,"-",TEXT(Журнал_образцов!B34,"00")) -> -30 | D34: =LOOKUP(Журнал_образцов!A38,Журнал_заявок!A$3:A55,Журнал_заявок!B$3:B55) -> #N/A | E34: =LOOKUP(Журнал_образцов!A38,Журнал_заявок!$A$3:$A55,Журнал_заявок!H$3:H55) -> #N/A | J34: =LOOKUP(Журнал_образцов!F34,справочник!K$2:K433,справочник!L$2:L433) -> #N/A | L34: 500г | M34: =LOOKUP(Журнал_образцов!$A34,Журнал_заявок!A$3:$A51,Журнал_заявок!J$3:J51) -> #N/A | N34: =LOOKUP(Журнал_образцов!$A34,Журнал_заявок!$A$3:B51,Журнал_заявок!K$3:K51) -> #N/A | U34: =LOOKUP(Журнал_образцов!$A34,Журнал_заявок!$A$3:$A51,Журнал_заявок!$D$3:$D51) -> #N/A | V34: =LOOKUP(Журнал_образцов!$A34,Журнал_заявок!$A$3:$A3588,Журнал_заявок!$L$3:$L3588) -> #N/A | W34: =CONCATENATE(G34,H34," ",IF(A34=A35,IF(F34=F35," ",F34),F34)," ",I34,J34,", ") -> #N/A | X34: =W34&IF(Журнал_образцов!A34=Журнал_образцов!A33,Журнал_образцов!X33,) -> #N/A
B35: =IF(Журнал_образцов!A35=Журнал_образцов!A34,Журнал_образцов!B34,0)+1 -> 31 | C35: =CONCATENATE(Журнал_образцов!A35,"-",TEXT(Журнал_образцов!B35,"00")) -> -31 | D35: =LOOKUP(Журнал_образцов!A39,Журнал_заявок!A$3:A56,Журнал_заявок!B$3:B56) -> #N/A | E35: =LOOKUP(Журнал_образцов!A39,Журнал_заявок!$A$3:$A56,Журнал_заявок!H$3:H56) -> #N/A | J35: =LOOKUP(Журнал_образцов!F35,справочник!K$2:K434,справочник!L$2:L434) -> #N/A | L35: 1кг | M35: =LOOKUP(Журнал_образцов!$A35,Журнал_заявок!A$3:$A52,Журнал_заявок!J$3:J52) -> #N/A | N35: =LOOKUP(Журнал_образцов!$A35,Журнал_заявок!$A$3:B52,Журнал_заявок!K$3:K52) -> #N/A | U35: =LOOKUP(Журнал_образцов!$A35,Журнал_заявок!$A$3:$A52,Журнал_заявок!$D$3:$D52) -> #N/A | V35: =LOOKUP(Журнал_образцов!$A35,Журнал_заявок!$A$3:$A3589,Журнал_заявок!$L$3:$L3589) -> #N/A | W35: =CONCATENATE(G35,H35," ",IF(A35=A36,IF(F35=F36," ",F35),F35)," ",I35,J35,", ") -> #N/A | X35: =W35&IF(Журнал_образцов!A35=Журнал_образцов!A34,Журнал_образцов!X34,) -> #N/A
B36: =IF(Журнал_образцов!A36=Журнал_образцов!A35,Журнал_образцов!B35,0)+1 -> 32 | C36: =CONCATENATE(Журнал_образцов!A36,"-",TEXT(Журнал_образцов!B36,"00")) -> -32 | D36: =LOOKUP(Журнал_образцов!A40,Журнал_заявок!A$3:A57,Журнал_заявок!B$3:B57) -> #N/A | E36: =LOOKUP(Журнал_образцов!A40,Журнал_заявок!$A$3:$A57,Журнал_заявок!H$3:H57) -> #N/A | J36: =LOOKUP(Журнал_образцов!F36,справочник!K$2:K435,справочник!L$2:L435) -> #N/A | L36: 1кг | M36: =LOOKUP(Журнал_образцов!$A36,Журнал_заявок!A$3:$A53,Журнал_заявок!J$3:J53) -> #N/A | N36: =LOOKUP(Журнал_образцов!$A36,Журнал_заявок!$A$3:B53,Журнал_заявок!K$3:K53) -> #N/A | U36: =LOOKUP(Журнал_образцов!$A36,Журнал_заявок!$A$3:$A53,Журнал_заявок!$D$3:$D53) -> #N/A | V36: =LOOKUP(Журнал_образцов!$A36,Журнал_заявок!$A$3:$A3590,Журнал_заявок!$L$3:$L3590) -> #N/A | W36: =CONCATENATE(G36,H36," ",IF(A36=A37,IF(F36=F37," ",F36),F36)," ",I36,J36,", ") -> #N/A | X36: =W36&IF(Журнал_образцов!A36=Журнал_образцов!A35,Журнал_образцов!X35,) -> #N/A
B37: =IF(Журнал_образцов!A37=Журнал_образцов!A36,Журнал_образцов!B36,0)+1 -> 33 | C37: =CONCATENATE(Журнал_образцов!A37,"-",TEXT(Журнал_образцов!B37,"00")) -> -33 | D37: =LOOKUP(Журнал_образцов!A41,Журнал_заявок!A$3:A58,Журнал_заявок!B$3:B58) -> #N/A | E37: =LOOKUP(Журнал_образцов!A41,Журнал_заявок!$A$3:$A58,Журнал_заявок!H$3:H58) -> #N/A | J37: =LOOKUP(Журнал_образцов!F37,справочник!K$2:K436,справочник!L$2:L436) -> #N/A | L37: 500г | M37: =LOOKUP(Журнал_образцов!$A37,Журнал_заявок!A$3:$A54,Журнал_заявок!J$3:J54) -> #N/A | N37: =LOOKUP(Журнал_образцов!$A37,Журнал_заявок!$A$3:B54,Журнал_заявок!K$3:K54) -> #N/A | U37: =LOOKUP(Журнал_образцов!$A37,Журнал_заявок!$A$3:$A54,Журнал_заявок!$D$3:$D54) -> #N/A | V37: =LOOKUP(Журнал_образцов!$A37,Журнал_заявок!$A$3:$A3591,Журнал_заявок!$L$3:$L3591) -> #N/A | W37: =CONCATENATE(G37,H37," ",IF(A37=A38,IF(F37=F38," ",F37),F37)," ",I37,J37,", ") -> #N/A | X37: =W37&IF(Журнал_образцов!A37=Журнал_образцов!A36,Журнал_образцов!X36,) -> #N/A
B38: =IF(Журнал_образцов!A38=Журнал_образцов!A37,Журнал_образцов!B37,0)+1 -> 34 | C38: =CONCATENATE(Журнал_образцов!A38,"-",TEXT(Журнал_образцов!B38,"00")) -> -34 | D38: =LOOKUP(Журнал_образцов!A42,Журнал_заявок!A$3:A59,Журнал_заявок!B$3:B59) -> #N/A | E38: =LOOKUP(Журнал_образцов!A42,Журнал_заявок!$A$3:$A59,Журнал_заявок!H$3:H59) -> #N/A | J38: =LOOKUP(Журнал_образцов!F38,справочник!K$2:K437,справочник!L$2:L437) -> #N/A | L38: 100г | M38: =LOOKUP(Журнал_образцов!$A38,Журнал_заявок!A$3:$A55,Журнал_заявок!J$3:J55) -> #N/A | N38: =LOOKUP(Журнал_образцов!$A38,Журнал_заявок!$A$3:B55,Журнал_заявок!K$3:K55) -> #N/A | U38: =LOOKUP(Журнал_образцов!$A38,Журнал_заявок!$A$3:$A55,Журнал_заявок!$D$3:$D55) -> #N/A | V38: =LOOKUP(Журнал_образцов!$A38,Журнал_заявок!$A$3:$A3592,Журнал_заявок!$L$3:$L3592) -> #N/A | W38: =CONCATENATE(G38,H38," ",IF(A38=A39,IF(F38=F39," ",F38),F38)," ",I38,J38,", ") -> #N/A | X38: =W38&IF(Журнал_образцов!A38=Журнал_образцов!A37,Журнал_образцов!X37,) -> #N/A
B39: =IF(Журнал_образцов!A39=Журнал_образцов!A38,Журнал_образцов!B38,0)+1 -> 35 | C39: =CONCATENATE(Журнал_образцов!A39,"-",TEXT(Журнал_образцов!B39,"00")) -> -35 | D39: =LOOKUP(Журнал_образцов!A43,Журнал_заявок!A$3:A60,Журнал_заявок!B$3:B60) -> #N/A | E39: =LOOKUP(Журнал_образцов!A43,Журнал_заявок!$A$3:$A60,Журнал_заявок!H$3:H60) -> #N/A | J39: =LOOKUP(Журнал_образцов!F39,справочник!K$2:K438,справочник!L$2:L438) -> #N/A | L39: 100г | M39: =LOOKUP(Журнал_образцов!$A39,Журнал_заявок!A$3:$A56,Журнал_заявок!J$3:J56) -> #N/A | N39: =LOOKUP(Журнал_образцов!$A39,Журнал_заявок!$A$3:B56,Журнал_заявок!K$3:K56) -> #N/A | U39: =LOOKUP(Журнал_образцов!$A39,Журнал_заявок!$A$3:$A56,Журнал_заявок!$D$3:$D56) -> #N/A | V39: =LOOKUP(Журнал_образцов!$A39,Журнал_заявок!$A$3:$A3593,Журнал_заявок!$L$3:$L3593) -> #N/A | W39: =CONCATENATE(G39,H39," ",IF(A39=A40,IF(F39=F40," ",F39),F39)," ",I39,J39,", ") -> #N/A | X39: =W39&IF(Журнал_образцов!A39=Журнал_образцов!A38,Журнал_образцов!X38,) -> #N/A
B40: =IF(Журнал_образцов!A40=Журнал_образцов!A39,Журнал_образцов!B39,0)+1 -> 36 | C40: =CONCATENATE(Журнал_образцов!A40,"-",TEXT(Журнал_образцов!B40,"00")) -> -36 | D40: =LOOKUP(Журнал_образцов!A44,Журнал_заявок!A$3:A61,Журнал_заявок!B$3:B61) -> #N/A | E40: =LOOKUP(Журнал_образцов!A44,Журнал_заявок!$A$3:$A61,Журнал_заявок!H$3:H61) -> #N/A | J40: =LOOKUP(Журнал_образцов!F40,справочник!K$2:K439,справочник!L$2:L439) -> #N/A | L40: 100г | M40: =LOOKUP(Журнал_образцов!$A40,Журнал_заявок!A$3:$A57,Журнал_заявок!J$3:J57) -> #N/A | N40: =LOOKUP(Журнал_образцов!$A40,Журнал_заявок!$A$3:B57,Журнал_заявок!K$3:K57) -> #N/A | U40: =LOOKUP(Журнал_образцов!$A40,Журнал_заявок!$A$3:$A57,Журнал_заявок!$D$3:$D57) -> #N/A | V40: =LOOKUP(Журнал_образцов!$A40,Журнал_заявок!$A$3:$A3594,Журнал_заявок!$L$3:$L3594) -> #N/A | W40: =CONCATENATE(G40,H40," ",IF(A40=A41,IF(F40=F41," ",F40),F40)," ",I40,J40,", ") -> #N/A | X40: =W40&IF(Журнал_образцов!A40=Журнал_образцов!A39,Журнал_образцов!X39,) -> #N/A
... B79: =IF(Журнал_образцов!A79=Журнал_образцов!A78,Журнал_образцов!B78,0)+1 -> 75 | C79: =CONCATENATE(Журнал_образцов!A79,"-",TEXT(Журнал_образцов!B79,"00")) -> -75 | D79: =LOOKUP(Журнал_образцов!A83,Журнал_заявок!A$3:A100,Журнал_заявок!B$3:B100) -> #N/A | E79: =LOOKUP(Журнал_образцов!A83,Журнал_заявок!$A$3:$A100,Журнал_заявок!H$3:H100) -> #N/A | J79: =LOOKUP(Журнал_образцов!F79,справочник!K$2:K478,справочник!L$2:L478) -> #N/A | L79: 50шт | M79: =LOOKUP(Журнал_образцов!$A79,Журнал_заявок!A$3:$A96,Журнал_заявок!J$3:J96) -> #N/A | N79: =LOOKUP(Журнал_образцов!$A79,Журнал_заявок!$A$3:B96,Журнал_заявок!K$3:K96) -> #N/A | U79: =LOOKUP(Журнал_образцов!$A79,Журнал_заявок!$A$3:$A96,Журнал_заявок!$D$3:$D96) -> #N/A | V79: =LOOKUP(Журнал_образцов!$A79,Журнал_заявок!$A$3:$A3633,Журнал_заявок!$L$3:$L3633) -> #N/A | W79: =CONCATENATE(G79,H79," ",IF(A79=A80,IF(F79=F80," ",F79),F79)," ",I79,J79,", ") -> #N/A | X79: =W79&IF(Журнал_образцов!A79=Журнал_образцов!A78,Журнал_образцов!X78,) -> #N/A
B80: =IF(Журнал_образцов!A80=Журнал_образцов!A79,Журнал_образцов!B79,0)+1 -> 76 | C80: =CONCATENATE(Журнал_образцов!A80,"-",TEXT(Журнал_образцов!B80,"00")) -> -76 | D80: =LOOKUP(Журнал_образцов!A121,Журнал_заявок!A$3:A138,Журнал_заявок!B$3:B138) -> #N/A | E80: =LOOKUP(Журнал_образцов!A121,Журнал_заявок!$A$3:$A138,Журнал_заявок!H$3:H138) -> #N/A | J80: =LOOKUP(Журнал_образцов!F80,справочник!K$2:K479,справочник!L$2:L479) -> #N/A | L80: 1кг | M80: =LOOKUP(Журнал_образцов!$A80,Журнал_заявок!A$3:$A97,Журнал_заявок!J$3:J97) -> #N/A | N80: =LOOKUP(Журнал_образцов!$A80,Журнал_заявок!$A$3:B97,Журнал_заявок!K$3:K97) -> #N/A | U80: =LOOKUP(Журнал_образцов!$A80,Журнал_заявок!$A$3:$A97,Журнал_заявок!$D$3:$D97) -> #N/A | V80: =LOOKUP(Журнал_образцов!$A80,Журнал_заявок!$A$3:$A3634,Журнал_заявок!$L$3:$L3634) -> #N/A | W80: =CONCATENATE(G80,H80," ",IF(A80=A81,IF(F80=F81," ",F80),F80)," ",I80,J80,", ") -> #N/A | X80: =W80&IF(Журнал_образцов!A80=Журнал_образцов!A79,Журнал_образцов!X79,) -> #N/A
B81: =IF(Журнал_образцов!A81=Журнал_образцов!A80,Журнал_образцов!B80,0)+1 -> 77 | C81: =CONCATENATE(Журнал_образцов!A81,"-",TEXT(Журнал_образцов!B81,"00")) -> -77 | D81: =LOOKUP(Журнал_образцов!A122,Журнал_заявок!A$3:A139,Журнал_заявок!B$3:B139) -> #N/A | E81: =LOOKUP(Журнал_образцов!A122,Журнал_заявок!$A$3:$A139,Журнал_заявок!H$3:H139) -> #N/A | J81: =LOOKUP(Журнал_образцов!F81,справочник!K$2:K480,справочник!L$2:L480) -> #N/A | L81: 1кг | M81: =LOOKUP(Журнал_образцов!$A81,Журнал_заявок!A$3:$A98,Журнал_заявок!J$3:J98) -> #N/A | N81: =LOOKUP(Журнал_образцов!$A81,Журнал_заявок!$A$3:B98,Журнал_заявок!K$3:K98) -> #N/A | U81: =LOOKUP(Журнал_образцов!$A81,Журнал_заявок!$A$3:$A98,Журнал_заявок!$D$3:$D98) -> #N/A | V81: =LOOKUP(Журнал_образцов!$A81,Журнал_заявок!$A$3:$A3635,Журнал_заявок!$L$3:$L3635) -> #N/A | W81: =CONCATENATE(G81,H81," ",IF(A81=A82,IF(F81=F82," ",F81),F81)," ",I81,J81,", ") -> #N/A | X81: =W81&IF(Журнал_образцов!A81=Журнал_образцов!A80,Журнал_образцов!X80,) -> #N/A
B82: =IF(Журнал_образцов!A82=Журнал_образцов!A81,Журнал_образцов!B81,0)+1 -> 78 | C82: =CONCATENATE(Журнал_образцов!A82,"-",TEXT(Журнал_образцов!B82,"00")) -> -78 | D82: =LOOKUP(Журнал_образцов!A123,Журнал_заявок!A$3:A140,Журнал_заявок!B$3:B140) -> #N/A | E82: =LOOKUP(Журнал_образцов!A123,Журнал_заявок!$A$3:$A140,Журнал_заявок!H$3:H140) -> #N/A | J82: =LOOKUP(Журнал_образцов!F82,справочник!K$2:K481,справочник!L$2:L481) -> #N/A | L82: 1кг | M82: =LOOKUP(Журнал_образцов!$A82,Журнал_заявок!A$3:$A99,Журнал_заявок!J$3:J99) -> #N/A | N82: =LOOKUP(Журнал_образцов!$A82,Журнал_заявок!$A$3:B99,Журнал_заявок!K$3:K99) -> #N/A | U82: =LOOKUP(Журнал_образцов!$A82,Журнал_заявок!$A$3:$A99,Журнал_заявок!$D$3:$D99) -> #N/A | V82: =LOOKUP(Журнал_образцов!$A82,Журнал_заявок!$A$3:$A3636,Журнал_заявок!$L$3:$L3636) -> #N/A | W82: =CONCATENATE(G82,H82," ",IF(A82=A83,IF(F82=F83," ",F82),F82)," ",I82,J82,", ") -> #N/A | X82: =W82&IF(Журнал_образцов!A82=Журнал_образцов!A81,Журнал_образцов!X81,) -> #N/A
B83: =IF(Журнал_образцов!A83=Журнал_образцов!A82,Журнал_образцов!B82,0)+1 -> 79 | C83: =CONCATENATE(Журнал_образцов!A83,"-",TEXT(Журнал_образцов!B83,"00")) -> -79 | D83: =LOOKUP(Журнал_образцов!A124,Журнал_заявок!A$3:A141,Журнал_заявок!B$3:B141) -> #N/A | E83: =LOOKUP(Журнал_образцов!A124,Журнал_заявок!$A$3:$A141,Журнал_заявок!H$3:H141) -> #N/A | J83: =LOOKUP(Журнал_образцов!F83,справочник!K$2:K482,справочник!L$2:L482) -> #N/A | L83: 1кг | M83: =LOOKUP(Журнал_образцов!$A83,Журнал_заявок!A$3:$A100,Журнал_заявок!J$3:J100) -> #N/A | N83: =LOOKUP(Журнал_образцов!$A83,Журнал_заявок!$A$3:B100,Журнал_заявок!K$3:K100) -> #N/A | U83: =LOOKUP(Журнал_образцов!$A83,Журнал_заявок!$A$3:$A100,Журнал_заявок!$D$3:$D100) -> #N/A | V83: =LOOKUP(Журнал_образцов!$A83,Журнал_заявок!$A$3:$A3637,Журнал_заявок!$L$3:$L3637) -> #N/A | W83: =CONCATENATE(G83,H83," ",IF(A83=A84,IF(F83=F84," ",F83),F83)," ",I83,J83,", ") -> #N/A | X83: =W83&IF(Журнал_образцов!A83=Журнал_образцов!A82,Журнал_образцов!X82,) -> #N/A
B84: =IF(Журнал_образцов!A84=Журнал_образцов!A83,Журнал_образцов!B83,0)+1 -> 80 | C84: =CONCATENATE(Журнал_образцов!A84,"-",TEXT(Журнал_образцов!B84,"00")) -> -80 | D84: =LOOKUP(Журнал_образцов!A125,Журнал_заявок!A$3:A142,Журнал_заявок!B$3:B142) -> #N/A | E84: =LOOKUP(Журнал_образцов!A125,Журнал_заявок!$A$3:$A142,Журнал_заявок!H$3:H142) -> #N/A | J84: =LOOKUP(Журнал_образцов!F84,справочник!K$2:K483,справочник!L$2:L483) -> #N/A | L84: 1кг | M84: =LOOKUP(Журнал_образцов!$A84,Журнал_заявок!A$3:$A101,Журнал_заявок!J$3:J101) -> #N/A | N84: =LOOKUP(Журнал_образцов!$A84,Журнал_заявок!$A$3:B101,Журнал_заявок!K$3:K101) -> #N/A | U84: =LOOKUP(Журнал_образцов!$A84,Журнал_заявок!$A$3:$A101,Журнал_заявок!$D$3:$D101) -> #N/A | V84: =LOOKUP(Журнал_образцов!$A84,Журнал_заявок!$A$3:$A3638,Журнал_заявок!$L$3:$L3638) -> #N/A | W84: =CONCATENATE(G84,H84," ",IF(A84=A85,IF(F84=F85," ",F84),F84)," ",I84,J84,", ") -> #N/A | X84: =W84&IF(Журнал_образцов!A84=Журнал_образцов!A83,Журнал_образцов!X83,) -> #N/A
B85: =IF(Журнал_образцов!A85=Журнал_образцов!A84,Журнал_образцов!B84,0)+1 -> 81 | C85: =CONCATENATE(Журнал_образцов!A85,"-",TEXT(Журнал_образцов!B85,"00")) -> -81 | D85: =LOOKUP(Журнал_образцов!A126,Журнал_заявок!A$3:A143,Журнал_заявок!B$3:B143) -> #N/A | E85: =LOOKUP(Журнал_образцов!A126,Журнал_заявок!$A$3:$A143,Журнал_заявок!H$3:H143) -> #N/A | J85: =LOOKUP(Журнал_образцов!F85,справочник!K$2:K484,справочник!L$2:L484) -> #N/A | L85: 1кг | M85: =LOOKUP(Журнал_образцов!$A85,Журнал_заявок!A$3:$A102,Журнал_заявок!J$3:J102) -> #N/A | N85: =LOOKUP(Журнал_образцов!$A85,Журнал_заявок!$A$3:B102,Журнал_заявок!K$3:K102) -> #N/A | U85: =LOOKUP(Журнал_образцов!$A85,Журнал_заявок!$A$3:$A102,Журнал_заявок!$D$3:$D102) -> #N/A | V85: =LOOKUP(Журнал_образцов!$A85,Журнал_заявок!$A$3:$A3639,Журнал_заявок!$L$3:$L3639) -> #N/A | W85: =CONCATENATE(G85,H85," ",IF(A85=A86,IF(F85=F86," ",F85),F85)," ",I85,J85,", ") -> #N/A | X85: =W85&IF(Журнал_образцов!A85=Журнал_образцов!A84,Журнал_образцов!X84,) -> #N/A
B86: =IF(Журнал_образцов!A86=Журнал_образцов!A85,Журнал_образцов!B85,0)+1 -> 82 | C86: =CONCATENATE(Журнал_образцов!A86,"-",TEXT(Журнал_образцов!B86,"00")) -> -82 | D86: =LOOKUP(Журнал_образцов!A127,Журнал_заявок!A$3:A144,Журнал_заявок!B$3:B144) -> #N/A | E86: =LOOKUP(Журнал_образцов!A127,Журнал_заявок!$A$3:$A144,Журнал_заявок!H$3:H144) -> #N/A | J86: =LOOKUP(Журнал_образцов!F86,справочник!K$2:K485,справочник!L$2:L485) -> #N/A | L86: 1кг | M86: =LOOKUP(Журнал_образцов!$A86,Журнал_заявок!A$3:$A103,Журнал_заявок!J$3:J103) -> #N/A | N86: =LOOKUP(Журнал_образцов!$A86,Журнал_заявок!$A$3:B103,Журнал_заявок!K$3:K103) -> #N/A | U86: =LOOKUP(Журнал_образцов!$A86,Журнал_заявок!$A$3:$A103,Журнал_заявок!$D$3:$D103) -> #N/A | V86: =LOOKUP(Журнал_образцов!$A86,Журнал_заявок!$A$3:$A3640,Журнал_заявок!$L$3:$L3640) -> #N/A | W86: =CONCATENATE(G86,H86," ",IF(A86=A87,IF(F86=F87," ",F86),F86)," ",I86,J86,", ") -> #N/A | X86: =W86&IF(Журнал_образцов!A86=Журнал_образцов!A85,Журнал_образцов!X85,) -> #N/A
B87: =IF(Журнал_образцов!A87=Журнал_образцов!A86,Журнал_образцов!B86,0)+1 -> 83 | C87: =CONCATENATE(Журнал_образцов!A87,"-",TEXT(Журнал_образцов!B87,"00")) -> -83 | D87: =LOOKUP(Журнал_образцов!A128,Журнал_заявок!A$3:A145,Журнал_заявок!B$3:B145) -> #N/A | E87: =LOOKUP(Журнал_образцов!A128,Журнал_заявок!$A$3:$A145,Журнал_заявок!H$3:H145) -> #N/A | J87: =LOOKUP(Журнал_образцов!F87,справочник!K$2:K486,справочник!L$2:L486) -> #N/A | L87: 1кг | M87: =LOOKUP(Журнал_образцов!$A87,Журнал_заявок!A$3:$A104,Журнал_заявок!J$3:J104) -> #N/A | N87: =LOOKUP(Журнал_образцов!$A87,Журнал_заявок!$A$3:B104,Журнал_заявок!K$3:K104) -> #N/A | U87: =LOOKUP(Журнал_образцов!$A87,Журнал_заявок!$A$3:$A104,Журнал_заявок!$D$3:$D104) -> #N/A | V87: =LOOKUP(Журнал_образцов!$A87,Журнал_заявок!$A$3:$A3641,Журнал_заявок!$L$3:$L3641) -> #N/A | W87: =CONCATENATE(G87,H87," ",IF(A87=A88,IF(F87=F88," ",F87),F87)," ",I87,J87,", ") -> #N/A | X87: =W87&IF(Журнал_образцов!A87=Журнал_образцов!A86,Журнал_образцов!X86,) -> #N/A
B88: =IF(Журнал_образцов!A88=Журнал_образцов!A87,Журнал_образцов!B87,0)+1 -> 84 | C88: =CONCATENATE(Журнал_образцов!A88,"-",TEXT(Журнал_образцов!B88,"00")) -> -84 | D88: =LOOKUP(Журнал_образцов!A129,Журнал_заявок!A$3:A146,Журнал_заявок!B$3:B146) -> #N/A | E88: =LOOKUP(Журнал_образцов!A129,Журнал_заявок!$A$3:$A146,Журнал_заявок!H$3:H146) -> #N/A | J88: =LOOKUP(Журнал_образцов!F88,справочник!K$2:K487,справочник!L$2:L487) -> #N/A | L88: 1кг | M88: =LOOKUP(Журнал_образцов!$A88,Журнал_заявок!A$3:$A105,Журнал_заявок!J$3:J105) -> #N/A | N88: =LOOKUP(Журнал_образцов!$A88,Журнал_заявок!$A$3:B105,Журнал_заявок!K$3:K105) -> #N/A | U88: =LOOKUP(Журнал_образцов!$A88,Журнал_заявок!$A$3:$A105,Журнал_заявок!$D$3:$D105) -> #N/A | V88: =LOOKUP(Журнал_образцов!$A88,Журнал_заявок!$A$3:$A3642,Журнал_заявок!$L$3:$L3642) -> #N/A | W88: =CONCATENATE(G88,H88," ",IF(A88=A89,IF(F88=F89," ",F88),F88)," ",I88,J88,", ") -> #N/A | X88: =W88&IF(Журнал_образцов!A88=Журнал_образцов!A87,Журнал_образцов!X87,) -> #N/A
B89: =IF(Журнал_образцов!A89=Журнал_образцов!A88,Журнал_образцов!B88,0)+1 -> 85 | C89: =CONCATENATE(Журнал_образцов!A89,"-",TEXT(Журнал_образцов!B89,"00")) -> -85 | D89: =LOOKUP(Журнал_образцов!A130,Журнал_заявок!A$3:A147,Журнал_заявок!B$3:B147) -> #N/A | E89: =LOOKUP(Журнал_образцов!A130,Журнал_заявок!$A$3:$A147,Журнал_заявок!H$3:H147) -> #N/A | J89: =LOOKUP(Журнал_образцов!F89,справочник!K$2:K488,справочник!L$2:L488) -> #N/A | L89: 1кг | M89: =LOOKUP(Журнал_образцов!$A89,Журнал_заявок!A$3:$A106,Журнал_заявок!J$3:J106) -> #N/A | N89: =LOOKUP(Журнал_образцов!$A89,Журнал_заявок!$A$3:B106,Журнал_заявок!K$3:K106) -> #N/A | U89: =LOOKUP(Журнал_образцов!$A89,Журнал_заявок!$A$3:$A106,Журнал_заявок!$D$3:$D106) -> #N/A | V89: =LOOKUP(Журнал_образцов!$A89,Журнал_заявок!$A$3:$A3643,Журнал_заявок!$L$3:$L3643) -> #N/A | W89: =CONCATENATE(G89,H89," ",IF(A89=A90,IF(F89=F90," ",F89),F89)," ",I89,J89,", ") -> #N/A | X89: =W89&IF(Журнал_образцов!A89=Журнал_образцов!A88,Журнал_образцов!X88,) -> #N/A
B90: =IF(Журнал_образцов!A90=Журнал_образцов!A89,Журнал_образцов!B89,0)+1 -> 86 | C90: =CONCATENATE(Журнал_образцов!A90,"-",TEXT(Журнал_образцов!B90,"00")) -> -86 | D90: =LOOKUP(Журнал_образцов!A131,Журнал_заявок!A$3:A148,Журнал_заявок!B$3:B148) -> #N/A | E90: =LOOKUP(Журнал_образцов!A131,Журнал_заявок!$A$3:$A148,Журнал_заявок!H$3:H148) -> #N/A | J90: =LOOKUP(Журнал_образцов!F90,справочник!K$2:K489,справочник!L$2:L489) -> #N/A | L90: 1кг | M90: =LOOKUP(Журнал_образцов!$A90,Журнал_заявок!A$3:$A107,Журнал_заявок!J$3:J107) -> #N/A | N90: =LOOKUP(Журнал_образцов!$A90,Журнал_заявок!$A$3:B107,Журнал_заявок!K$3:K107) -> #N/A | U90: =LOOKUP(Журнал_образцов!$A90,Журнал_заявок!$A$3:$A107,Журнал_заявок!$D$3:$D107) -> #N/A | V90: =LOOKUP(Журнал_образцов!$A90,Журнал_заявок!$A$3:$A3644,Журнал_заявок!$L$3:$L3644) -> #N/A | W90: =CONCATENATE(G90,H90," ",IF(A90=A91,IF(F90=F91," ",F90),F90)," ",I90,J90,", ") -> #N/A | X90: =W90&IF(Журнал_образцов!A90=Журнал_образцов!A89,Журнал_образцов!X89,) -> #N/A
B91: =IF(Журнал_образцов!A91=Журнал_образцов!A90,Журнал_образцов!B90,0)+1 -> 87 | C91: =CONCATENATE(Журнал_образцов!A91,"-",TEXT(Журнал_образцов!B91,"00")) -> -87 | D91: =LOOKUP(Журнал_образцов!A132,Журнал_заявок!A$3:A149,Журнал_заявок!B$3:B149) -> #N/A | E91: =LOOKUP(Журнал_образцов!A132,Журнал_заявок!$A$3:$A149,Журнал_заявок!H$3:H149) -> #N/A | J91: =LOOKUP(Журнал_образцов!F91,справочник!K$2:K490,справочник!L$2:L490) -> #N/A | L91: 1кг | M91: =LOOKUP(Журнал_образцов!$A91,Журнал_заявок!A$3:$A108,Журнал_заявок!J$3:J108) -> #N/A | N91: =LOOKUP(Журнал_образцов!$A91,Журнал_заявок!$A$3:B108,Журнал_заявок!K$3:K108) -> #N/A | U91: =LOOKUP(Журнал_образцов!$A91,Журнал_заявок!$A$3:$A108,Журнал_заявок!$D$3:$D108) -> #N/A | V91: =LOOKUP(Журнал_образцов!$A91,Журнал_заявок!$A$3:$A3645,Журнал_заявок!$L$3:$L3645) -> #N/A | W91: =CONCATENATE(G91,H91," ",IF(A91=A92,IF(F91=F92," ",F91),F91)," ",I91,J91,", ") -> #N/A | X91: =W91&IF(Журнал_образцов!A91=Журнал_образцов!A90,Журнал_образцов!X90,) -> #N/A
... B164: =IF(Журнал_образцов!A164=Журнал_образцов!A163,Журнал_образцов!B163,0)+1 -> 160 | C164: =CONCATENATE(Журнал_образцов!A164,"-",TEXT(Журнал_образцов!B164,"00")) -> -160 | D164: =LOOKUP(Журнал_образцов!A205,Журнал_заявок!A$3:A222,Журнал_заявок!B$3:B222) -> #N/A | E164: =LOOKUP(Журнал_образцов!A205,Журнал_заявок!$A$3:$A222,Журнал_заявок!H$3:H222) -> #N/A | J164: =LOOKUP(Журнал_образцов!F164,справочник!K$2:K563,справочник!L$2:L563) -> #N/A | L164: 1кг | M164: =LOOKUP(Журнал_образцов!$A164,Журнал_заявок!A$3:$A181,Журнал_заявок!J$3:J181) -> #N/A | N164: =LOOKUP(Журнал_образцов!$A164,Журнал_заявок!$A$3:B181,Журнал_заявок!K$3:K181) -> #N/A | U164: =LOOKUP(Журнал_образцов!$A164,Журнал_заявок!$A$3:$A181,Журнал_заявок!$D$3:$D181) -> #N/A | V164: =LOOKUP(Журнал_образцов!$A164,Журнал_заявок!$A$3:$A3718,Журнал_заявок!$L$3:$L3718) -> #N/A | W164: =CONCATENATE(G164,H164," ",IF(A164=A165,IF(F164=F165," ",F164),F164)," ",I164,J164,", ") -> #N/A | X164: =W164&IF(Журнал_образцов!A164=Журнал_образцов!A163,Журнал_образцов!X163,) -> #N/A
B165: =IF(Журнал_образцов!A165=Журнал_образцов!A164,Журнал_образцов!B164,0)+1 -> 161 | C165: =CONCATENATE(Журнал_образцов!A165,"-",TEXT(Журнал_образцов!B165,"00")) -> -161 | D165: =LOOKUP(Журнал_образцов!A84,Журнал_заявок!A$3:A101,Журнал_заявок!B$3:B101) -> #N/A | E165: =LOOKUP(Журнал_образцов!A84,Журнал_заявок!$A$3:$A101,Журнал_заявок!H$3:H101) -> #N/A | J165: =LOOKUP(Журнал_образцов!F165,справочник!K$2:K564,справочник!L$2:L564) -> #N/A | L165: 1кг | M165: =LOOKUP(Журнал_образцов!$A165,Журнал_заявок!A$3:$A182,Журнал_заявок!J$3:J182) -> #N/A | N165: =LOOKUP(Журнал_образцов!$A165,Журнал_заявок!$A$3:B182,Журнал_заявок!K$3:K182) -> #N/A | U165: =LOOKUP(Журнал_образцов!$A165,Журнал_заявок!$A$3:$A182,Журнал_заявок!$D$3:$D182) -> #N/A | V165: =LOOKUP(Журнал_образцов!$A165,Журнал_заявок!$A$3:$A3719,Журнал_заявок!$L$3:$L3719) -> #N/A | W165: =CONCATENATE(G165,H165," ",IF(A165=A166,IF(F165=F166," ",F165),F165)," ",I165,J165,", ") -> #N/A | X165: =W165&IF(Журнал_образцов!A165=Журнал_образцов!A164,Журнал_образцов!X164,) -> #N/A
B166: =IF(Журнал_образцов!A166=Журнал_образцов!A165,Журнал_образцов!B165,0)+1 -> 162 | C166: =CONCATENATE(Журнал_образцов!A166,"-",TEXT(Журнал_образцов!B166,"00")) -> -162 | D166: =LOOKUP(Журнал_образцов!A85,Журнал_заявок!A$3:A102,Журнал_заявок!B$3:B102) -> #N/A | E166: =LOOKUP(Журнал_образцов!A85,Журнал_заявок!$A$3:$A102,Журнал_заявок!H$3:H102) -> #N/A | J166: =LOOKUP(Журнал_образцов!F166,справочник!K$2:K565,справочник!L$2:L565) -> #N/A | L166: 1кг | M166: =LOOKUP(Журнал_образцов!$A166,Журнал_заявок!A$3:$A183,Журнал_заявок!J$3:J183) -> #N/A | N166: =LOOKUP(Журнал_образцов!$A166,Журнал_заявок!$A$3:B183,Журнал_заявок!K$3:K183) -> #N/A | U166: =LOOKUP(Журнал_образцов!$A166,Журнал_заявок!$A$3:$A183,Журнал_заявок!$D$3:$D183) -> #N/A | V166: =LOOKUP(Журнал_образцов!$A166,Журнал_заявок!$A$3:$A3720,Журнал_заявок!$L$3:$L3720) -> #N/A | W166: =CONCATENATE(G166,H166," ",IF(A166=A167,IF(F166=F167," ",F166),F166)," ",I166,J166,", ") -> #N/A | X166: =W166&IF(Журнал_образцов!A166=Журнал_образцов!A165,Журнал_образцов!X165,) -> #N/A
B167: =IF(Журнал_образцов!A167=Журнал_образцов!A166,Журнал_образцов!B166,0)+1 -> 163 | C167: =CONCATENATE(Журнал_образцов!A167,"-",TEXT(Журнал_образцов!B167,"00")) -> -163 | D167: =LOOKUP(Журнал_образцов!A86,Журнал_заявок!A$3:A103,Журнал_заявок!B$3:B103) -> #N/A | E167: =LOOKUP(Журнал_образцов!A86,Журнал_заявок!$A$3:$A103,Журнал_заявок!H$3:H103) -> #N/A | J167: =LOOKUP(Журнал_образцов!F167,справочник!K$2:K566,справочник!L$2:L566) -> #N/A | L167: 1кг | M167: =LOOKUP(Журнал_образцов!$A167,Журнал_заявок!A$3:$A184,Журнал_заявок!J$3:J184) -> #N/A | N167: =LOOKUP(Журнал_образцов!$A167,Журнал_заявок!$A$3:B184,Журнал_заявок!K$3:K184) -> #N/A | U167: =LOOKUP(Журнал_образцов!$A167,Журнал_заявок!$A$3:$A184,Журнал_заявок!$D$3:$D184) -> #N/A | V167: =LOOKUP(Журнал_образцов!$A167,Журнал_заявок!$A$3:$A3721,Журнал_заявок!$L$3:$L3721) -> #N/A | W167: =CONCATENATE(G167,H167," ",IF(A167=A168,IF(F167=F168," ",F167),F167)," ",I167,J167,", ") -> #N/A | X167: =W167&IF(Журнал_образцов!A167=Журнал_образцов!A166,Журнал_образцов!X166,) -> #N/A
B168: =IF(Журнал_образцов!A168=Журнал_образцов!A167,Журнал_образцов!B167,0)+1 -> 164 | C168: =CONCATENATE(Журнал_образцов!A168,"-",TEXT(Журнал_образцов!B168,"00")) -> -164 | D168: =LOOKUP(Журнал_образцов!A87,Журнал_заявок!A$3:A104,Журнал_заявок!B$3:B104) -> #N/A | E168: =LOOKUP(Журнал_образцов!A87,Журнал_заявок!$A$3:$A104,Журнал_заявок!H$3:H104) -> #N/A | J168: =LOOKUP(Журнал_образцов!F168,справочник!K$2:K567,справочник!L$2:L567) -> #N/A | L168: 1кг | M168: =LOOKUP(Журнал_образцов!$A168,Журнал_заявок!A$3:$A185,Журнал_заявок!J$3:J185) -> #N/A | N168: =LOOKUP(Журнал_образцов!$A168,Журнал_заявок!$A$3:B185,Журнал_заявок!K$3:K185) -> #N/A | U168: =LOOKUP(Журнал_образцов!$A168,Журнал_заявок!$A$3:$A185,Журнал_заявок!$D$3:$D185) -> #N/A | V168: =LOOKUP(Журнал_образцов!$A168,Журнал_заявок!$A$3:$A3722,Журнал_заявок!$L$3:$L3722) -> #N/A | W168: =CONCATENATE(G168,H168," ",IF(A168=A169,IF(F168=F169," ",F168),F168)," ",I168,J168,", ") -> #N/A | X168: =W168&IF(Журнал_образцов!A168=Журнал_образцов!A167,Журнал_образцов!X167,) -> #N/A
B169: =IF(Журнал_образцов!A169=Журнал_образцов!A168,Журнал_образцов!B168,0)+1 -> 165 | C169: =CONCATENATE(Журнал_образцов!A169,"-",TEXT(Журнал_образцов!B169,"00")) -> -165 | D169: =LOOKUP(Журнал_образцов!A88,Журнал_заявок!A$3:A105,Журнал_заявок!B$3:B105) -> #N/A | E169: =LOOKUP(Журнал_образцов!A88,Журнал_заявок!$A$3:$A105,Журнал_заявок!H$3:H105) -> #N/A | J169: =LOOKUP(Журнал_образцов!F169,справочник!K$2:K568,справочник!L$2:L568) -> #N/A | L169: 100г | M169: =LOOKUP(Журнал_образцов!$A169,Журнал_заявок!A$3:$A186,Журнал_заявок!J$3:J186) -> #N/A | N169: =LOOKUP(Журнал_образцов!$A169,Журнал_заявок!$A$3:B186,Журнал_заявок!K$3:K186) -> #N/A | U169: =LOOKUP(Журнал_образцов!$A169,Журнал_заявок!$A$3:$A186,Журнал_заявок!$D$3:$D186) -> #N/A | V169: =LOOKUP(Журнал_образцов!$A169,Журнал_заявок!$A$3:$A3723,Журнал_заявок!$L$3:$L3723) -> #N/A | W169: =CONCATENATE(G169,H169," ",IF(A169=A170,IF(F169=F170," ",F169),F169)," ",I169,J169,", ") -> #N/A | X169: =W169&IF(Журнал_образцов!A169=Журнал_образцов!A168,Журнал_образцов!X168,) -> #N/A
B170: =IF(Журнал_образцов!A170=Журнал_образцов!A169,Журнал_образцов!B169,0)+1 -> 166 | C170: =CONCATENATE(Журнал_образцов!A170,"-",TEXT(Журнал_образцов!B170,"00")) -> -166 | D170: =LOOKUP(Журнал_образцов!A89,Журнал_заявок!A$3:A106,Журнал_заявок!B$3:B106) -> #N/A | E170: =LOOKUP(Журнал_образцов!A89,Журнал_заявок!$A$3:$A106,Журнал_заявок!H$3:H106) -> #N/A | J170: =LOOKUP(Журнал_образцов!F170,справочник!K$2:K569,справочник!L$2:L569) -> #N/A | L170: 100г | M170: =LOOKUP(Журнал_образцов!$A170,Журнал_заявок!A$3:$A187,Журнал_заявок!J$3:J187) -> #N/A | N170: =LOOKUP(Журнал_образцов!$A170,Журнал_заявок!$A$3:B187,Журнал_заявок!K$3:K187) -> #N/A | U170: =LOOKUP(Журнал_образцов!$A170,Журнал_заявок!$A$3:$A187,Журнал_заявок!$D$3:$D187) -> #N/A | V170: =LOOKUP(Журнал_образцов!$A170,Журнал_заявок!$A$3:$A3724,Журнал_заявок!$L$3:$L3724) -> #N/A | W170: =CONCATENATE(G170,H170," ",IF(A170=A171,IF(F170=F171," ",F170),F170)," ",I170,J170,", ") -> #N/A | X170: =W170&IF(Журнал_образцов!A170=Журнал_образцов!A169,Журнал_образцов!X169,) -> #N/A
B171: =IF(Журнал_образцов!A171=Журнал_образцов!A170,Журнал_образцов!B170,0)+1 -> 167 | C171: =CONCATENATE(Журнал_образцов!A171,"-",TEXT(Журнал_образцов!B171,"00")) -> -167 | D171: =LOOKUP(Журнал_образцов!A90,Журнал_заявок!A$3:A107,Журнал_заявок!B$3:B107) -> #N/A | E171: =LOOKUP(Журнал_образцов!A90,Журнал_заявок!$A$3:$A107,Журнал_заявок!H$3:H107) -> #N/A | J171: =LOOKUP(Журнал_образцов!F171,справочник!K$2:K570,справочник!L$2:L570) -> #N/A | L171: 100г | M171: =LOOKUP(Журнал_образцов!$A171,Журнал_заявок!A$3:$A188,Журнал_заявок!J$3:J188) -> #N/A | N171: =LOOKUP(Журнал_образцов!$A171,Журнал_заявок!$A$3:B188,Журнал_заявок!K$3:K188) -> #N/A | U171: =LOOKUP(Журнал_образцов!$A171,Журнал_заявок!$A$3:$A188,Журнал_заявок!$D$3:$D188) -> #N/A | V171: =LOOKUP(Журнал_образцов!$A171,Журнал_заявок!$A$3:$A3725,Журнал_заявок!$L$3:$L3725) -> #N/A | W171: =CONCATENATE(G171,H171," ",IF(A171=A172,IF(F171=F172," ",F171),F171)," ",I171,J171,", ") -> #N/A | X171: =W171&IF(Журнал_образцов!A171=Журнал_образцов!A170,Журнал_образцов!X170,) -> #N/A
B172: =IF(Журнал_образцов!A172=Журнал_образцов!A171,Журнал_образцов!B171,0)+1 -> 168 | C172: =CONCATENATE(Журнал_образцов!A172,"-",TEXT(Журнал_образцов!B172,"00")) -> -168 | D172: =LOOKUP(Журнал_образцов!A91,Журнал_заявок!A$3:A108,Журнал_заявок!B$3:B108) -> #N/A | E172: =LOOKUP(Журнал_образцов!A91,Журнал_заявок!$A$3:$A108,Журнал_заявок!H$3:H108) -> #N/A | J172: =LOOKUP(Журнал_образцов!F172,справочник!K$2:K571,справочник!L$2:L571) -> #N/A | L172: 100г | M172: =LOOKUP(Журнал_образцов!$A172,Журнал_заявок!A$3:$A189,Журнал_заявок!J$3:J189) -> #N/A | N172: =LOOKUP(Журнал_образцов!$A172,Журнал_заявок!$A$3:B189,Журнал_заявок!K$3:K189) -> #N/A | U172: =LOOKUP(Журнал_образцов!$A172,Журнал_заявок!$A$3:$A189,Журнал_заявок!$D$3:$D189) -> #N/A | V172: =LOOKUP(Журнал_образцов!$A172,Журнал_заявок!$A$3:$A3726,Журнал_заявок!$L$3:$L3726) -> #N/A | W172: =CONCATENATE(G172,H172," ",IF(A172=A173,IF(F172=F173," ",F172),F172)," ",I172,J172,", ") -> #N/A | X172: =W172&IF(Журнал_образцов!A172=Журнал_образцов!A171,Журнал_образцов!X171,) -> #N/A
B173: =IF(Журнал_образцов!A173=Журнал_образцов!A172,Журнал_образцов!B172,0)+1 -> 169 | C173: =CONCATENATE(Журнал_образцов!A173,"-",TEXT(Журнал_образцов!B173,"00")) -> -169 | D173: =LOOKUP(Журнал_образцов!A92,Журнал_заявок!A$3:A109,Журнал_заявок!B$3:B109) -> #N/A | E173: =LOOKUP(Журнал_образцов!A92,Журнал_заявок!$A$3:$A109,Журнал_заявок!H$3:H109) -> #N/A | J173: =LOOKUP(Журнал_образцов!F173,справочник!K$2:K572,справочник!L$2:L572) -> #N/A | L173: 100г | M173: =LOOKUP(Журнал_образцов!$A173,Журнал_заявок!A$3:$A190,Журнал_заявок!J$3:J190) -> #N/A | N173: =LOOKUP(Журнал_образцов!$A173,Журнал_заявок!$A$3:B190,Журнал_заявок!K$3:K190) -> #N/A | U173: =LOOKUP(Журнал_образцов!$A173,Журнал_заявок!$A$3:$A190,Журнал_заявок!$D$3:$D190) -> #N/A | V173: =LOOKUP(Журнал_образцов!$A173,Журнал_заявок!$A$3:$A3727,Журнал_заявок!$L$3:$L3727) -> #N/A | W173: =CONCATENATE(G173,H173," ",IF(A173=A174,IF(F173=F174," ",F173),F173)," ",I173,J173,", ") -> #N/A | X173: =W173&IF(Журнал_образцов!A173=Журнал_образцов!A172,Журнал_образцов!X172,) -> #N/A
B174: =IF(Журнал_образцов!A174=Журнал_образцов!A173,Журнал_образцов!B173,0)+1 -> 170 | C174: =CONCATENATE(Журнал_образцов!A174,"-",TEXT(Журнал_образцов!B174,"00")) -> -170 | D174: =LOOKUP(Журнал_образцов!A93,Журнал_заявок!A$3:A110,Журнал_заявок!B$3:B110) -> #N/A | E174: =LOOKUP(Журнал_образцов!A93,Журнал_заявок!$A$3:$A110,Журнал_заявок!H$3:H110) -> #N/A | J174: =LOOKUP(Журнал_образцов!F174,справочник!K$2:K573,справочник!L$2:L573) -> #N/A | L174: 100г | M174: =LOOKUP(Журнал_образцов!$A174,Журнал_заявок!A$3:$A191,Журнал_заявок!J$3:J191) -> #N/A | N174: =LOOKUP(Журнал_образцов!$A174,Журнал_заявок!$A$3:B191,Журнал_заявок!K$3:K191) -> #N/A | U174: =LOOKUP(Журнал_образцов!$A174,Журнал_заявок!$A$3:$A191,Журнал_заявок!$D$3:$D191) -> #N/A | V174: =LOOKUP(Журнал_образцов!$A174,Журнал_заявок!$A$3:$A3728,Журнал_заявок!$L$3:$L3728) -> #N/A | W174: =CONCATENATE(G174,H174," ",IF(A174=A175,IF(F174=F175," ",F174),F174)," ",I174,J174,", ") -> #N/A | X174: =W174&IF(Журнал_образцов!A174=Журнал_образцов!A173,Журнал_образцов!X173,) -> #N/A
B175: =IF(Журнал_образцов!A175=Журнал_образцов!A174,Журнал_образцов!B174,0)+1 -> 171 | C175: =CONCATENATE(Журнал_образцов!A175,"-",TEXT(Журнал_образцов!B175,"00")) -> -171 | D175: =LOOKUP(Журнал_образцов!A94,Журнал_заявок!A$3:A111,Журнал_заявок!B$3:B111) -> #N/A | E175: =LOOKUP(Журнал_образцов!A94,Журнал_заявок!$A$3:$A111,Журнал_заявок!H$3:H111) -> #N/A | J175: =LOOKUP(Журнал_образцов!F175,справочник!K$2:K574,справочник!L$2:L574) -> #N/A | L175: 100г | M175: =LOOKUP(Журнал_образцов!$A175,Журнал_заявок!A$3:$A192,Журнал_заявок!J$3:J192) -> #N/A | N175: =LOOKUP(Журнал_образцов!$A175,Журнал_заявок!$A$3:B192,Журнал_заявок!K$3:K192) -> #N/A | U175: =LOOKUP(Журнал_образцов!$A175,Журнал_заявок!$A$3:$A192,Журнал_заявок!$D$3:$D192) -> #N/A | V175: =LOOKUP(Журнал_образцов!$A175,Журнал_заявок!$A$3:$A3729,Журнал_заявок!$L$3:$L3729) -> #N/A | W175: =CONCATENATE(G175,H175," ",IF(A175=A176,IF(F175=F176," ",F175),F175)," ",I175,J175,", ") -> #N/A | X175: =W175&IF(Журнал_образцов!A175=Журнал_образцов!A174,Журнал_образцов!X174,) -> #N/A
B176: =IF(Журнал_образцов!A176=Журнал_образцов!A175,Журнал_образцов!B175,0)+1 -> 172 | C176: =CONCATENATE(Журнал_образцов!A176,"-",TEXT(Журнал_образцов!B176,"00")) -> -172 | D176: =LOOKUP(Журнал_образцов!A95,Журнал_заявок!A$3:A112,Журнал_заявок!B$3:B112) -> #N/A | E176: =LOOKUP(Журнал_образцов!A95,Журнал_заявок!$A$3:$A112,Журнал_заявок!H$3:H112) -> #N/A | J176: =LOOKUP(Журнал_образцов!F176,справочник!K$2:K575,справочник!L$2:L575) -> #N/A | L176: 100г | M176: =LOOKUP(Журнал_образцов!$A176,Журнал_заявок!A$3:$A193,Журнал_заявок!J$3:J193) -> #N/A | N176: =LOOKUP(Журнал_образцов!$A176,Журнал_заявок!$A$3:B193,Журнал_заявок!K$3:K193) -> #N/A | U176: =LOOKUP(Журнал_образцов!$A176,Журнал_заявок!$A$3:$A193,Журнал_заявок!$D$3:$D193) -> #N/A | V176: =LOOKUP(Журнал_образцов!$A176,Журнал_заявок!$A$3:$A3730,Журнал_заявок!$L$3:$L3730) -> #N/A | W176: =CONCATENATE(G176,H176," ",IF(A176=A177,IF(F176=F177," ",F176),F176)," ",I176,J176,", ") -> #N/A | X176: =W176&IF(Журнал_образцов!A176=Журнал_образцов!A175,Журнал_образцов!X175,) -> #N/A
... B201: =IF(Журнал_образцов!A201=Журнал_образцов!A200,Журнал_образцов!B200,0)+1 -> 197 | C201: =CONCATENATE(Журнал_образцов!A201,"-",TEXT(Журнал_образцов!B201,"00")) -> -197 | D201: =LOOKUP(Журнал_образцов!A120,Журнал_заявок!A$3:A137,Журнал_заявок!B$3:B137) -> #N/A | E201: =LOOKUP(Журнал_образцов!A120,Журнал_заявок!$A$3:$A137,Журнал_заявок!H$3:H137) -> #N/A | J201: =LOOKUP(Журнал_образцов!F201,справочник!K$2:K600,справочник!L$2:L600) -> #N/A | L201: 100г | M201: =LOOKUP(Журнал_образцов!$A201,Журнал_заявок!A$3:$A218,Журнал_заявок!J$3:J218) -> #N/A | N201: =LOOKUP(Журнал_образцов!$A201,Журнал_заявок!$A$3:B218,Журнал_заявок!K$3:K218) -> #N/A | U201: =LOOKUP(Журнал_образцов!$A201,Журнал_заявок!$A$3:$A218,Журнал_заявок!$D$3:$D218) -> #N/A | V201: =LOOKUP(Журнал_образцов!$A201,Журнал_заявок!$A$3:$A3755,Журнал_заявок!$L$3:$L3755) -> #N/A | W201: =CONCATENATE(G201,H201," ",IF(A201=A202,IF(F201=F202," ",F201),F201)," ",I201,J201,", ") -> #N/A | X201: =W201&IF(Журнал_образцов!A201=Журнал_образцов!A200,Журнал_образцов!X200,) -> #N/A
B202: =IF(Журнал_образцов!A202=Журнал_образцов!A201,Журнал_образцов!B201,0)+1 -> 198 | C202: =CONCATENATE(Журнал_образцов!A202,"-",TEXT(Журнал_образцов!B202,"00")) -> -198 | D202: =LOOKUP(Журнал_образцов!A29,Журнал_заявок!A$3:A46,Журнал_заявок!B$3:B46) -> #N/A | E202: =LOOKUP(Журнал_образцов!A29,Журнал_заявок!$A$3:$A46,Журнал_заявок!H$3:H46) -> #N/A | J202: =LOOKUP(Журнал_образцов!F202,справочник!K$2:K601,справочник!L$2:L601) -> #N/A | L202: 50шт | M202: =LOOKUP(Журнал_образцов!$A202,Журнал_заявок!A$3:$A219,Журнал_заявок!J$3:J219) -> #N/A | N202: =LOOKUP(Журнал_образцов!$A202,Журнал_заявок!$A$3:B219,Журнал_заявок!K$3:K219) -> #N/A | U202: =LOOKUP(Журнал_образцов!$A202,Журнал_заявок!$A$3:$A219,Журнал_заявок!$D$3:$D219) -> #N/A | V202: =LOOKUP(Журнал_образцов!$A202,Журнал_заявок!$A$3:$A3756,Журнал_заявок!$L$3:$L3756) -> #N/A | W202: =CONCATENATE(G202,H202," ",IF(A202=A203,IF(F202=F203," ",F202),F202)," ",I202,J202,", ") -> #N/A | X202: =W202&IF(Журнал_образцов!A202=Журнал_образцов!A201,Журнал_образцов!X201,) -> #N/A
B203: =IF(Журнал_образцов!A203=Журнал_образцов!A202,Журнал_образцов!B202,0)+1 -> 199 | C203: =CONCATENATE(Журнал_образцов!A203,"-",TEXT(Журнал_образцов!B203,"00")) -> -199 | D203: =LOOKUP(Журнал_образцов!A30,Журнал_заявок!A$3:A47,Журнал_заявок!B$3:B47) -> #N/A | E203: =LOOKUP(Журнал_образцов!A30,Журнал_заявок!$A$3:$A47,Журнал_заявок!H$3:H47) -> #N/A | J203: =LOOKUP(Журнал_образцов!F203,справочник!K$2:K602,справочник!L$2:L602) -> #N/A | L203: 50шт | M203: =LOOKUP(Журнал_образцов!$A203,Журнал_заявок!A$3:$A220,Журнал_заявок!J$3:J220) -> #N/A | N203: =LOOKUP(Журнал_образцов!$A203,Журнал_заявок!$A$3:B220,Журнал_заявок!K$3:K220) -> #N/A | U203: =LOOKUP(Журнал_образцов!$A203,Журнал_заявок!$A$3:$A220,Журнал_заявок!$D$3:$D220) -> #N/A | V203: =LOOKUP(Журнал_образцов!$A203,Журнал_заявок!$A$3:$A3757,Журнал_заявок!$L$3:$L3757) -> #N/A | W203: =CONCATENATE(G203,H203," ",IF(A203=A204,IF(F203=F204," ",F203),F203)," ",I203,J203,", ") -> #N/A | X203: =W203&IF(Журнал_образцов!A203=Журнал_образцов!A202,Журнал_образцов!X202,) -> #N/A
B204: =IF(Журнал_образцов!A204=Журнал_образцов!A203,Журнал_образцов!B203,0)+1 -> 200 | C204: =CONCATENATE(Журнал_образцов!A204,"-",TEXT(Журнал_образцов!B204,"00")) -> -200 | D204: =LOOKUP(Журнал_образцов!A31,Журнал_заявок!A$3:A48,Журнал_заявок!B$3:B48) -> #N/A | E204: =LOOKUP(Журнал_образцов!A31,Журнал_заявок!$A$3:$A48,Журнал_заявок!H$3:H48) -> #N/A | J204: =LOOKUP(Журнал_образцов!F204,справочник!K$2:K603,справочник!L$2:L603) -> #N/A | L204: 50шт | M204: =LOOKUP(Журнал_образцов!$A204,Журнал_заявок!A$3:$A221,Журнал_заявок!J$3:J221) -> #N/A | N204: =LOOKUP(Журнал_образцов!$A204,Журнал_заявок!$A$3:B221,Журнал_заявок!K$3:K221) -> #N/A | U204: =LOOKUP(Журнал_образцов!$A204,Журнал_заявок!$A$3:$A221,Журнал_заявок!$D$3:$D221) -> #N/A | V204: =LOOKUP(Журнал_образцов!$A204,Журнал_заявок!$A$3:$A3758,Журнал_заявок!$L$3:$L3758) -> #N/A | W204: =CONCATENATE(G204,H204," ",IF(A204=A205,IF(F204=F205," ",F204),F204)," ",I204,J204,", ") -> #N/A | X204: =W204&IF(Журнал_образцов!A204=Журнал_образцов!A203,Журнал_образцов!X203,) -> #N/A
B205: =IF(Журнал_образцов!A205=Журнал_образцов!A204,Журнал_образцов!B204,0)+1 -> 201 | C205: =CONCATENATE(Журнал_образцов!A205,"-",TEXT(Журнал_образцов!B205,"00")) -> -201 | D205: =LOOKUP(Журнал_образцов!A32,Журнал_заявок!A$3:A49,Журнал_заявок!B$3:B49) -> #N/A | E205: =LOOKUP(Журнал_образцов!A32,Журнал_заявок!$A$3:$A49,Журнал_заявок!H$3:H49) -> #N/A | J205: =LOOKUP(Журнал_образцов!F205,справочник!K$2:K604,справочник!L$2:L604) -> #N/A | L205: =VLOOKUP(F205,справочник!K$1:M$250,3,1) -> #N/A | M205: =LOOKUP(Журнал_образцов!$A205,Журнал_заявок!A$3:$A222,Журнал_заявок!J$3:J222) -> #N/A | N205: =LOOKUP(Журнал_образцов!$A205,Журнал_заявок!$A$3:B222,Журнал_заявок!K$3:K222) -> #N/A | U205: =LOOKUP(Журнал_образцов!$A205,Журнал_заявок!$A$3:$A222,Журнал_заявок!$D$3:$D222) -> #N/A | V205: =LOOKUP(Журнал_образцов!$A205,Журнал_заявок!$A$3:$A3759,Журнал_заявок!$L$3:$L3759) -> #N/A | W205: =CONCATENATE(G205,H205," ",IF(A205=A206,IF(F205=F206," ",F205),F205)," ",I205,J205,", ") -> #N/A | X205: =W205&IF(Журнал_образцов!A205=Журнал_образцов!A204,Журнал_образцов!X204,) -> #N/A
B206: =IF(Журнал_образцов!A206=Журнал_образцов!A205,Журнал_образцов!B205,0)+1 -> 202 | C206: =CONCATENATE(Журнал_образцов!A206,"-",TEXT(Журнал_образцов!B206,"00")) -> -202 | D206: =LOOKUP(Журнал_образцов!A206,Журнал_заявок!A$3:A223,Журнал_заявок!B$3:B223) -> #N/A | E206: =LOOKUP(Журнал_образцов!A206,Журнал_заявок!$A$3:$A223,Журнал_заявок!H$3:H223) -> #N/A | J206: =LOOKUP(Журнал_образцов!F206,справочник!K$2:K605,справочник!L$2:L605) -> #N/A | L206: =VLOOKUP(F206,справочник!K$1:M$250,3,1) -> #N/A | M206: =LOOKUP(Журнал_образцов!$A206,Журнал_заявок!A$3:$A223,Журнал_заявок!J$3:J223) -> #N/A | N206: =LOOKUP(Журнал_образцов!$A206,Журнал_заявок!$A$3:B223,Журнал_заявок!K$3:K223) -> #N/A | U206: =LOOKUP(Журнал_образцов!$A206,Журнал_заявок!$A$3:$A223,Журнал_заявок!$D$3:$D223) -> #N/A | V206: =LOOKUP(Журнал_образцов!$A206,Журнал_заявок!$A$3:$A3760,Журнал_заявок!$L$3:$L3760) -> #N/A | W206: =CONCATENATE(G206,H206," ",IF(A206=A207,IF(F206=F207," ",F206),F206)," ",I206,J206,", ") -> #N/A | X206: =W206&IF(Журнал_образцов!A206=Журнал_образцов!A205,Журнал_образцов!X205,) -> #N/A
B207: =IF(Журнал_образцов!A207=Журнал_образцов!A206,Журнал_образцов!B206,0)+1 -> 203 | C207: =CONCATENATE(Журнал_образцов!A207,"-",TEXT(Журнал_образцов!B207,"00")) -> -203 | D207: =LOOKUP(Журнал_образцов!A207,Журнал_заявок!A$3:A224,Журнал_заявок!B$3:B224) -> #N/A | E207: =LOOKUP(Журнал_образцов!A207,Журнал_заявок!$A$3:$A224,Журнал_заявок!H$3:H224) -> #N/A | J207: =LOOKUP(Журнал_образцов!F207,справочник!K$2:K606,справочник!L$2:L606) -> #N/A | L207: =VLOOKUP(F207,справочник!K$1:M$250,3,1) -> #N/A | M207: =LOOKUP(Журнал_образцов!$A207,Журнал_заявок!A$3:$A224,Журнал_заявок!J$3:J224) -> #N/A | N207: =LOOKUP(Журнал_образцов!$A207,Журнал_заявок!$A$3:B224,Журнал_заявок!K$3:K224) -> #N/A | U207: =LOOKUP(Журнал_образцов!$A207,Журнал_заявок!$A$3:$A224,Журнал_заявок!$D$3:$D224) -> #N/A | V207: =LOOKUP(Журнал_образцов!$A207,Журнал_заявок!$A$3:$A3761,Журнал_заявок!$L$3:$L3761) -> #N/A | W207: =CONCATENATE(G207,H207," ",IF(A207=A208,IF(F207=F208," ",F207),F207)," ",I207,J207,", ") -> #N/A | X207: =W207&IF(Журнал_образцов!A207=Журнал_образцов!A206,Журнал_образцов!X206,) -> #N/A
B208: =IF(Журнал_образцов!A208=Журнал_образцов!A207,Журнал_образцов!B207,0)+1 -> 204 | C208: =CONCATENATE(Журнал_образцов!A208,"-",TEXT(Журнал_образцов!B208,"00")) -> -204 | D208: =LOOKUP(Журнал_образцов!A208,Журнал_заявок!A$3:A225,Журнал_заявок!B$3:B225) -> #N/A | E208: =LOOKUP(Журнал_образцов!A208,Журнал_заявок!$A$3:$A225,Журнал_заявок!H$3:H225) -> #N/A | J208: =LOOKUP(Журнал_образцов!F208,справочник!K$2:K607,справочник!L$2:L607) -> #N/A | L208: =VLOOKUP(F208,справочник!K$1:M$250,3,1) -> #N/A | M208: =LOOKUP(Журнал_образцов!$A208,Журнал_заявок!A$3:$A225,Журнал_заявок!J$3:J225) -> #N/A | N208: =LOOKUP(Журнал_образцов!$A208,Журнал_заявок!$A$3:B225,Журнал_заявок!K$3:K225) -> #N/A | U208: =LOOKUP(Журнал_образцов!$A208,Журнал_заявок!$A$3:$A225,Журнал_заявок!$D$3:$D225) -> #N/A | V208: =LOOKUP(Журнал_образцов!$A208,Журнал_заявок!$A$3:$A3762,Журнал_заявок!$L$3:$L3762) -> #N/A | W208: =CONCATENATE(G208,H208," ",IF(A208=A209,IF(F208=F209," ",F208),F208)," ",I208,J208,", ") -> #N/A | X208: =W208&IF(Журнал_образцов!A208=Журнал_образцов!A207,Журнал_образцов!X207,) -> #N/A
B209: =IF(Журнал_образцов!A209=Журнал_образцов!A208,Журнал_образцов!B208,0)+1 -> 205 | C209: =CONCATENATE(Журнал_образцов!A209,"-",TEXT(Журнал_образцов!B209,"00")) -> -205 | D209: =LOOKUP(Журнал_образцов!A209,Журнал_заявок!A$3:A226,Журнал_заявок!B$3:B226) -> #N/A | E209: =LOOKUP(Журнал_образцов!A209,Журнал_заявок!$A$3:$A226,Журнал_заявок!H$3:H226) -> #N/A | J209: =LOOKUP(Журнал_образцов!F209,справочник!K$2:K608,справочник!L$2:L608) -> #N/A | L209: =VLOOKUP(F209,справочник!K$1:M$250,3,1) -> #N/A | M209: =LOOKUP(Журнал_образцов!$A209,Журнал_заявок!A$3:$A226,Журнал_заявок!J$3:J226) -> #N/A | N209: =LOOKUP(Журнал_образцов!$A209,Журнал_заявок!$A$3:B226,Журнал_заявок!K$3:K226) -> #N/A | U209: =LOOKUP(Журнал_образцов!$A209,Журнал_заявок!$A$3:$A226,Журнал_заявок!$D$3:$D226) -> #N/A | V209: =LOOKUP(Журнал_образцов!$A209,Журнал_заявок!$A$3:$A3763,Журнал_заявок!$L$3:$L3763) -> #N/A | W209: =CONCATENATE(G209,H209," ",IF(A209=A210,IF(F209=F210," ",F209),F209)," ",I209,J209,", ") -> #N/A | X209: =W209&IF(Журнал_образцов!A209=Журнал_образцов!A208,Журнал_образцов!X208,) -> #N/A
B210: =IF(Журнал_образцов!A210=Журнал_образцов!A209,Журнал_образцов!B209,0)+1 -> 206 | C210: =CONCATENATE(Журнал_образцов!A210,"-",TEXT(Журнал_образцов!B210,"00")) -> -206 | D210: =LOOKUP(Журнал_образцов!A210,Журнал_заявок!A$3:A227,Журнал_заявок!B$3:B227) -> #N/A | E210: =LOOKUP(Журнал_образцов!A210,Журнал_заявок!$A$3:$A227,Журнал_заявок!H$3:H227) -> #N/A | J210: =LOOKUP(Журнал_образцов!F210,справочник!K$2:K609,справочник!L$2:L609) -> #N/A | L210: =VLOOKUP(F210,справочник!K$1:M$250,3,1) -> #N/A | M210: =LOOKUP(Журнал_образцов!$A210,Журнал_заявок!A$3:$A227,Журнал_заявок!J$3:J227) -> #N/A | N210: =LOOKUP(Журнал_образцов!$A210,Журнал_заявок!$A$3:B227,Журнал_заявок!K$3:K227) -> #N/A | U210: =LOOKUP(Журнал_образцов!$A210,Журнал_заявок!$A$3:$A227,Журнал_заявок!$D$3:$D227) -> #N/A | V210: =LOOKUP(Журнал_образцов!$A210,Журнал_заявок!$A$3:$A3764,Журнал_заявок!$L$3:$L3764) -> #N/A | W210: =CONCATENATE(G210,H210," ",IF(A210=A211,IF(F210=F211," ",F210),F210)," ",I210,J210,", ") -> #N/A | X210: =W210&IF(Журнал_образцов!A210=Журнал_образцов!A209,Журнал_образцов!X209,) -> #N/A
B211: =IF(Журнал_образцов!A211=Журнал_образцов!A210,Журнал_образцов!B210,0)+1 -> 207 | C211: =CONCATENATE(Журнал_образцов!A211,"-",TEXT(Журнал_образцов!B211,"00")) -> -207 | D211: =LOOKUP(Журнал_образцов!A211,Журнал_заявок!A$3:A228,Журнал_заявок!B$3:B228) -> #N/A | E211: =LOOKUP(Журнал_образцов!A211,Журнал_заявок!$A$3:$A228,Журнал_заявок!H$3:H228) -> #N/A | J211: =LOOKUP(Журнал_образцов!F211,справочник!K$2:K610,справочник!L$2:L610) -> #N/A | L211: =VLOOKUP(F211,справочник!K$1:M$250,3,1) -> #N/A | M211: =LOOKUP(Журнал_образцов!$A211,Журнал_заявок!A$3:$A228,Журнал_заявок!J$3:J228) -> #N/A | N211: =LOOKUP(Журнал_образцов!$A211,Журнал_заявок!$A$3:B228,Журнал_заявок!K$3:K228) -> #N/A | U211: =LOOKUP(Журнал_образцов!$A211,Журнал_заявок!$A$3:$A228,Журнал_заявок!$D$3:$D228) -> #N/A | V211: =LOOKUP(Журнал_образцов!$A211,Журнал_заявок!$A$3:$A3765,Журнал_заявок!$L$3:$L3765) -> #N/A | W211: =CONCATENATE(G211,H211," ",IF(A211=A212,IF(F211=F212," ",F211),F211)," ",I211,J211,", ") -> #N/A | X211: =W211&IF(Журнал_образцов!A211=Журнал_образцов!A210,Журнал_образцов!X210,) -> #N/A
B212: =IF(Журнал_образцов!A212=Журнал_образцов!A211,Журнал_образцов!B211,0)+1 -> 208 | C212: =CONCATENATE(Журнал_образцов!A212,"-",TEXT(Журнал_образцов!B212,"00")) -> -208 | D212: =LOOKUP(Журнал_образцов!A212,Журнал_заявок!A$3:A229,Журнал_заявок!B$3:B229) -> #N/A | E212: =LOOKUP(Журнал_образцов!A212,Журнал_заявок!$A$3:$A229,Журнал_заявок!H$3:H229) -> #N/A | J212: =LOOKUP(Журнал_образцов!F212,справочник!K$2:K611,справочник!L$2:L611) -> #N/A | L212: =VLOOKUP(F212,справочник!K$1:M$250,3,1) -> #N/A | M212: =LOOKUP(Журнал_образцов!$A212,Журнал_заявок!A$3:$A229,Журнал_заявок!J$3:J229) -> #N/A | N212: =LOOKUP(Журнал_образцов!$A212,Журнал_заявок!$A$3:B229,Журнал_заявок!K$3:K229) -> #N/A | U212: =LOOKUP(Журнал_образцов!$A212,Журнал_заявок!$A$3:$A229,Журнал_заявок!$D$3:$D229) -> #N/A | V212: =LOOKUP(Журнал_образцов!$A212,Журнал_заявок!$A$3:$A3766,Журнал_заявок!$L$3:$L3766) -> #N/A | W212: =CONCATENATE(G212,H212," ",IF(A212=A213,IF(F212=F213," ",F212),F212)," ",I212,J212,", ") -> #N/A | X212: =W212&IF(Журнал_образцов!A212=Журнал_образцов!A211,Журнал_образцов!X211,) -> #N/A
B213: =IF(Журнал_образцов!A213=Журнал_образцов!A212,Журнал_образцов!B212,0)+1 -> 209 | C213: =CONCATENATE(Журнал_образцов!A213,"-",TEXT(Журнал_образцов!B213,"00")) -> -209 | D213: =LOOKUP(Журнал_образцов!A213,Журнал_заявок!A$3:A230,Журнал_заявок!B$3:B230) -> #N/A | E213: =LOOKUP(Журнал_образцов!A213,Журнал_заявок!$A$3:$A230,Журнал_заявок!H$3:H230) -> #N/A | J213: =LOOKUP(Журнал_образцов!F213,справочник!K$2:K612,справочник!L$2:L612) -> #N/A | L213: =VLOOKUP(F213,справочник!K$1:M$250,3,1) -> #N/A | M213: =LOOKUP(Журнал_образцов!$A213,Журнал_заявок!A$3:$A230,Журнал_заявок!J$3:J230) -> #N/A | N213: =LOOKUP(Журнал_образцов!$A213,Журнал_заявок!$A$3:B230,Журнал_заявок!K$3:K230) -> #N/A | U213: =LOOKUP(Журнал_образцов!$A213,Журнал_заявок!$A$3:$A230,Журнал_заявок!$D$3:$D230) -> #N/A | V213: =LOOKUP(Журнал_образцов!$A213,Журнал_заявок!$A$3:$A3767,Журнал_заявок!$L$3:$L3767) -> #N/A | W213: =CONCATENATE(G213,H213," ",IF(A213=A214,IF(F213=F214," ",F213),F213)," ",I213,J213,", ") -> #N/A | X213: =W213&IF(Журнал_образцов!A213=Журнал_образцов!A212,Журнал_образцов!X212,) -> #N/A
B214: =IF(Журнал_образцов!A214=Журнал_образцов!A213,Журнал_образцов!B213,0)+1 -> 210 | C214: =CONCATENATE(Журнал_образцов!A214,"-",TEXT(Журнал_образцов!B214,"00")) -> -210 | D214: =LOOKUP(Журнал_образцов!A214,Журнал_заявок!A$3:A231,Журнал_заявок!B$3:B231) -> #N/A | E214: =LOOKUP(Журнал_образцов!A214,Журнал_заявок!$A$3:$A231,Журнал_заявок!H$3:H231) -> #N/A | J214: =LOOKUP(Журнал_образцов!F214,справочник!K$2:K613,справочник!L$2:L613) -> #N/A | L214: =VLOOKUP(F214,справочник!K$1:M$250,3,1) -> #N/A | M214: =LOOKUP(Журнал_образцов!$A214,Журнал_заявок!A$3:$A231,Журнал_заявок!J$3:J231) -> #N/A | N214: =LOOKUP(Журнал_образцов!$A214,Журнал_заявок!$A$3:B231,Журнал_заявок!K$3:K231) -> #N/A | U214: =LOOKUP(Журнал_образцов!$A214,Журнал_заявок!$A$3:$A231,Журнал_заявок!$D$3:$D231) -> #N/A | V214: =LOOKUP(Журнал_образцов!$A214,Журнал_заявок!$A$3:$A3768,Журнал_заявок!$L$3:$L3768) -> #N/A | W214: =CONCATENATE(G214,H214," ",IF(A214=A215,IF(F214=F215," ",F214),F214)," ",I214,J214,", ") -> #N/A | X214: =W214&IF(Журнал_образцов!A214=Журнал_образцов!A213,Журнал_образцов!X213,) -> #N/A
B215: =IF(Журнал_образцов!A215=Журнал_образцов!A214,Журнал_образцов!B214,0)+1 -> 211 | C215: =CONCATENATE(Журнал_образцов!A215,"-",TEXT(Журнал_образцов!B215,"00")) -> -211 | D215: =LOOKUP(Журнал_образцов!A215,Журнал_заявок!A$3:A232,Журнал_заявок!B$3:B232) -> #N/A | E215: =LOOKUP(Журнал_образцов!A215,Журнал_заявок!$A$3:$A232,Журнал_заявок!H$3:H232) -> #N/A | J215: =LOOKUP(Журнал_образцов!F215,справочник!K$2:K614,справочник!L$2:L614) -> #N/A | L215: =VLOOKUP(F215,справочник!K$1:M$250,3,1) -> #N/A | M215: =LOOKUP(Журнал_образцов!$A215,Журнал_заявок!A$3:$A232,Журнал_заявок!J$3:J232) -> #N/A | N215: =LOOKUP(Журнал_образцов!$A215,Журнал_заявок!$A$3:B232,Журнал_заявок!K$3:K232) -> #N/A | U215: =LOOKUP(Журнал_образцов!$A215,Журнал_заявок!$A$3:$A232,Журнал_заявок!$D$3:$D232) -> #N/A | V215: =LOOKUP(Журнал_образцов!$A215,Журнал_заявок!$A$3:$A3769,Журнал_заявок!$L$3:$L3769) -> #N/A | W215: =CONCATENATE(G215,H215," ",IF(A215=A216,IF(F215=F216," ",F215),F215)," ",I215,J215,", ") -> #N/A | X215: =W215&IF(Журнал_образцов!A215=Журнал_образцов!A214,Журнал_образцов!X214,) -> #N/A
B216: =IF(Журнал_образцов!A216=Журнал_образцов!A215,Журнал_образцов!B215,0)+1 -> 212 | C216: =CONCATENATE(Журнал_образцов!A216,"-",TEXT(Журнал_образцов!B216,"00")) -> -212 | D216: =LOOKUP(Журнал_образцов!A216,Журнал_заявок!A$3:A233,Журнал_заявок!B$3:B233) -> #N/A | E216: =LOOKUP(Журнал_образцов!A216,Журнал_заявок!$A$3:$A233,Журнал_заявок!H$3:H233) -> #N/A | J216: =LOOKUP(Журнал_образцов!F216,справочник!K$2:K615,справочник!L$2:L615) -> #N/A | L216: =VLOOKUP(F216,справочник!K$1:M$250,3,1) -> #N/A | M216: =LOOKUP(Журнал_образцов!$A216,Журнал_заявок!A$3:$A233,Журнал_заявок!J$3:J233) -> #N/A | N216: =LOOKUP(Журнал_образцов!$A216,Журнал_заявок!$A$3:B233,Журнал_заявок!K$3:K233) -> #N/A | U216: =LOOKUP(Журнал_образцов!$A216,Журнал_заявок!$A$3:$A233,Журнал_заявок!$D$3:$D233) -> #N/A | V216: =LOOKUP(Журнал_образцов!$A216,Журнал_заявок!$A$3:$A3770,Журнал_заявок!$L$3:$L3770) -> #N/A | W216: =CONCATENATE(G216,H216," ",IF(A216=A217,IF(F216=F217," ",F216),F216)," ",I216,J216,", ") -> #N/A | X216: =W216&IF(Журнал_образцов!A216=Журнал_образцов!A215,Журнал_образцов!X215,) -> #N/A
B217: =IF(Журнал_образцов!A217=Журнал_образцов!A216,Журнал_образцов!B216,0)+1 -> 213 | C217: =CONCATENATE(Журнал_образцов!A217,"-",TEXT(Журнал_образцов!B217,"00")) -> -213 | D217: =LOOKUP(Журнал_образцов!A217,Журнал_заявок!A$3:A234,Журнал_заявок!B$3:B234) -> #N/A | E217: =LOOKUP(Журнал_образцов!A217,Журнал_заявок!$A$3:$A234,Журнал_заявок!H$3:H234) -> #N/A | J217: =LOOKUP(Журнал_образцов!F217,справочник!K$2:K616,справочник!L$2:L616) -> #N/A | L217: =VLOOKUP(F217,справочник!K$1:M$250,3,1) -> #N/A | M217: =LOOKUP(Журнал_образцов!$A217,Журнал_заявок!A$3:$A234,Журнал_заявок!J$3:J234) -> #N/A | N217: =LOOKUP(Журнал_образцов!$A217,Журнал_заявок!$A$3:B234,Журнал_заявок!K$3:K234) -> #N/A | U217: =LOOKUP(Журнал_образцов!$A217,Журнал_заявок!$A$3:$A234,Журнал_заявок!$D$3:$D234) -> #N/A | V217: =LOOKUP(Журнал_образцов!$A217,Журнал_заявок!$A$3:$A3771,Журнал_заявок!$L$3:$L3771) -> #N/A | W217: =CONCATENATE(G217,H217," ",IF(A217=A218,IF(F217=F218," ",F217),F217)," ",I217,J217,", ") -> #N/A | X217: =W217&IF(Журнал_образцов!A217=Журнал_образцов!A216,Журнал_образцов!X216,) -> #N/A
... B369: =IF(Журнал_образцов!A369=Журнал_образцов!A368,Журнал_образцов!B368,0)+1 -> 365 | C369: =CONCATENATE(Журнал_образцов!A369,"-",TEXT(Журнал_образцов!B369,"00")) -> -365 | D369: =LOOKUP(Журнал_образцов!A369,Журнал_заявок!A$3:A386,Журнал_заявок!B$3:B386) -> #N/A | E369: =LOOKUP(Журнал_образцов!A369,Журнал_заявок!$A$3:$A386,Журнал_заявок!H$3:H386) -> #N/A | J369: =LOOKUP(Журнал_образцов!F369,справочник!K$2:K768,справочник!L$2:L768) -> #N/A | L369: =VLOOKUP(F369,справочник!K$1:M$250,3,1) -> #N/A | M369: =LOOKUP(Журнал_образцов!$A369,Журнал_заявок!A$3:$A386,Журнал_заявок!J$3:J386) -> #N/A | N369: =LOOKUP(Журнал_образцов!$A369,Журнал_заявок!$A$3:B386,Журнал_заявок!K$3:K386) -> #N/A | U369: =LOOKUP(Журнал_образцов!$A369,Журнал_заявок!$A$3:$A386,Журнал_заявок!$D$3:$D386) -> #N/A | V369: =LOOKUP(Журнал_образцов!$A369,Журнал_заявок!$A$3:$A3923,Журнал_заявок!$L$3:$L3923) -> #N/A | W369: =CONCATENATE(G369,H369," ",IF(A369=A370,IF(F369=F370," ",F369),F369)," ",I369,J369,", ") -> #N/A | X369: =W369&IF(Журнал_образцов!A369=Журнал_образцов!A368,Журнал_образцов!X368,) -> #N/A
B370: =IF(Журнал_образцов!A370=Журнал_образцов!A369,Журнал_образцов!B369,0)+1 -> 366 | C370: =CONCATENATE(Журнал_образцов!A370,"-",TEXT(Журнал_образцов!B370,"00")) -> -366 | D370: =LOOKUP(Журнал_образцов!A370,Журнал_заявок!A$3:A387,Журнал_заявок!B$3:B387) -> #N/A | E370: =LOOKUP(Журнал_образцов!A370,Журнал_заявок!$A$3:$A387,Журнал_заявок!H$3:H387) -> #N/A | J370: =LOOKUP(Журнал_образцов!F370,справочник!K$2:K769,справочник!L$2:L769) -> #N/A | L370: =VLOOKUP(F370,справочник!K$1:M$250,3,1) -> #N/A | M370: =LOOKUP(Журнал_образцов!$A370,Журнал_заявок!A$3:$A387,Журнал_заявок!J$3:J387) -> #N/A | N370: =LOOKUP(Журнал_образцов!$A370,Журнал_заявок!$A$3:B387,Журнал_заявок!K$3:K387) -> #N/A

Sheet Договора
A1: № п/п | B1: Номер договора | C1: Дата договора | D1: оригинал | E1: Наименование организации / Ф.И.О. | F1: Юр.адрес | G1: ИНН | H1: КПП | I1: Представитель | J1: Контакты | K1: почт. Адрес
A2: 1 | B2: 23 | E2: ООО Травы сухие | F2: какая улица | G2: 02556868 | H2: 0202 | I2: нет | J2: нет | K2: нет
A3: 2
A4: 3
A5: 4
A6: 5
A7: 6
A8: 7
A9: 8
A10: 9
A11: 10
A12: 11
A13: 12
A14: 13
... A401: 400

Sheet Доверенности контакты
A1: Наименование организации | B1: № доверенности | C1: Дата доверенности | D1: Ф.И.О. представителя | E1: Контактные данные (тел., эл. почта)

Sheet акт отбора
B1: ФЕДЕРАЛЬНАЯ СЛУЖБА ПО ВЕТЕРИНАРНОМУ И ФИТОСАНИТАРНОМУ НАДЗОРУ (Россельхознадзор) Протокол досмотра и отбора образцов (проб) подкарантинной продукции
C3: № | D3: 08-0001 | E3: от | F3: =LOOKUP($D$3,Журнал_заявок!A3:A1460,Журнал_заявок!H3:H1460) -> 44972
B5: По заявке от | D5: =LOOKUP($D$3,Журнал_заявок!$A$3:$A$8460,Журнал_заявок!D3:D8460) -> ООО Травы сухие
B6: Юр. адрес: | D6: =VLOOKUP(D5,Договора!E1:F499,2,0) -> какая улица
B8: в присутствии представителя (ей) | F8: =VLOOKUP(D5,Договора!E1:I500,5,0) -> нет
I9: должность, Ф.И.О.
B11: В соответствии с Федеральным законом от 21.07.2014 № 206-ФЗ «О карантине растений», произведен досмотр партий подкарантинной продукции:
B13: =VLOOKUP($D$3,Журнал_образцов!$A2:$X4931,24) -> авто - f456ds Сухофрукты (ассортимент) 10т, авто - f456ds Шиповника плоды 10т
B14: (транспортное средство - (а/м, ж/д, контейнер и др), наименование подкарантинной продукции, количество).
B16: В результате досмотра _____________________________________________________________ произведен отбор проб от партии в соответствии с
B18: Количество отобранных образцов | E18: =LOOKUP(LOOKUP($D$3,Журнал_заявок!A3:A1460,Журнал_заявок!G3:G1460),справочник!A2:A1301,справочник!C2:C1001) -> 1 (один) | H18: шт.
B20: Отобранные пробы упакованы, опечатаны и направляются в
B21: Примечание: отобранные образцы подлежат, не подлежат возврату. (нужное подчеркнуть)
B23: Представитель заявителя | I23: =F8 -> нет
G24: (подпись) | J24: (Ф.И.О.)
G26: (подпись) (Ф.И.О.)
B27: Сотрудник центра | I27: =LOOKUP($D$3,Журнал_заявок!$A$3:$A$8460,Журнал_заявок!F3:F8460) -> руководитель
G28: (подпись) (Ф.И.О.)

Sheet справочник
A1: Количество образцов прописью | F1: Сотрудники Центра | H1: Транспорт | J1: Категория материала | K1: Наименование материала | L1: Ед. измерения | M1: Количество образцов | N1: ЭНТ | O1: ГЕРБ | P1: ГЕЛ | Q1: ПЦР
A2: 1 | B2: один | C2: =CONCATENATE(A2," (",B2,")") -> 1 (один) | F2: руководитель | H2: авто - | J2: Овощи, фрукты свежие | K2: Баклажаны свежие | L2: т | M2: 50шт | N2: 1
A3: 2 | B3: два | C3: =CONCATENATE(A3," (",B3,")") -> 2 (два) | F3: сотрудник | H3: вагон - | J3: Тара | K3: Барабан деревянный | L3: шт | M3: 100г | N3: 1
A4: 3 | B4: три | C4: =CONCATENATE(A4," (",B4,")") -> 3 (три) | H4: контейнер - | J4: Тара | K4: Бочонок деревянный | L4: шт | M4: 1шт | N4: 1
A5: 4 | B5: четыре | C5: =CONCATENATE(A5," (",B5,")") -> 4 (четыре) | H5: судно - | J5: Пиломатериалы | K5: Брус деревянный (лиственных пород) | L5: куб м | M5: 100г | N5: 1
A6: 5 | B6: пять | C6: =CONCATENATE(A6," (",B6,")") -> 5 (пять) | H6: почта - | J6: Пиломатериалы | K6: Брус деревянный (хвойных пород) | L6: куб м | M6: 100г | N6: 1
A7: 6 | B7: шесть | C7: =CONCATENATE(A7," (",B7,")") -> 6 (шесть) | J7: Семена | K7: Вика (семена) | L7: т | M7: 1кг | N7: 1 | O7: 1
A8: 7 | B8: семь | C8: =CONCATENATE(A8," (",B8,")") -> 7 (семь) | J8: Семена | K8: Вика кормовая | L8: т | M8: 1кг | N8: 1 | O8: 1
A9: 8 | B9: восемь | C9: =CONCATENATE(A9," (",B9,")") -> 8 (восемь) | J9: Овощи, фрукты свежие | K9: Виноград свежий | L9: т | M9: 1кг | N9: 1
A10: 9 | B10: девять | C10: =CONCATENATE(A10," (",B10,")") -> 9 (девять) | J10: Обследование | K10: Гербарный материал | L10: га | M10: 1шт | O10: 1
A11: 10 | B11: десять | C11: =CONCATENATE(A11," (",B11,")") -> 10 (десять) | F11: Кто-то | J11: Зернобобовые (горох, нут, фасоль, соя, бобы) | K11: Горох (зерно) | L11: т | M11: 1кг | N11: 1 | O11: 1
A12: 11 | B12: одиннадцать | C12: =CONCATENATE(A12," (",B12,")") -> 11 (одиннадцать) | J12: Крупа и солод | K12: Горох колотый (крупа) | L12: т | M12: 1кг | N12: 1 | O12: 1
A13: 12 | B13: двенадцать | C13: =CONCATENATE(A13," (",B13,")") -> 12 (двенадцать) | J13: Овощи, фрукты свежие | K13: Гранат свежий | L13: т | M13: 15шт | N13: 1 | O13: 1
A14: 13 | B14: тринадцать | C14: =CONCATENATE(A14," (",B14,")") -> 13 (тринадцать) | J14: Зерно 1-4 класс | K14: Гречиха | L14: т | M14: 500г | N14: 1 | O14: 1
A15: 14 | B15: четырнадцать | C15: =CONCATENATE(A15," (",B15,")") -> 14 (четырнадцать) | J15: Крупа и солод | K15: Гречневая крупа | L15: т | M15: 1 кг | N15: 1 | O15: 1
A16: 15 | B16: пятнадцать | C16: =CONCATENATE(A16," (",B16,")") -> 15 (пятнадцать) | J16: Овощи, фрукты свежие | K16: Груша свежая | L16: т | M16: 75шт | N16: 1 | O16: 1
A17: 16 | B17: шестнадцать | C17: =CONCATENATE(A17," (",B17,")") -> 16 (шестнадцать) | J17: Деревянные изделия | K17: Деревянные изделия (лиственных пород) | L17: куб м | M17: 100г | N17: 1
A18: 17 | B18: семнадцать | C18: =CONCATENATE(A18," (",B18,")") -> 17 (семнадцать) | J18: Деревянные изделия | K18: Деревянные изделия (лиственных пород) | L18: шт | M18: 100г | N18: 1
A19: 18 | B19: восемнадцать | C19: =CONCATENATE(A19," (",B19,")") -> 18 (восемнадцать) | J19: Деревянные изделия | K19: Деревянные изделия (хвойных пород) | L19: куб м | M19: 100г | N19: 1 | P19: 1
A20: 19 | B20: девятнадцать | C20: =CONCATENATE(A20," (",B20,")") -> 19 (девятнадцать) | J20: Деревянные изделия | K20: Деревянные изделия (хвойных пород) | L20: шт | M20: 100г | N20: 1 | P20: 1
A21: 20 | B21: двадцать | C21: =CONCATENATE(A21," (",B21,")") -> 20 (двадцать) | J21: Овощи, фрукты свежие | K21: Дыни свежие | L21: т | M21: 50шт | N21: 1
A22: 21 | B22: двадцать один | C22: =CONCATENATE(A22," (",B22,")") -> 21 (двадцать один) | J22: Прочее | K22: Ель новогодняя | L22: шт | M22: 5шт | N22: 1 | P22: 1
A23: 22 | B23: двадцать два | C23: =CONCATENATE(A23," (",B23,")") -> 22 (двадцать два) | J23: Жмых и шрот | K23: Жмых подсолнечника | L23: т | M23: 1кг | N23: 1 | O23: 1
A24: 23 | B24: двадцать три | C24: =CONCATENATE(A24," (",B24,")") -> 23 (двадцать три) | J24: Овощи, фрукты свежие | K24: Капуста белокочаная | L24: т | M24: 50 шт | N24: 1
A25: 24 | B25: двадцать четыре | C25: =CONCATENATE(A25," (",B25,")") -> 24 (двадцать четыре) | J25: Овощи, фрукты свежие | K25: Капуста пекинская свежая | L25: т | M25: 50шт | N25: 1
A26: 25 | B26: двадцать пять | C26: =CONCATENATE(A26," (",B26,")") -> 25 (двадцать пять) | J26: Овощи, фрукты свежие | K26: Капуста свежая | L26: т | M26: 50шт | N26: 1
A27: 26 | B27: двадцать шесть | C27: =CONCATENATE(A27," (",B27,")") -> 26 (двадцать шесть) | J27: Овощи, фрукты свежие | K27: Картофель свежий продовольственный | L27: т | M27: 50шт | N27: 1 | O27: 1 | P27: 1
A28: 27 | B28: двадцать семь | C28: =CONCATENATE(A28," (",B28,")") -> 27 (двадцать семь) | J28: Овощи, фрукты свежие | K28: Киви | L28: т | M28: 75шт | N28: 1
A29: 28 | B29: двадцать восемь | C29: =CONCATENATE(A29," (",B29,")") -> 28 (двадцать восемь) | J29: Семена | K29: клевер луговой (семена) | L29: т | M29: 250г | N29: 1 | O29: 1
A30: 29 | B30: двадцать девять | C30: =CONCATENATE(A30," (",B30,")") -> 29 (двадцать девять) | J30: Крупа и солод | K30: Крупа пшеничная полтавская | L30: т | M30: 1кг | N30: 1 | O30: 1
A31: 30 | B31: тридцать | C31: =CONCATENATE(A31," (",B31,")") -> 30 (тридцать) | J31: Семена | K31: Лён (семена) | L31: т | M31: 500г | N31: 1 | O31: 1
A32: 31 | B32: тридцать один | C32: =CONCATENATE(A32," (",B32,")") -> 31 (тридцать один) | J32: Масличные культуры | K32: Лен масличный на переработку | L32: т | M32: 0,5кг | N32: 1 | O32: 1
A33: 32 | B33: тридцать два | C33: =CONCATENATE(A33," (",B33,")") -> 32 (тридцать два) | J33: Лесоматериалы | K33: Лесоматериал (лиственных пород) | L33: куб м | M33: 100г | N33: 1
A34: 33 | B34: тридцать три | C34: =CONCATENATE(A34," (",B34,")") -> 33 (тридцать три) | J34: Лесоматериалы | K34: Лесоматериал (хвойных пород) | L34: куб м | M34: 100г | N34: 1 | P34: 1
A35: 34 | B35: тридцать четыре | C35: =CONCATENATE(A35," (",B35,")") -> 34 (тридцать четыре) | J35: Овощи, фрукты свежие | K35: Лук репчатый | L35: т | M35: 50шт | N35: 1 | O35: 1 | P35: 1
A36: 35 | B36: тридцать пять | C36: =CONCATENATE(A36," (",B36,")") -> 35 (тридцать пять) | J36: Посадочный материал | K36: Луковицы тюльпанов | L36: шт | M36: 20шт | N36: 1 | O36: 1 | P36: 1 | Q36: 1
A37: 36 | B37: тридцать шесть | C37: =CONCATENATE(A37," (",B37,")") -> 36 (тридцать шесть) | J37: Семена | K37: люпин многолетний (семена) | L37: т | M37: 1кг | N37: 1 | O37: 1
A38: 37 | B38: тридцать семь | C38: =CONCATENATE(A38," (",B38,")") -> 37 (тридцать семь) | J38: Семена | K38: люцерна изменчивая (семена) | L38: т | M38: 250г | N38: 1 | O38: 1
A39: 38 | B39: тридцать восемь | C39: =CONCATENATE(A39," (",B39,")") -> 38 (тридцать восемь) | J39: Крупа и солод | K39: Манная крупа | L39: т | M39: 1кг | N39: 1 | O39: 1
A40: 39 | B40: тридцать девять | C40: =CONCATENATE(A40," (",B40,")") -> 39 (тридцать девять) | J40: Овощи, фрукты свежие | K40: Мандарины свежие | L40: т | M40: 75шт | N40: 1
A41: 40 | B41: сорок | C41: =CONCATENATE(A41," (",B41,")") -> 40 (сорок) | J41: Овощи, фрукты свежие | K41: Морковь свежая | L41: т | M41: 50шт | N41: 1 | O41: 1 | P41: 1
A42: 41 | B42: сорок один | C42: =CONCATENATE(A42," (",B42,")") -> 41 (сорок один) | J42: Мука | K42: Мука пшеничная | L42: т | M42: 100г | N42: 1 | O42: 1
A43: 42 | B43: сорок два | C43: =CONCATENATE(A43," (",B43,")") -> 42 (сорок два) | J43: Мука | K43: мука ржаная | L43: т | M43: 1кг | N43: 1 | O43: 1
A44: 43 | B44: сорок три | C44: =CONCATENATE(A44," (",B44,")") -> 43 (сорок три) | J44: Мука | K44: Мука соевая | L44: т | M44: 1кг | N44: 1 | O44: 1
A45: 44 | B45: сорок четыре | C45: =CONCATENATE(A45," (",B45,")") -> 44 (сорок четыре) | J45: Деревянные изделия | K45: Наборы деревянные | L45: шт | M45: 100г | N45: 1 | P45: 1
A46: 45 | B46: сорок пять | C46: =CONCATENATE(A46," (",B46,")") -> 45 (сорок пять) | J46: Зернобобовые (горох, нут, фасоль, соя, бобы) | K46: Нут (зерно) | L46: т | M46: 1кг | N46: 1 | O46: 1
A47: 46 | B47: сорок шесть | C47: =CONCATENATE(A47," (",B47,")") -> 46 (сорок шесть) | J47: Пиломатериалы | K47: Обшивка стеновая сращенная (вагонка) | L47: куб м | M47: 100г | N47: 1 | O47: 1
A48: 47 | B48: сорок семь | C48: =CONCATENATE(A48," (",B48,")") -> 47 (сорок семь) | J48: Зерно 1-4 класс | K48: Овес (зерно) | L48: т | M48: 1 кг | N48: 1 | O48: 1
A49: 48 | B49: сорок восемь | C49: =CONCATENATE(A49," (",B49,")") -> 48 (сорок восемь) | J49: Семена | K49: Овес (семена) | L49: т | M49: 1 кг | N49: 1 | O49: 1
A50: 49 | B50: сорок девять | C50: =CONCATENATE(A50," (",B50,")") -> 49 (сорок девять) | J50: Крупа и солод | K50: Овсяные хлопья | L50: т | M50: 1кг | N50: 1 | O50: 1
A51: 50 | B51: пятьдесят | C51: =CONCATENATE(A51," (",B51,")") -> 50 (пятьдесят) | J51: Овощи, фрукты свежие | K51: Перец свежий | L51: т | M51: 50шт | N51: 1
A52: 51 | B52: пятьдесят один | C52: =CONCATENATE(A52," (",B52,")") -> 51 (пятьдесят один) | J52: Овощи, фрукты свежие | K52: Перец чили | L52: т | M52: 50шт | N52: 1
A53: 52 | B53: пятьдесят два | C53: =CONCATENATE(A53," (",B53,")") -> 52 (пятьдесят два) | J53: Крупа и солод | K53: Перловая крупа | L53: т | M53: 1кг | N53: 1 | O53: 1
A54: 53 | B54: пятьдесят три | C54: =CONCATENATE(A54," (",B54,")") -> 53 (пятьдесят три) | J54: Пиломатериалы | K54: Пиломатериал (лиственных пород) | L54: куб.м. | M54: 100г | N54: 1
A55: 54 | B55: пятьдесят четыре | C55: =CONCATENATE(A55," (",B55,")") -> 54 (пятьдесят четыре) | J55: Пиломатериалы | K55: Пиломатериалы (хвойных пород) | L55: куб м | M55: 100г | N55: 1 | P55: 1
A56: 55 | B56: пятьдесят пять | C56: =CONCATENATE(A56," (",B56,")") -> 55 (пятьдесят пять) | J56: Тара | K56: Поддоны деревянные | L56: шт | M56: 100г | N56: 1 | P56: 1
A57: 56 | B57: пятьдесят шесть | C57: =CONCATENATE(A57," (",B57,")") -> 56 (пятьдесят шесть) | J57: Масличные культуры | K57: Подсолнечник (на переработку) | L57: т | M57: 1кг | N57: 1 | O57: 1
A58: 57 | B58: пятьдесят семь | C58: =CONCATENATE(A58," (",B58,")") -> 57 (пятьдесят семь) | J58: Семена | K58: Подсолнечник (семена) | L58: т | M58: 1кг | N58: 1 | O58: 1 | Q58: 1
A59: 58 | B59: пятьдесят восемь | C59: =CONCATENATE(A59," (",B59,")") -> 58 (пятьдесят восемь) | J59: Овощи, фрукты свежие | K59: Помидоры свежие | L59: т | M59: 50шт | N59: 1
A60: 59 | B60: пятьдесят девять | C60: =CONCATENATE(A60," (",B60,")") -> 59 (пятьдесят девять) | J60: Обследование | K60: Почва | L60: га | M60: 0,25кг | P60: 1
A61: 60 | B61: шестьдесят | C61: =CONCATENATE(A61," (",B61,")") -> 60 (шестьдесят) | J61: Зерно 1-4 класс | K61: Пшеница мягкая (зерно) | L61: т | M61: 1кг | N61: 1 | O61: 1
A62: 61 | B62: шестьдесят один | C62: =CONCATENATE(A62," (",B62,")") -> 61 (шестьдесят один) | J62: Семена | K62: Пшеница мягкая (семена) | L62: т | M62: 1кг | N62: 1 | O62: 1
A63: 62 | B63: шестьдесят два | C63: =CONCATENATE(A63," (",B63,")") -> 62 (шестьдесят два) | J63: Зерно 1-4 класс | K63: Пшеница твердая (зерно) | L63: т | M63: 1кг | N63: 1 | O63: 1
A64: 63 | B64: шестьдесят три | C64: =CONCATENATE(A64," (",B64,")") -> 63 (шестьдесят три) | J64: Семена | K64: Пшеница твердая (семена) | L64: т | M64: 1кг | N64: 1 | O64: 1
A65: 64 | B65: шестьдесят четыре | C65: =CONCATENATE(A65," (",B65,")") -> 64 (шестьдесят четыре) | J65: Крупа и солод | K65: Пшено крупа | L65: т | M65: 1кг | N65: 1 | O65: 1
A66: 65 | B66: шестьдесят пять | C66: =CONCATENATE(A66," (",B66,")") -> 65 (шестьдесят пять) | J66: Семена | K66: Рапс (семена) | L66: т | M66: 100г | N66: 1 | O66: 1
A67: 66 | B67: шестьдесят шесть | C67: =CONCATENATE(A67," (",B67,")") -> 66 (шестьдесят шесть) | J67: Масличные культуры | K67: Рапс на переработку | L67: т | M67: 100г | N67: 1 | O67: 1
A68: 67 | B68: шестьдесят семь | C68: =CONCATENATE(A68," (",B68,")") -> 67 (шестьдесят семь) | J68: Овощи, фрукты свежие | K68: Редька свежая | L68: т | M68: 50шт | N68: 1 | O68: 1 | P68: 1
A69: 68 | B69: шестьдесят восемь | C69: =CONCATENATE(A69," (",B69,")") -> 68 (шестьдесят восемь) | J69: Крупа и солод | K69: Рис дробленный | L69: т | M69: 1кг | N69: 1 | O69: 1
A70: 69 | B70: шестьдесят девять | C70: =CONCATENATE(A70," (",B70,")") -> 69 (шестьдесят девять) | J70: Зерно 1-4 класс | K70: Рожь (зерно) | L70: т | M70: 1кг | N70: 1 | O70: 1
A71: 70 | B71: семьдесят | C71: =CONCATENATE(A71," (",B71,")") -> 70 (семьдесят) | J71: Семена | K71: Рожь (семена) | L71: т | M71: 1 кг | N71: 1 | O71: 1
A72: 71 | B72: семьдесят один | C72: =CONCATENATE(A72," (",B72,")") -> 71 (семьдесят один) | J72: Семена | K72: Рыжик (семена) | L72: т | M72: 100г | N72: 1 | O72: 1
A73: 72 | B73: семьдесят два | C73: =CONCATENATE(A73," (",B73,")") -> 72 (семьдесят два) | J73: Масличные культуры | K73: Рыжик на переработку | L73: т | M73: 100г | N73: 1 | O73: 1
A74: 73 | B74: семьдесят три | C74: =CONCATENATE(A74," (",B74,")") -> 73 (семьдесят три) | J74: Посадочный материал | K74: Саженцы винограда | L74: шт | M74: 5шт | N74: 1 | O74: 1 | P74: 1 | Q74: 1
A75: 74 | B75: семьдесят четыре | C75: =CONCATENATE(A75," (",B75,")") -> 74 (семьдесят четыре) | J75: Посадочный материал | K75: Саженцы груши | L75: шт | M75: 5шт | N75: 1 | O75: 1 | P75: 1
A76: 75 | B76: семьдесят пять | C76: =CONCATENATE(A76," (",B76,")") -> 75 (семьдесят пять) | J76: Посадочный материал | K76: Саженцы декоративных культур | L76: шт | M76: 5шт | N76: 1 | O76: 1 | P76: 1
A77: 76 | B77: семьдесят шесть | C77: =CONCATENATE(A77," (",B77,")") -> 76 (семьдесят шесть) | J77: Посадочный материал | K77: Саженцы плодовых и декоративных культур | L77: шт | M77: 5шт | N77: 1 | O77: 1 | P77: 1 | Q77: 1
A78: 77 | B78: семьдесят семь | C78: =CONCATENATE(A78," (",B78,")") -> 77 (семьдесят семь) | J78: Посадочный материал | K78: Саженцы плодовых культур | L78: шт | M78: 5шт | N78: 1 | O78: 1 | P78: 1 | Q78: 1
A79: 78 | B79: семьдесят восемь | C79: =CONCATENATE(A79," (",B79,")") -> 78 (семьдесят восемь) | J79: Посадочный материал | K79: Саженцы роз | L79: шт | M79: 5шт | N79: 1 | O79: 1 | P79: 1
A80: 79 | B80: семьдесят девять | C80: =CONCATENATE(A80," (",B80,")") -> 79 (семьдесят девять) | J80: Посадочный материал | K80: Саженцы яблони | L80: шт | M80: 5шт | N80: 1 | O80: 1 | P80: 1
A81: 80 | B81: восемьдесят | C81: =CONCATENATE(A81," (",B81,")") -> 80 (восемьдесят) | J81: Овощи, фрукты свежие | K81: Свекла свежая | L81: т | M81: 50шт | N81: 1 | O81: 1 | P81: 1
A82: 81 | B82: восемьдесят один | C82: =CONCATENATE(A82," (",B82,")") -> 81 (восемьдесят один) | J82: Семена | K82: Семена овощных и цветочных культур | L82: пакет | M82: 100г | N82: 1 | O82: 1
A83: 82 | B83: восемьдесят два | C83: =CONCATENATE(A83," (",B83,")") -> 82 (восемьдесят два) | J83: Семена | K83: Семена огурцов | L83: пакет | M83: 100г | N83: 1 | O83: 1
A84: 83 | B84: восемьдесят три | C84: =CONCATENATE(A84," (",B84,")") -> 83 (восемьдесят три) | J84: Семена | K84: Семена Салата | L84: кг | M84: 30г | N84: 1 | O84: 1
A85: 84 | B85: восемьдесят четыре | C85: =CONCATENATE(A85," (",B85,")") -> 84 (восемьдесят четыре) | J85: Семена | K85: Семена Томата | L85: шт | M85: 50г | N85: 1 | O85: 1
A86: 85 | B86: восемьдесят пять | C86: =CONCATENATE(A86," (",B86,")") -> 85 (восемьдесят пять) | J86: Семена | K86: Семена трав (зеленых удобрений) | L86: кг | M86: 1 кг | N86: 1 | O86: 1
A87: 86 | B87: восемьдесят шесть | C87: =CONCATENATE(A87," (",B87,")") -> 86 (восемьдесят шесть) | J87: Посадочный материал | K87: Сеянцы ели | L87: шт | M87: 5шт | N87: 1 | O87: 1 | P87: 1
A88: 87 | B88: восемьдесят семь | C88: =CONCATENATE(A88," (",B88,")") -> 87 (восемьдесят семь) | J88: Посадочный материал | K88: Сеянцы сосны | L88: шт | M88: 5шт | N88: 1 | O88: 1 | P88: 1
A89: 88 | B89: восемьдесят восемь | C89: =CONCATENATE(A89," (",B89,")") -> 88 (восемьдесят восемь) | J89: Крупа и солод | K89: Солод ржаной | L89: т | M89: 1кг | N89: 1 | O89: 1
A90: 89 | B90: восемьдесят девять | C90: =CONCATENATE(A90," (",B90,")") -> 89 (восемьдесят девять) | J90: Крупа и солод | K90: Солод ячменный | L90: т | M90: 1кг | N90: 1 | O90: 1
A91: 90 | B91: девяносто | C91: =CONCATENATE(A91," (",B91,")") -> 90 (девяносто) | J91: Зернобобовые (горох, нут, фасоль, соя, бобы) | K91: Соя (зерно) | L91: т | M91: 1кг | N91: 1 | O91: 1
A92: 91 | B92: девяносто один | C92: =CONCATENATE(A92," (",B92,")") -> 91 (девяносто один) | J92: Сухофрукты | K92: Сухофрукты (ассортимент) | L92: т | M92: 1кг | N92: 1
A93: 92 | B93: девяносто два | C93: =CONCATENATE(A93," (",B93,")") -> 92 (девяносто два) | J93: Овощи, фрукты свежие | K93: Томат свежий | L93: т | M93: 50шт | N93: 1
A94: 93 | B94: девяносто три | C94: =CONCATENATE(A94," (",B94,")") -> 93 (девяносто три) | J94: Семена | K94: Тритикале (семена) | L94: т | M94: 1 кг | N94: 1 | O94: 1
A95: 94 | B95: девяносто четыре | C95: =CONCATENATE(A95," (",B95,")") -> 94 (девяносто четыре) | J95: Обследование | K95: Феромонные ловушки | L95: га | M95: 1шт | N95: 1
A96: 95 | B96: девяносто пять | C96: =CONCATENATE(A96," (",B96,")") -> 95 (девяносто пять) | J96: Овощи, фрукты свежие | K96: Хурма свежая | L96: т | M96: 50шт | N96: 1
A97: 96 | B97: девяносто шесть | C97: =CONCATENATE(A97," (",B97,")") -> 96 (девяносто шесть) | J97: Сухофрукты | K97: Чага | L97: т | M97: 100г | N97: 1
A98: 97 | B98: девяносто семь | C98: =CONCATENATE(A98," (",B98,")") -> 97 (девяносто семь) | J98: Технические | K98: Шерсть | L98: упак | M98: 0,5кг | N98: 1 | O98: 1
A99: 98 | B99: девяносто восемь | C99: =CONCATENATE(A99," (",B99,")") -> 98 (девяносто восемь) | J99: Сухофрукты | K99: Шиповника плоды | L99: т | M99: 1кг | N99: 1
A100: 99 | B100: девяносто девять | C100: =CONCATENATE(A100," (",B100,")") -> 99 (девяносто девять) | J100: Деревянные изделия | K100: Шпон (лиственных пород) | L100: куб м | M100: 100г | N100: 1
...
