Workbook

Sheet Журнал_заявок
A1: сегодня | B1: =TODAY() -> 44979 | E1: оформлены | F1: Для отбора проб | L1: Счет № | M1: сумма | N1: оплачено | O1: документы получены
A2: № вх | B2: дата | C2: номер и дата | D2: Наименование заявителя | F2: Заявку принял | G2: Количество образцов | H2: дата отбора | I2: Место отбора | J2: Отправитель | K2: Получатель | M2: =SUM(Журнал_заявок!M$3:M8460) -> 0 | N2: =SUM(Журнал_заявок!N$3:N8460) -> 0
A3: 08-0001 | B3: 44972 | D3: ООО Травы сухие | E3: =IF(COUNTIF(Журнал_образцов!A2:A2640,A3)=G3,0,1) -> 1 | F3: руководитель | G3: 1 | H3: 44972
A4: 08-0002 | B4: 44973 | D4: ООО Травы сухие | E4: =IF(COUNTIF(Журнал_образцов!A3:A2641,A4)=G4,0,1) -> 1 | F4: Кто-то | G4: 2 | H4: 44973
A5: 08-0003 | E5: =IF(COUNTIF(Журнал_образцов!A4:A2642,A5)=G5,0,1) -> 0
A6: 08-0004 | E6: =IF(COUNTIF(Журнал_образцов!A5:A2643,A6)=G6,0,1) -> 0
A7: 08-0005 | E7: =IF(COUNTIF(Журнал_образцов!A6:A2644,A7)=G7,0,1) -> 0
A8: 08-0006 | E8: =IF(COUNTIF(Журнал_образцов!A7:A2645,A8)=G8,0,1) -> 0
A9: 08-0007 | E9: =IF(COUNTIF(Журнал_образцов!A8:A2646,A9)=G9,0,1) -> 0
A10: 08-0008 | E10: =IF(COUNTIF(Журнал_образцов!A9:A2647,A10)=G10,0,1) -> 0
A11: 08-0009 | E11: =IF(COUNTIF(Журнал_образцов!A10:A2648,A11)=G11,0,1) -> 0
A12: 08-0010 | E12: =IF(COUNTIF(Журнал_образцов!A11:A2649,A12)=G12,0,1) -> 0
A13: 08-0011 | E13: =IF(COUNTIF(Журнал_образцов!A12:A2650,A13)=G13,0,1) -> 0
A14: 08-0012 | E14: =IF(COUNTIF(Журнал_образцов!A13:A2651,A14)=G14,0,1) -> 0
A15: 08-0013 | E15: =IF(COUNTIF(Журнал_образцов!A14:A2652,A15)=G15,0,1) -> 0
A16: 08-0014 | E16: =IF(COUNTIF(Журнал_образцов!A15:A2653,A16)=G16,0,1) -> 0
... A18: 08-0016 | E18: =IF(COUNTIF(Журнал_образцов!A17:A2655,A18)=G18,0,1) -> 0
A19: 08-0017 | E19: =IF(COUNTIF(Журнал_образцов!A2:A2656,A19)=G19,0,1) -> 0
A20: 08-0018 | E20: =IF(COUNTIF(Журнал_образцов!A3:A2657,A20)=G20,0,1) -> 0
A21: 08-0019 | E21: =IF(COUNTIF(Журнал_образцов!A4:A2658,A21)=G21,0,1) -> 0
A22: 08-0020 | E22: =IF(COUNTIF(Журнал_образцов!A5:A2659,A22)=G22,0,1) -> 0
A23: 08-0021 | E23: =IF(COUNTIF(Журнал_образцов!A6:A2660,A23)=G23,0,1) -> 0
A24: 08-0022 | E24: =IF(COUNTIF(Журнал_образцов!A7:A2661,A24)=G24,0,1) -> 0
A25: 08-0023 | E25: =IF(COUNTIF(Журнал_образцов!A8:A2662,A25)=G25,0,1) -> 0
A26: 08-0024 | E26: =IF(COUNTIF(Журнал_образцов!A9:A2663,A26)=G26,0,1) -> 0
A27: 08-0025 | E27: =IF(COUNTIF(Журнал_образцов!A10:A2664,A27)=G27,0,1) -> 0
A28: 08-0026 | E28: =IF(COUNTIF(Журнал_образцов!A11:A2665,A28)=G28,0,1) -> 0
A29: 08-0027 | E29: =IF(COUNTIF(Журнал_образцов!A12:A2666,A29)=G29,0,1) -> 0
A30: 08-0028 | E30: =IF(COUNTIF(Журнал_образцов!A13:A2667,A30)=G30,0,1) -> 0
... A591: 08-0589 | E591: =IF(COUNTIF(Журнал_образцов!A574:A3228,A591)=G591,0,1) -> 0

Sheet Журнал_образцов
A1: номер заявки | B1: номер образца | C1: Номер образца | D1: Дата заявки | E1: Дата отбора | F1: Наименование продукции | G1: вид транспорта | H1: № транспорта | I1: Объем партии | J1: Ед. изм. | K1: Сейф-пакет | L1: Объем образца | M1: Отправление продукции | N1: Назначение продукции | O1: ЭНТ | P1: ГЕРБ | Q1: ГЕЛ | R1: ПЦР | S1: обнаружения | T1: Дата выдачи заключения, подпись ответственного лица | U1: заявитель | V1: примечание | W1: формулы для заполнения протокола отбора | X1: _
A2: 08-0001 | B2: =IF(Журнал_образцов!A2=Журнал_образцов!A1,Журнал_образцов!B1,0)+1 -> 1 | C2: =CONCATENATE(Журнал_образцов!A2,"-",TEXT(Журнал_образцов!B2,"00")) -> 08-0001-01 | D2: =LOOKUP(Журнал_образцов!A2,Журнал_заявок!A$3:A19,Журнал_заявок!B$3:B19) -> 44972 | E2: =LOOKUP(Журнал_образцов!A2,Журнал_заявок!$A$3:$A19,Журнал_заявок!H$3:H19) -> 44972 | F2: Шиповника плоды | G2: авто - | H2: f456ds | I2: 10 | J2: =LOOKUP(Журнал_образцов!F2,справочник!K$2:K401,справочник!L$2:L401) -> т | K2: ab3242 | L2: =LOOKUP(Журнал_образцов!F2,справочник!K$2:K401,справочник!M$2:M401) -> 1кг | M2: =LOOKUP(Журнал_образцов!$A2,Журнал_заявок!A$3:$A19,Журнал_заявок!J$3:J19) -> 0 | N2: =LOOKUP(Журнал_образцов!$A2,Журнал_заявок!$A$3:B19,Журнал_заявок!K$3:K19) -> 0 | U2: =LOOKUP(Журнал_образцов!$A2,Журнал_заявок!$A$3:$A19,Журнал_заявок!$D$3:$D19) -> ООО Травы сухие | V2: =LOOKUP(Журнал_образцов!$A2,Журнал_заявок!$A$3:$A3556,Журнал_заявок!$L$3:$L3556) -> 0 | W2: =CONCATENATE(G2,H2," ",IF(A2=A3,IF(F2=F3," ",F2),F2)," ",I2,J2) -> авто - f456ds Шиповника плоды 10т | X2: =W2&IF(Журнал_образцов!A2=Журнал_образцов!A1,", "&Журнал_образцов!X1,"") -> авто - f456ds Шиповника плоды 10т
A3: 08-0001 | B3: =IF(Журнал_образцов!A3=Журнал_образцов!A2,Журнал_образцов!B2,0)+1 -> 2 | C3: =CONCATENATE(Журнал_образцов!A3,"-",TEXT(Журнал_образцов!B3,"00")) -> 08-0001-02 | D3: =LOOKUP(Журнал_образцов!A3,Журнал_заявок!A$3:A20,Журнал_заявок!B$3:B20) -> 44972 | E3: =LOOKUP(Журнал_образцов!A3,Журнал_заявок!$A$3:$A20,Журнал_заявок!H$3:H20) -> 44972 | F3: Сухофрукты (ассортимент) | G3: авто - | H3: f456ds | I3: 10 | J3: =LOOKUP(Журнал_образцов!F3,справочник!K$2:K402,справочник!L$2:L402) -> т | K3: ab3243 | L3: 50 шт | M3: =LOOKUP(Журнал_образцов!$A3,Журнал_заявок!A$3:$A20,Журнал_заявок!J$3:J20) -> 0 | N3: =LOOKUP(Журнал_образцов!$A3,Журнал_заявок!$A$3:B20,Журнал_заявок!K$3:K20) -> 0 | U3: =LOOKUP(Журнал_образцов!$A3,Журнал_заявок!$A$3:$A20,Журнал_заявок!$D$3:$D20) -> ООО Травы сухие | V3: =LOOKUP(Журнал_образцов!$A3,Журнал_заявок!$A$3:$A3557,Журнал_заявок!$L$3:$L3557) -> 0 | W3: =CONCATENATE(G3,H3," ",IF(A3=A4,IF(F3=F4," ",F3),F3)," ",I3,J3,", ") -> авто - f456ds Сухофрукты (ассортимент) 10т, | X3: =W3&IF(Журнал_образцов!A3=Журнал_образцов!A2,Журнал_образцов!X2,) -> авто - f456ds Сухофрукты (ассортимент) 10т, авто - f456ds Шиповника плоды 10т
A4: 08-0002 | B4: =IF(Журнал_образцов!A4=Журнал_образцов!A3,Журнал_образцов!B3,0)+1 -> 1 | C4: =CONCATENATE(Журнал_образцов!A4,"-",TEXT(Журнал_образцов!B4,"00")) -> 08-0002-01 | D4: =LOOKUP(Журнал_образцов!A4,Журнал_заявок!A$3:A21,Журнал_заявок!B$3:B21) -> 44973 | E4: =LOOKUP(Журнал_образцов!A4,Журнал_заявок!$A$3:$A21,Журнал_заявок!H$3:H21) -> 44973 | F4: Яблоки свежие | G4: вагон - | H4: 32423423 | I4: 60 | J4: =LOOKUP(Журнал_образцов!F4,справочник!K$2:K403,справочник!L$2:L403) -> т | K4: ab3244 | L4: 50 шт | M4: =LOOKUP(Журнал_образцов!$A4,Журнал_заявок!A$3:$A21,Журнал_заявок!J$3:J21) -> 0 | N4: =LOOKUP(Журнал_образцов!$A4,Журнал_заявок!$A$3:B21,Журнал_заявок!K$3:K21) -> 0 | U4: =LOOKUP(Журнал_образцов!$A4,Журнал_заявок!$A$3:$A21,Журнал_заявок!$D$3:$D21) -> ООО Травы сухие | V4: =LOOKUP(Журнал_образцов!$A4,Журнал_заявок!$A$3:$A3558,Журнал_заявок!$L$3:$L3558) -> 0 | W4: =CONCATENATE(G4,H4," ",IF(A4=A5,IF(F4=F5," ",F4),F4)," ",I4,J4,", ") -> вагон - 32423423 Яблоки свежие 60т, | X4: =W4&IF(Журнал_образцов!A4=Журнал_образцов!A3,Журнал_образцов!X3,) -> вагон - 32423423 Яблоки свежие 60т,
B5: =IF(Журнал_образцов!A5=Журнал_образцов!A4,Журнал_образцов!B4,0)+1 -> 1 | C5: =CONCATENATE(Журнал_образцов!A5,"-",TEXT(Журнал_образцов!B5,"00")) -> -01 | D5: =LOOKUP(Журнал_образцов!A5,Журнал_заявок!A$3:A22,Журнал_заявок!B$3:B22) -> #N/A | E5: =LOOKUP(Журнал_образцов!A5,Журнал_заявок!$A$3:$A22,Журнал_заявок!H$3:H22) -> #N/A | J5: =LOOKUP(Журнал_образцов!F5,справочник!K$2:K404,справочник!L$2:L404) -> #N/A | L5: 50 шт | M5: =LOOKUP(Журнал_образцов!$A5,Журнал_заявок!A$3:$A22,Журнал_заявок!J$3:J22) -> #N/A | N5: =LOOKUP(Журнал_образцов!$A5,Журнал_заявок!$A$3:B22,Журнал_заявок!K$3:K22) -> #N/A | U5: =LOOKUP(Журнал_образцов!$A5,Журнал_заявок!$A$3:$A22,Журнал_заявок!$D$3:$D22) -> #N/A | V5: =LOOKUP(Журнал_образцов!$A5,Журнал_заявок!$A$3:$A3559,Журнал_заявок!$L$3:$L3559) -> #N/A | W5: =CONCATENATE(G5,H5," ",IF(A5=A6,IF(F5=F6," ",F5),F5)," ",I5,J5,", ") -> #N/A | X5: =W5&IF(Журнал_образцов!A5=Журнал_образцов!A4,Журнал_образцов!X4,) -> #N/A
B6: =IF(Журнал_образцов!A6=Журнал_образцов!A5,Журнал_образцов!B5,0)+1 -> 2 | C6: =CONCATENATE(Журнал_образцов!A6,"-",TEXT(Журнал_образцов!B6,"00")) -> -02 | D6: =LOOKUP(Журнал_образцов!A6,Журнал_заявок!A$3:A23,Журнал_заявок!B$3:B23) -> #N/A | E6: =LOOKUP(Журнал_образцов!A6,Журнал_заявок!$A$3:$A23,Журнал_заявок!H$3:H23) -> #N/A | J6: =LOOKUP(Журнал_образцов!F6,справочник!K$2:K405,справочник!L$2:L405) -> #N/A | L6: 50 шт | M6: =LOOKUP(Журнал_образцов!$A6,Журнал_заявок!A$3:$A23,Журнал_заявок!J$3:J23) -> #N/A | N6: =LOOKUP(Журнал_образцов!$A6,Журнал_заявок!$A$3:B23,Журнал_заявок!K$3:K23) -> #N/A | U6: =LOOKUP(Журнал_образцов!$A6,Журнал_заявок!$A$3:$A23,Журнал_заявок!$D$3:$D23) -> #N/A | V6: =LOOKUP(Журнал_образцов!$A6,Журнал_заявок!$A$3:$A3560,Журнал_заявок!$L$3:$L3560) -> #N/A | W6: =CONCATENATE(G6,H6," ",IF(A6=A7,IF(F6=F7," ",F6),F6)," ",I6,J6,", ") -> #N/A | X6: =W6&IF(Журнал_образцов!A6=Журнал_образцов!A5,Журнал_образцов!X5,) -> #N/A
B7: =IF(Журнал_образцов!A7=Журнал_образцов!A6,Журнал_образцов!B6,0)+1 -> 3 | C7: =CONCATENATE(Журнал_образцов!A7,"-",TEXT(Журнал_образцов!B7,"00")) -> -03 | D7: =LOOKUP(Журнал_образцов!A7,Журнал_заявок!A$3:A24,Журнал_заявок!B$3:B24) -> #N/A | E7: =LOOKUP(Журнал_образцов!A7,Журнал_заявок!$A$3:$A24,Журнал_заявок!H$3:H24) -> #N/A | J7: =LOOKUP(Журнал_образцов!F7,справочник!K$2:K406,справочник!L$2:L406) -> #N/A | L7: 20 шт | M7: =LOOKUP(Журнал_образцов!$A7,Журнал_заявок!A$3:$A24,Журнал_заявок!J$3:J24) -> #N/A | N7: =LOOKUP(Журнал_образцов!$A7,Журнал_заявок!$A$3:B24,Журнал_заявок!K$3:K24) -> #N/A | U7: =LOOKUP(Журнал_образцов!$A7,Журнал_заявок!$A$3:$A24,Журнал_заявок!$D$3:$D24) -> #N/A | V7: =LOOKUP(Журнал_образцов!$A7,Журнал_заявок!$A$3:$A3561,Журнал_заявок!$L$3:$L3561) -> #N/A | W7: =CONCATENATE(G7,H7," ",IF(A7=A8,IF(F7=F8," ",F7),F7)," ",I7,J7,", ") -> #N/A | X7: =W7&IF(Журнал_образцов!A7=Журнал_образцов!A6,Журнал_образцов!X6,) -> #N/A
B8: =IF(Журнал_образцов!A8=Журнал_образцов!A7,Журнал_образцов!B7,0)+1 -> 4 | C8: =CONCATENATE(Журнал_образцов!A8,"-",TEXT(Журнал_образцов!B8,"00")) -> -04 | D8: =LOOKUP(Журнал_образцов!A8,Журнал_заявок!A$3:A25,Журнал_заявок!B$3:B25) -> #N/A | E8: =LOOKUP(Журнал_образцов!A8,Журнал_заявок!$A$3:$A25,Журнал_заявок!H$3:H25) -> #N/A | J8: =LOOKUP(Журнал_образцов!F8,справочник!K$2:K407,справочник!L$2:L407) -> #N/A | L8: 1 кг | M8: =LOOKUP(Журнал_образцов!$A8,Журнал_заявок!A$3:$A25,Журнал_заявок!J$3:J25) -> #N/A | N8: =LOOKUP(Журнал_образцов!$A8,Журнал_заявок!$A$3:B25,Журнал_заявок!K$3:K25) -> #N/A | U8: =LOOKUP(Журнал_образцов!$A8,Журнал_заявок!$A$3:$A25,Журнал_заявок!$D$3:$D25) -> #N/A | V8: =LOOKUP(Журнал_образцов!$A8,Журнал_заявок!$A$3:$A3562,Журнал_заявок!$L$3:$L3562) -> #N/A | W8: =CONCATENATE(G8,H8," ",IF(A8=A9,IF(F8=F9," ",F8),F8)," ",I8,J8,", ") -> #N/A | X8: =W8&IF(Журнал_образцов!A8=Журнал_образцов!A7,Журнал_образцов!X7,) -> #N/A
B9: =IF(Журнал_образцов!A9=Журнал_образцов!A8,Журнал_образцов!B8,0)+1 -> 5 | C9: =CONCATENATE(Журнал_образцов!A9,"-",TEXT(Журнал_образцов!B9,"00")) -> -05 | D9: =LOOKUP(Журнал_образцов!A9,Журнал_заявок!A$3:A26,Журнал_заявок!B$3:B26) -> #N/A | E9: =LOOKUP(Журнал_образцов!A9,Журнал_заявок!$A$3:$A26,Журнал_заявок!H$3:H26) -> #N/A | J9: =LOOKUP(Журнал_образцов!F9,справочник!K$2:K408,справочник!L$2:L408) -> #N/A | L9: 1 кг | M9: =LOOKUP(Журнал_образцов!$A9,Журнал_заявок!A$3:$A26,Журнал_заявок!J$3:J26) -> #N/A | N9: =LOOKUP(Журнал_образцов!$A9,Журнал_заявок!$A$3:B26,Журнал_заявок!K$3:K26) -> #N/A | U9: =LOOKUP(Журнал_образцов!$A9,Журнал_заявок!$A$3:$A26,Журнал_заявок!$D$3:$D26) -> #N/A | V9: =LOOKUP(Журнал_образцов!$A9,Журнал_заявок!$A$3:$A3563,Журнал_заявок!$L$3:$L3563) -> #N/A | W9: =CONCATENATE(G9,H9," ",IF(A9=A10,IF(F9=F10," ",F9),F9)," ",I9,J9,", ") -> #N/A | X9: =W9&IF(Журнал_образцов!A9=Журнал_образцов!A8,Журнал_образцов!X8,) -> #N/A
B10: =IF(Журнал_образцов!A10=Журнал_образцов!A9,Журнал_образцов!B9,0)+1 -> 6 | C10: =CONCATENATE(Журнал_образцов!A10,"-",TEXT(Журнал_образцов!B10,"00")) -> -06 | D10: =LOOKUP(Журнал_образцов!A10,Журнал_заявок!A$3:A27,Журнал_заявок!B$3:B27) -> #N/A | E10: =LOOKUP(Журнал_образцов!A10,Журнал_заявок!$A$3:$A27,Журнал_заявок!H$3:H27) -> #N/A | J10: =LOOKUP(Журнал_образцов!F10,справочник!K$2:K409,справочник!L$2:L409) -> #N/A | L10: 1 кг | M10: =LOOKUP(Журнал_образцов!$A10,Журнал_заявок!A$3:$A27,Журнал_заявок!J$3:J27) -> #N/A | N10: =LOOKUP(Журнал_образцов!$A10,Журнал_заявок!$A$3:B27,Журнал_заявок!K$3:K27) -> #N/A | U10: =LOOKUP(Журнал_образцов!$A10,Журнал_заявок!$A$3:$A27,Журнал_заявок!$D$3:$D27) -> #N/A | V10: =LOOKUP(Журнал_образцов!$A10,Журнал_заявок!$A$3:$A3564,Журнал_заявок!$L$3:$L3564) -> #N/A | W10: =CONCATENATE(G10,H10," ",IF(A10=A11,IF(F10=F11," ",F10),F10)," ",I10,J10,", ") -> #N/A | X10: =W10&IF(Журнал_образцов!A10=Журнал_образцов!A9,Журнал_образцов!X9,) -> #N/A
B11: =IF(Журнал_образцов!A11=Журнал_образцов!A10,Журнал_образцов!B10,0)+1 -> 7 | C11: =CONCATENATE(Журнал_образцов!A11,"-",TEXT(Журнал_образцов!B11,"00")) -> -07 | D11: =LOOKUP(Журнал_образцов!A11,Журнал_заявок!A$3:A28,Журнал_заявок!B$3:B28) -> #N/A | E11: =LOOKUP(Журнал_образцов!A11,Журнал_заявок!$A$3:$A28,Журнал_заявок!H$3:H28) -> #N/A | J11: =LOOKUP(Журнал_образцов!F11,справочник!K$2:K410,справочник!L$2:L410) -> #N/A | L11: 1 кг | M11: =LOOKUP(Журнал_образцов!$A11,Журнал_заявок!A$3:$A28,Журнал_заявок!J$3:J28) -> #N/A | N11: =LOOKUP(Журнал_образцов!$A11,Журнал_заявок!$A$3:B28,Журнал_заявок!K$3:K28) -> #N/A | U11: =LOOKUP(Журнал_образцов!$A11,Журнал_заявок!$A$3:$A28,Журнал_заявок!$D$3:$D28) -> #N/A | V11: =LOOKUP(Журнал_образцов!$A11,Журнал_заявок!$A$3:$A3565,Журнал_заявок!$L$3:$L3565) -> #N/A | W11: =CONCATENATE(G11,H11," ",IF(A11=A12,IF(F11=F12," ",F11),F11)," ",I11,J11,", ") -> #N/A | X11: =W11&IF(Журнал_образцов!A11=Журнал_образцов!A10,Журнал_образцов!X10,) -> #N/A
B12: =IF(Журнал_образцов!A12=Журнал_образцов!A11,Журнал_образцов!B11,0)+1 -> 8 | C12: =CONCATENATE(Журнал_образцов!A12,"-",TEXT(Журнал_образцов!B12,"00")) -> -08 | D12: =LOOKUP(Журнал_образцов!A12,Журнал_заявок!A$3:A29,Журнал_заявок!B$3:B29) -> #N/A | E12: =LOOKUP(Журнал_образцов!A12,Журнал_заявок!$A$3:$A29,Журнал_заявок!H$3:H29) -> #N/A | J12: =LOOKUP(Журнал_образцов!F12,справочник!K$2:K411,справочник!L$2:L411) -> #N/A | L12: 1 кг | M12: =LOOKUP(Журнал_образцов!$A12,Журнал_заявок!A$3:$A29,Журнал_заявок!J$3:J29) -> #N/A | N12: =LOOKUP(Журнал_образцов!$A12,Журнал_заявок!$A$3:B29,Журнал_заявок!K$3:K29) -> #N/A | U12: =LOOKUP(Журнал_образцов!$A12,Журнал_заявок!$A$3:$A29,Журнал_заявок!$D$3:$D29) -> #N/A | V12: =LOOKUP(Журнал_образцов!$A12,Журнал_заявок!$A$3:$A3566,Журнал_заявок!$L$3:$L3566) -> #N/A | W12: =CONCATENATE(G12,H12," ",IF(A12=A13,IF(F12=F13," ",F12),F12)," ",I12,J12,", ") -> #N/A | X12: =W12&IF(Журнал_образцов!A12=Журнал_образцов!A11,Журнал_образцов!X11,) -> #N/A
B13: =IF(Журнал_образцов!A13=Журнал_образцов!A12,Журнал_образцов!B12,0)+1 -> 9 | C13: =CONCATENATE(Журнал_образцов!A13,"-",TEXT(Журнал_образцов!B13,"00")) -> -09 | D13: =LOOKUP(Журнал_образцов!A13,Журнал_заявок!A$3:A30,Журнал_заявок!B$3:B30) -> #N/A | E13: =LOOKUP(Журнал_образцов!A13,Журнал_заявок!$A$3:$A30,Журнал_заявок!H$3:H30) -> #N/A | J13: =LOOKUP(Журнал_образцов!F13,справочник!K$2:K412,справочник!L$2:L412) -> #N/A | L13: 1 кг | M13: =LOOKUP(Журнал_образцов!$A13,Журнал_заявок!A$3:$A30,Журнал_заявок!J$3:J30) -> #N/A | N13: =LOOKUP(Журнал_образцов!$A13,Журнал_заявок!$A$3:B30,Журнал_заявок!K$3:K30) -> #N/A | U13: =LOOKUP(Журнал_образцов!$A13,Журнал_заявок!$A$3:$A30,Журнал_заявок!$D$3:$D30) -> #N/A | V13: =LOOKUP(Журнал_образцов!$A13,Журнал_заявок!$A$3:$A3567,Журнал_заявок!$L$3:$L3567) -> #N/A | W13: =CONCATENATE(G13,H13," ",IF(A13=A14,IF(F13=F14," ",F13),F13)," ",I13,J13,", ") -> #N/A | X13: =W13&IF(Журнал_образцов!A13=Журнал_образцов!A12,Журнал_образцов!X12,) -> #N/A
B14: =IF(Журнал_образцов!A14=Журнал_образцов!A13,Журнал_образцов!B13,0)+1 -> 10 | C14: =CONCATENATE(Журнал_образцов!A14,"-",TEXT(Журнал_образцов!B14,"00")) -> -10 | D14: =LOOKUP(Журнал_образцов!A14,Журнал_заявок!A$3:A31,Журнал_заявок!B$3:B31) -> #N/A | E14: =LOOKUP(Журнал_образцов!A14,Журнал_заявок!$A$3:$A31,Журнал_заявок!H$3:H31) -> #N/A | J14: =LOOKUP(Журнал_образцов!F14,справочник!K$2:K413,справочник!L$2:L413) -> #N/A | L14: 1 кг | M14: =LOOKUP(Журнал_образцов!$A14,Журнал_заявок!A$3:$A31,Журнал_заявок!J$3:J31) -> #N/A | N14: =LOOKUP(Журнал_образцов!$A14,Журнал_заявок!$A$3:B31,Журнал_заявок!K$3:K31) -> #N/A | U14: =LOOKUP(Журнал_образцов!$A14,Журнал_заявок!$A$3:$A31,Журнал_заявок!$D$3:$D31) -> #N/A | V14: =LOOKUP(Журнал_образцов!$A14,Журнал_заявок!$A$3:$A3568,Журнал_заявок!$L$3:$L3568) -> #N/A | W14: =CONCATENATE(G14,H14," ",IF(A14=A15,IF(F14=F15," ",F14),F14)," ",I14,J14,", ") -> #N/A | X14: =W14&IF(Журнал_образцов!A14=Журнал_образцов!A13,Журнал_образцов!X13,) -> #N/A
B15: =IF(Журнал_образцов!A15=Журнал_образцов!A14,Журнал_образцов!B14,0)+1 -> 11 | C15: =CONCATENATE(Журнал_образцов!A15,"-",TEXT(Журнал_образцов!B15,"00")) -> -11 | D15: =LOOKUP(Журнал_образцов!A15,Журнал_заявок!A$3:A32,Журнал_заявок!B$3:B32) -> #N/A | E15: =LOOKUP(Журнал_образцов!A15,Журнал_заявок!$A$3:$A32,Журнал_заявок!H$3:H32) -> #N/A | J15: =LOOKUP(Журнал_образцов!F15,справочник!K$2:K414,справочник!L$2:L414) -> #N/A | L15: 1 кг | M15: =LOOKUP(Журнал_образцов!$A15,Журнал_заявок!A$3:$A32,Журнал_заявок!J$3:J32) -> #N/A | N15: =LOOKUP(Журнал_образцов!$A15,Журнал_заявок!$A$3:B32,Журнал_заявок!K$3:K32) -> #N/A | U15: =LOOKUP(Журнал_образцов!$A15,Журнал_заявок!$A$3:$A32,Журнал_заявок!$D$3:$D32) -> #N/A | V15: =LOOKUP(Журнал_образцов!$A15,Журнал_заявок!$A$3:$A3569,Журнал_заявок!$L$3:$L3569) -> #N/A | W15: =CONCATENATE(G15,H15," ",IF(A15=A16,IF(F15=F16," ",F15),F15)," ",I15,J15,", ") -> #N/A | X15: =W15&IF(Журнал_образцов!A15=Журнал_образцов!A14,Журнал_образцов!X14,) -> #N/A
B16: =IF(Журнал_образцов!A16=Журнал_образцов!A15,Журнал_образцов!B15,0)+1 -> 12 | C16: =CONCATENATE(Журнал_образцов!A16,"-",TEXT(Журнал_образцов!B16,"00")) -> -12 | D16: =LOOKUP(Журнал_образцов!A16,Журнал_заявок!A$3:A33,Журнал_заявок!B$3:B33) -> #N/A | E16: =LOOKUP(Журнал_образцов!A16,Журнал_заявок!$A$3:$A33,Журнал_заявок!H$3:H33) -> #N/A | J16: =LOOKUP(Журнал_образцов!F16,справочник!K$2:K415,справочник!L$2:L415) -> #N/A | L16: 100 г | M16: =LOOKUP(Журнал_образцов!$A16,Журнал_заявок!A$3:$A33,Журнал_заявок!J$3:J33) -> #N/A | N16: =LOOKUP(Журнал_образцов!$A16,Журнал_заявок!$A$3:B33,Журнал_заявок!K$3:K33) -> #N/A | U16: =LOOKUP(Журнал_образцов!$A16,Журнал_заявок!$A$3:$A33,Журнал_заявок!$D$3:$D33) -> #N/A | V16: =LOOKUP(Журнал_образцов!$A16,Журнал_заявок!$A$3:$A3570,Журнал_заявок!$L$3:$L3570) -> #N/A | W16: =CONCATENATE(G16,H16," ",IF(A16=A17,IF(F16=F17," ",F16),F16)," ",I16,J16,", ") -> #N/A | X16: =W16&IF(Журнал_образцов!A16=Журнал_образцов!A15,Журнал_образцов!X15,) -> #N/A
... B28: =IF(Журнал_образцов!A28=Журнал_образцов!A27,Журнал_образцов!B27,0)+1 -> 24 | C28: =CONCATENATE(Журнал_образцов!A28,"-",TEXT(Журнал_образцов!B28,"00")) -> -24 | D28: =LOOKUP(Журнал_образцов!A28,Журнал_заявок!A$3:A45,Журнал_заявок!B$3:B45) -> #N/A | E28: =LOOKUP(Журнал_образцов!A28,Журнал_заявок!$A$3:$A45,Журнал_заявок!H$3:H45) -> #N/A | J28: =LOOKUP(Журнал_образцов!F28,справочник!K$2:K427,справочник!L$2:L427) -> #N/A | L28: 100 г | M28: =LOOKUP(Журнал_образцов!$A28,Журнал_заявок!A$3:$A45,Журнал_заявок!J$3:J45) -> #N/A | N28: =LOOKUP(Журнал_образцов!$A28,Журнал_заявок!$A$3:B45,Журнал_заявок!K$3:K45) -> #N/A | U28: =LOOKUP(Журнал_образцов!$A28,Журнал_заявок!$A$3:$A45,Журнал_заявок!$D$3:$D45) -> #N/A | V28: =LOOKUP(Журнал_образцов!$A28,Журнал_заявок!$A$3:$A3582,Журнал_заявок!$L$3:$L3582) -> #N/A | W28: =CONCATENATE(G28,H28," ",IF(A28=A29,IF(F28=F29," ",F28),F28)," ",I28,J28,", ") -> #N/A | X28: =W28&IF(Журнал_образцов!A28=Журнал_образцов!A27,Журнал_образцов!X27,) -> #N/A
B29: =IF(Журнал_образцов!A29=Журнал_образцов!A28,Журнал_образцов!B28,0)+1 -> 25 | C29: =CONCATENATE(Журнал_образцов!A29,"-",TEXT(Журнал_образцов!B29,"00")) -> -25 | D29: =LOOKUP(Журнал_образцов!A33,Журнал_заявок!A$3:A50,Журнал_заявок!B$3:B50) -> #N/A | E29: =LOOKUP(Журнал_образцов!A33,Журнал_заявок!$A$3:$A50,Журнал_заявок!H$3:H50) -> #N/A | J29: =LOOKUP(Журнал_образцов!F29,справочник!K$2:K428,справочник!L$2:L428) -> #N/A | L29: 1кг | M29: =LOOKUP(Журнал_образцов!$A29,Журнал_заявок!A$3:$A46,Журнал_заявок!J$3:J46) -> #N/A | N29: =LOOKUP(Журнал_образцов!$A29,Журнал_заявок!$A$3:B46,Журнал_заявок!K$3:K46) -> #N/A | U29: =LOOKUP(Журнал_образцов!$A29,Журнал_заявок!$A$3:$A46,Журнал_заявок!$D$3:$D46) -> #N/A | V29: =LOOKUP(Журнал_образцов!$A29,Журнал_заявок!$A$3:$A3583,Журнал_заявок!$L$3:$L3583) -> #N/A | W29: =CONCATENATE(G29,H29," ",IF(A29=A30,IF(F29=F30," ",F29),F29)," ",I29,J29,", ") -> #N/A | X29: =W29&IF(Журнал_образцов!A29=Журнал_образцов!A28,Журнал_образцов!X28,) -> #N/A
B30: =IF(Журнал_образцов!A30=Журнал_образцов!A29,Журнал_образцов!B29,0)+1 -> 26 | C30: =CONCATENATE(Журнал_образцов!A30,"-",TEXT(Журнал_образцов!B30,"00")) -> -26 | D30: =LOOKUP(Журнал_образцов!A34,Журнал_заявок!A$3:A51,Журнал_заявок!B$3:B51) -> #N/A | E30: =LOOKUP(Журнал_образцов!A34,Журнал_заявок!$A$3:$A51,Журнал_заявок!H$3:H51) -> #N/A | J30: =LOOKUP(Журнал_образцов!F30,справочник!K$2:K429,справочник!L$2:L429) -> #N/A | L30: 1кг | M30: =LOOKUP(Журнал_образцов!$A30,Журнал_заявок!A$3:$A47,Журнал_заявок!J$3:J47) -> #N/A | N30: =LOOKUP(Журнал_образцов!$A30,Журнал_заявок!$A$3:B47,Журнал_заявок!K$3:K47) -> #N/A | U30: =LOOKUP(Журнал_образцов!$A30,Журнал_заявок!$A$3:$A47,Журнал_заявок!$D$3:$D47) -> #N/A | V30: =LOOKUP(Журнал_образцов!$A30,Журнал_заявок!$A$3:$A3584,Журнал_заявок!$L$3:$L3584) -> #N/A | W30: =CONCATENATE(G30,H30," ",IF(A30=A31,IF(F30=F31," ",F30),F30)," ",I30,J30,", ") -> #N/A | X30: =W30&IF(Журнал_образцов!A30=Журнал_образцов!A29,Журнал_образцов!X29,) -> #N/A
B31: =IF(Журнал_образцов!A31=Журнал_образцов!A30,Журнал_образцов!B30,0)+1 -> 27 | C31: =CONCATENATE(Журнал_образцов!A31,"-",TEXT(Журнал_образцов!B31,"00")) -> -27 | D31: =LOOKUP(Журнал_образцов!A35,Журнал_заявок!A$3:A52,Журнал_заявок!B$3:B52) -> #N/A | E31: =LOOKUP(Журнал_образцов!A35,Журнал_заявок!$A$3:$A52,Журнал_заявок!H$3:H52) -> #N/A | J31: =LOOKUP(Журнал_образцов!F31,справочник!K$2:K430,справочник!L$2:L430) -> #N/A | L31: 1кг | M31: =LOOKUP(Журнал_образцов!$A31,Журнал_заявок!A$3:$A48,Журнал_заявок!J$3:J48) -> #N/A | N31: =LOOKUP(Журнал_образцов!$A31,Журнал_заявок!$A$3:B48,Журнал_заявок!K$3:K48) -> #N/A | U31: =LOOKUP(Журнал_образцов!$A31,Журнал_заявок!$A$3:$A48,Журнал_заявок!$D$3:$D48) -> #N/A | V31: =LOOKUP(Журнал_образцов!$A31,Журнал_заявок!$A$3:$A3585,Журнал_заявок!$L$3:$L3585) -> #N/A | W31: =CONCATENATE(G31,H31," ",IF(A31=A32,IF(F31=F32," ",F31),F31)," ",I31,J31,", ") -> #N/A | X31: =W31&IF(Журнал_образцов!A31=Журнал_образцов!A30,Журнал_образцов!X30,) -> #N/A
B32: =IF(Журнал_образцов!A32=Журнал_образцов!A31,Журнал_образцов!B31,0)+1 -> 28 | C32: =CONCATENATE(Журнал_образцов!A32,"-",TEXT(Журнал_образцов!B32,"00")) -> -28 | D32: =LOOKUP(Журнал_образцов!A36,Журнал_заявок!A$3:A53,Журнал_заявок!B$3:B53) -> #N/A | E32: =LOOKUP(Журнал_образцов!A36,Журнал_заявок!$A$3:$A53,Журнал_заявок!H$3:H53) -> #N/A | J32: =LOOKUP(Журнал_образцов!F32,справочник!K$2:K431,справочник!L$2:L431) -> #N/A | L32: 500г | M32: =LOOKUP(Журнал_образцов!$A32,Журнал_заявок!A$3:$A49,Журнал_заявок!J$3:J49) -> #N/A | N32: =LOOKUP(Журнал_образцов!$A32,Журнал_заявок!$A$3:B49,Журнал_заявок!K$3:K49) -> #N/A | U32: =LOOKUP(Журнал_образцов!$A32,Журнал_заявок!$A$3:$A49,Журнал_заявок!$D$3:$D49) -> #N/A | V32: =LOOKUP(Журнал_образцов!$A32,Журнал_заявок!$A$3:$A3586,Журнал_заявок!$L$3:$L3586) -> #N/A | W32: =CONCATENATE(G32,H32," ",IF(A32=A33,IF(F32=F33," ",F32),F32)," ",I32,J32,", ") -> #N/A | X32: =W32&IF(Журнал_образцов!A32=Журнал_образцов!A31,Журнал_образцов!X31,) -> #N/A
B33: =IF(Журнал_образцов!A33=Журнал_образцов!A32,Журнал_образцов!B32,0)+1 -> 29 | C33: =CONCATENATE(Журнал_образцов!A33,"-",TEXT(Журнал_образцов!B33,"00")) -> -29 | D33: =LOOKUP(Журнал_образцов!A37,Журнал_заявок!A$3:A54,Журнал_заявок!B$3:B54) -> #N/A | E33: =LOOKUP(Журнал_образцов!A37,Журнал_заявок!$A$3:$A54,Журнал_заявок!H$3:H54) -> #N/A | J33: =LOOKUP(Журнал_образцов!F33,справочник!K$2:K432,справочник!L$2:L432) -> #N/A | L33: 500г | M33: =LOOKUP(Журнал_образцов!$A33,Журнал_заявок!A$3:$A50,Журнал_заявок!J$3:J50) -> #N/A | N33: =LOOKUP(Журнал_образцов!$A33,Журнал_заявок!$A$3:B50,Журнал_заявок!K$3:K50) -> #N/A | U33: =LOOKUP(Журнал_образцов!$A33,Журнал_заявок!$A$3:$A50,Журнал_заявок!$D$3:$D50) -> #N/A | V33: =LOOKUP(Журнал_образцов!$A33,Журнал_заявок!$A$3:$A3587,Журнал_заявок!$L$3:$L3587) -> #N/A | W33: =CONCATENATE(G33,H33," ",IF(A33=A34,IF(F33=F34," ",F33),F33)," ",I33,J33,", ") -> #N/A | X33: =W33&IF(Журнал_образцов!A33=Журнал_образцов!A32,Журнал_образцов!X32,) -> #N/A
B34: =IF(Журнал_образцов!A34=Журнал_образцов!A33,Журнал_образцов!B33,0)+1 -> 30 | C34: =CONCATENATE(Журнал_образцов!A34,"-",TEXT(Журнал_образцов!B34,"00")) -> -30 | D34: =LOOKUP(Журнал_образцов!A38,Журнал_заявок!A$3:A55,Журнал_заявок!B$3:B55) -> #N/A | E34: =LOOKUP(Журнал_образцов!A38,Журнал_заявок!$A$3:$A55,Журнал_заявок!H$3:H55) -> #N/A | J34: =LOOKUP(Журнал_образцов!F34,справочник!K$2:K433,справочник!L$2:L433) -> #N/A | L34: 500г | M34: =LOOKUP(Журнал_образцов!$A34,Журнал_заявок!A$3:$A51,Журнал_заявок!J$3:J51) -> #N/A | N34: =LOOKUP(Журнал_образцов!$A34,Журнал_заявок!$A$3:B51,Журнал_заявок!K$3:K51) -> #N/A | U34: =LOOKUP(Журнал_образцов!$A34,Журнал_заявок!$A$3:$A51,Журнал_заявок!$D$3:$D51) -> #N/A | V34: =LOOKUP(Журнал_образцов!$A34,Журнал_заявок!$A$3:$A3588,Журнал_заявок!$L$3:$L3588) -> #N/A | W34: =CONCATENATE(G34,H34," ",IF(A34=A35,IF(F34=F35," ",F34),F34)," ",I34,J34,", ") -> #N/A | X34: =W34&IF(Журнал_образцов!A34=Журнал_образцов!A33,Журнал_образцов!X33,) -> #N/A
B35: =IF(Журнал_образцов!A35=Журнал_образцов!A34,Журнал_образцов!B34,0)+1 -> 31 | C35: =CONCATENATE(Журнал_образцов!A35,"-",TEXT(Журнал_образцов!B35,"00")) -> -31 | D35: =LOOKUP(Журнал_образцов!A39,Журнал_заявок!A$3:A56,Журнал_заявок!B$3:B56) -> #N/A | E35: =LOOKUP(Журнал_образцов!A39,Журнал_заявок!$A$3:$A56,Журнал_заявок!H$3:H56) -> #N/A | J35: =LOOKUP(Журнал_образцов!F35,справочник!K$2:K434,справочник!L$2:L434) -> #N/A | L35: 1кг | M35: =LOOKUP(Журнал_образцов!$A35,Журнал_заявок!A$3:$A52,Журнал_заявок!J$3:J52) -> #N/A | N35: =LOOKUP(Журнал_образцов!$A35,Журнал_заявок!$A$3:B52,Журнал_заявок!K$3:K52) -> #N/A | U35: =LOOKUP(Журнал_образцов!$A35,Журнал_заявок!$A$3:$A52,Журнал_заявок!$D$3:$D52) -> #N/A | V35: =LOOKUP(Журнал_образцов!$A35,Журнал_заявок!$A$3:$A3589,Журнал_заявок!$L$3:$L3589) -> #N/A | W35: =CONCATENATE(G35,H35," ",IF(A35=A36,IF(F35=F36," ",F35),F35)," ",I35,J35,", ") -> #N/A | X35: =W35&IF(Журнал_образцов!A35=Журнал_образцов!A34,Журнал_образцов!X34,) -> #N/A
B36: =IF(Журнал_образцов!A36=Журнал_образцов!A35,Журнал_образцов!B35,0)+1 -> 32 | C36: =CONCATENATE(Журнал_образцов!A36,"-",TEXT(Журнал_образцов!B36,"00")) -> -32 | D36: =LOOKUP(Журнал_образцов!A40,Журнал_заявок!A$3:A57,Журнал_заявок!B$3:B57) -> #N/A | E36: =LOOKUP(Журнал_образцов!A40,Журнал_заявок!$A$3:$A57,Журнал_заявок!H$3:H57) -> #N/A | J36: =LOOKUP(Журнал_образцов!F36,справочник!K$2:K435,справочник!L$2:L435) -> #N/A | L36: 1кг | M36: =LOOKUP(Журнал_образцов!$A36,Журнал_заявок!A$3:$A53,Журнал_заявок!J$3:J53) -> #N/A | N36: =LOOKUP(Журнал_образцов!$A36,Журнал_заявок!$A$3:B53,Журнал_заявок!K$3:K53) -> #N/A | U36: =LOOKUP(Журнал_образцов!$A36,Журнал_заявок!$A$3:$A53,Журнал_заявок!$D$3:$D53) -> #N/A | V36: =LOOKUP(Журнал_образцов!$A36,Журнал_заявок!$A$3:$A3590,Журнал_заявок!$L$3:$L3590) -> #N/A | W36: =CONCATENATE(G36,H36," ",IF(A36=A37,IF(F36=F37," ",F36),F36)," ",I36,J36,", ") -> #N/A | X36: =W36&IF(Журнал_образцов!A36=Журнал_образцов!A35,Журнал_образцов!X35,) -> #N/A
B37: =IF(Журнал_образцов!A37=Журнал_образцов!A36,Журнал_образцов!B36,0)+1 -> 33 | C37: =CONCATENATE(Журнал_образцов!A37,"-",TEXT(Журнал_образцов!B37,"00")) -> -33 | D37: =LOOKUP(Журнал_образцов!A41,Журнал_заявок!A$3:A58,Журнал_заявок!B$3:B58) -> #N/A | E37: =LOOKUP(Журнал_образцов!A41,Журнал_заявок!$A$3:$A58,Журнал_заявок!H$3:H58) -> #N/A | J37: =LOOKUP(Журнал_образцов!F37,справочник!K$2:K436,справочник!L$2:L436) -> #N/A | L37: 500г | M37: =LOOKUP(Журнал_образцов!$A37,Журнал_заявок!A$3:$A54,Журнал_заявок!J$3:J54) -> #N/A | N37: =LOOKUP(Журнал_образцов!$A37,Журнал_заявок!$A$3:B54,Журнал_заявок!K$3:K54) -> #N/A | U37: =LOOKUP(Журнал_образцов!$A37,Журнал_заявок!$A$3:$A54,Журнал_заявок!$D$3:$D54) -> #N/A | V37: =LOOKUP(Журнал_образцов!$A37,Журнал_заявок!$A$3:$A3591,Журнал_заявок!$L$3:$L3591) -> #N/A | W37: =CONCATENATE(G37,H37," ",IF(A37=A38,IF(F37=F38," ",F37),F37)," ",I37,J37,", ") -> #N/A | X37: =W37&IF(Журнал_образцов!A37=Журнал_образцов!A36,Журнал_образцов!X36,) -> #N/A
B38: =IF(Журнал_образцов!A38=Журнал_образцов!A37,Журнал_образцов!B37,0)+1 -> 34 | C38: =CONCATENATE(Журнал_образцов!A38,"-",TEXT(Журнал_образцов!B38,"00")) -> -34 | D38: =LOOKUP(Журнал_образцов!A42,Журнал_заявок!A$3:A59,Журнал_заявок!B$3:B59) -> #N/A | E38: =LOOKUP(Журнал_образцов!A42,Журнал_заявок!$A$3:$A59,Журнал_заявок!H$3:H59) -> #N/A | J38: =LOOKUP(Журнал_образцов!F38,справочник!K$2:K437,справочник!L$2:L437) -> #N/A | L38: 100г | M38: =LOOKUP(Журнал_образцов!$A38,Журнал_заявок!A$3:$A55,Журнал_заявок!J$3:J55) -> #N/A | N38: =LOOKUP(Журнал_образцов!$A38,Журнал_заявок!$A$3:B55,Журнал_заявок!K$3:K55) -> #N/A | U38: =LOOKUP(Журнал_образцов!$A38,Журнал_заявок!$A$3:$A55,Журнал_заявок!$D$3:$D55) -> #N/A | V38: =LOOKUP(Журнал_образцов!$A38,Журнал_заявок!$A$3:$A3592,Журнал_заявок!$L$3:$L3592) -> #N/A | W38: =CONCATENATE(G38,H38," ",IF(A38=A39,IF(F38=F39," ",F38),F38)," ",I38,J38,", ") -> #N/A | X38: =W38&IF(Журнал_образцов!A38=Журнал_образцов!A37,Журнал_образцов!X37,) -> #N/A
B39: =IF(Журнал_образцов!A39=Журнал_образцов!A38,Журнал_образцов!B38,0)+1 -> 35 | C39: =CONCATENATE(Журнал_образцов!A39,"-",TEXT(Журнал_образцов!B39,"00")) -> -35 | D39: =LOOKUP(Журнал_образцов!A43,Журнал_заявок!A$3:A60,Журнал_заявок!B$3:B60) -> #N/A | E39: =LOOKUP(Журнал_образцов!A43,Журнал_заявок!$A$3:$A60,Журнал_заявок!H$3:H60) -> #N/A | J39: =LOOKUP(Журнал_образцов!F39,справочник!K$2:K438,справочник!L$2:L438) -> #N/A | L39: 100г | M39: =LOOKUP(Журнал_образцов!$A39,Журнал_заявок!A$3:$A56,Журнал_заявок!J$3:J56) -> #N/A | N39: =LOOKUP(Журнал_образцов!$A39,Журнал_заявок!$A$3:B56,Журнал_заявок!K$3:K56) -> #N/A | U39: =LOOKUP(Журнал_образцов!$A39,Журнал_заявок!$A$3:$A56,Журнал_заявок!$D$3:$D56) -> #N/A | V39: =LOOKUP(Журнал_образцов!$A39,Журнал_заявок!$A$3:$A3593,Журнал_заявок!$L$3:$L3593) -> #N/A | W39: =CONCATENATE(G39,H39," ",IF(A39=A40,IF(F39=F40," ",F39),F39)," ",I39,J39,", ") -> #N/A | X39: =W39&IF(Журнал_образцов!A39=Журнал_образцов!A38,Журнал_образцов!X38,) -> #N/A
B40: =IF(Журнал_образцов!A40=Журнал_образцов!A39,Журнал_образцов!B39,0)+1 -> 36 | C40: =CONCATENATE(Журнал_образцов!A40,"-",TEXT(Журнал_образцов!B40,"00")) -> -36 | D40: =LOOKUP(Журнал_образцов!A44,Журнал_заявок!A$3:A61,Журнал_заявок!B$3:B61) -> #N/A | E40: =LOOKUP(Журнал_образцов!A44,Журнал_заявок!$A$3:$A61,Журнал_заявок!H$3:H61) -> #N/A | J40: =LOOKUP(Журнал_образцов!F40,справочник!K$2:K439,справочник!L$2:L439) -> #N/A | L40: 100г | M40: =LOOKUP(Журнал_образцов!$A40,Журнал_заявок!A$3:$A57,Журнал_заявок!J$3:J57) -> #N/A | N40: =LOOKUP(Журнал_образцов!$A40,Журнал_заявок!$A$3:B57,Журнал_заявок!K$3:K57) -> #N/A | U40: =LOOKUP(Журнал_образцов!$A40,Журнал_заявок!$A$3:$A57,Журнал_заявок!$D$3:$D57) -> #N/A | V40: =LOOKUP(Журнал_образцов!$A40,Журнал_заявок!$A$3:$A3594,Журнал_заявок!$L$3:$L3594) -> #N/A | W40: =CONCATENATE(G40,H40," ",IF(A40=A41,IF(F40=F41," ",F40),F40)," ",I40,J40,", ") -> #N/A | X40: =W40&IF(Журнал_образцов!A40=Журнал_образцов!A39,Журнал_образцов!X39,) -> #N/A
... B79: =IF(Журнал_образцов!A79=Журнал_образцов!A78,Журнал_образцов!B78,0)+1 -> 75 | C79: =CONCATENATE(Журнал_образцов!A79,"-",TEXT(Журнал_образцов!B79,"00")) -> -75 | D79: =LOOKUP(Журнал_образцов!A83,Журнал_заявок!A$3:A100,Журнал_заявок!B$3:B100) -> #N/A | E79: =LOOKUP(Журнал_образцов!A83,Журнал_заявок!$A$3:$A100,Журнал_заявок!H$3:H100) -> #N/A | J79: =LOOKUP(Журнал_образцов!F79,справочник!K$2:K478,справочник!L$2:L478) -> #N/A | L79: 50шт | M79: =LOOKUP(Журнал_образцов!$A79,Журнал_заявок!A$3:$A96,Журнал_заявок!J$3:J96) -> #N/A | N79: =LOOKUP(Журнал_образцов!$A79,Журнал_заявок!$A$3:B96,Журнал_заявок!K$3:K96) -> #N/A | U79: =LOOKUP(Журнал_образцов!$A79,Журнал_заявок!$A$3:$A96,Журнал_заявок!$D$3:$D96) -> #N/A | V79: =LOOKUP(Журнал_образцов!$A79,Журнал_заявок!$A$3:$A3633,Журнал_заявок!$L$3:$L3633) -> #N/A | W79: =CONCATENATE(G79,H79," ",IF(A79=A80,IF(F79=F80," ",F79),F79)," ",I79,J79,", ") -> #N/A | X79: =W79&IF(Журнал_образцов!A79=Журнал_образцов!A78,Журнал_образцов!X78,) -> #N/A
B80: =IF(Журнал_образцов!A80=Журнал_образцов!A79,Журнал_образцов!B79,0)+1 -> 76 | C80: =CONCATENATE(Журнал_образцов!A80,"-",TEXT(Журнал_образцов!B80,"00")) -> -76 | D80: =LOOKUP(Журнал_образцов!A121,Журнал_заявок!A$3:A138,Журнал_заявок!B$3:B138) -> #N/A | E80: =LOOKUP(Журнал_образцов!A121,Журнал_заявок!$A$3:$A138,Журнал_заявок!H$3:H138) -> #N/A | J80: =LOOKUP(Журнал_образцов!F80,справочник!K$2:K479,справочник!L$2:L479) -> #N/A | L80: 1кг | M80: =LOOKUP(Журнал_образцов!$A80,Журнал_заявок!A$3:$A97,Журнал_заявок!J$3:J97) -> #N/A | N80: =LOOKUP(Журнал_образцов!$A80,Журнал_заявок!$A$3:B97,Журнал_заявок!K$3:K97) -> #N/A | U80: =LOOKUP(Журнал_образцов!$A80,Журнал_заявок!$A$3:$A97,Журнал_заявок!$D$3:$D97) -> #N/A | V80: =LOOKUP(Журнал_образцов!$A80,Журнал_заявок!$A$3:$A3634,Журнал_заявок!$L$3:$L3634) -> #N/A | W80: =CONCATENATE(G80,H80," ",IF(A80=A81,IF(F80=F81," ",F80),F80)," ",I80,J80,", ") -> #N/A | X80: =W80&IF(Журнал_образцов!A80=Журнал_образцов!A79,Журнал_образцов!X79,) -> #N/A
B81: =IF(Журнал_образцов!A81=Журнал_образцов!A80,Журнал_образцов!B80,0)+1 -> 77 | C81: =CONCATENATE(Журнал_образцов!A81,"-",TEXT(Журнал_образцов!B81,"00")) -> -77 | D81: =LOOKUP(Журнал_образцов!A122,Журнал_заявок!A$3:A139,Журнал_заявок!B$3:B139) -> #N/A | E81: =LOOKUP(Журнал_образцов!A122,Журнал_заявок!$A$3:$A139,Журнал_заявок!H$3:H139) -> #N/A | J81: =LOOKUP(Журнал_образцов!F81,справочник!K$2:K480,справочник!L$2:L480) -> #N/A | L81: 1кг | M81: =LOOKUP(Журнал_образцов!$A81,Журнал_заявок!A$3:$A98,Журнал_заявок!J$3:J98) -> #N/A | N81: =LOOKUP(Журнал_образцов!$A81,Журнал_заявок!$A$3:B98,Журнал_заявок!K$3:K98) -> #N/A | U81: =LOOKUP(Журнал_образцов!$A81,Журнал_заявок!$A$3:$A98,Журнал_заявок!$D$3:$D98) -> #N/A | V81: =LOOKUP(Журнал_образцов!$A81,Журнал_заявок!$A$3:$A3635,Журнал_заявок!$L$3:$L3635) -> #N/A | W81: =CONCATENATE(G81,H81," ",IF(A81=A82,IF(F81=F82," ",F81),F81)," ",I81,J81,", ") -> #N/A | X81: =W81&IF(Журнал_образцов!A81=Журнал_образцов!A80,Журнал_образцов!X80,) -> #N/A
B82: =IF(Журнал_образцов!A82=Журнал_образцов!A81,Журнал_образцов!B81,0)+1 -> 78 | C82: =CONCATENATE(Журнал_образцов!A82,"-",TEXT(Журнал_образцов!B82,"00")) -> -78 | D82: =LOOKUP(Журнал_образцов!A123,Журнал_заявок!A$3:A140,Журнал_заявок!B$3:B140) -> #N/A | E82: =LOOKUP(Журнал_образцов!A123,Журнал_заявок!$A$3:$A140,Журнал_заявок!H$3:H140) -> #N/A | J82: =LOOKUP(Журнал_образцов!F82,справочник!K$2:K481,справочник!L$2:L481) -> #N/A | L82: 1кг | M82: =LOOKUP(Журнал_образцов!$A82,Журнал_заявок!A$3:$A99,Журнал_заявок!J$3:J99) -> #N/A | N82: =LOOKUP(Журнал_образцов!$A82,Журнал_заявок!$A$3:B99,Журнал_заявок!K$3:K99) -> #N/A | U82: =LOOKUP(Журнал_образцов!$A82,Журнал_заявок!$A$3:$A99,Журнал_заявок!$D$3:$D99) -> #N/A | V82: =LOOKUP(Журнал_образцов!$A82,Журнал_заявок!$A$3:$A3636,Журнал_заявок!$L$3:$L3636) -> #N/A | W82: =CONCATENATE(G82,H82," ",IF(A82=A83,IF(F82=F83," ",F82),F82)," ",I82,J82,", ") -> #N/A | X82: =W82&IF(Журнал_образцов!A82=Журнал_образцов!A81,Журнал_образцов!X81,) -> #N/A
B83: =IF(Журнал_образцов!A83=Журнал_образцов!A82,Журнал_образцов!B82,0)+1 -> 79 | C83: =CONCATENATE(Журнал_образцов!A83,"-",TEXT(Журнал_образцов!B83,"00")) -> -79 | D83: =LOOKUP(Журнал_образцов!A124,Журнал_заявок!A$3:A141,Журнал_заявок!B$3:B141) -> #N/A | E83: =LOOKUP(Журнал_образцов!A124,Журнал_заявок!$A$3:$A141,Журнал_заявок!H$3:H141) -> #N/A | J83: =LOOKUP(Журнал_образцов!F83,справочник!K$2:K482,справочник!L$2:L482) -> #N/A | L83: 1кг | M83: =LOOKUP(Журнал_образцов!$A83,Журнал_заявок!A$3:$A100,Журнал_заявок!J$3:J100) -> #N/A | N83: =LOOKUP(Журнал_образцов!$A83,Журнал_заявок!$A$3:B100,Журнал_заявок!K$3:K100) -> #N/A | U83: =LOOKUP(Журнал_образцов!$A83,Журнал_заявок!$A$3:$A100,Журнал_заявок!$D$3:$D100) -> #N/A | V83: =LOOKUP(Журнал_образцов!$A83,Журнал_заявок!$A$3:$A3637,Журнал_заявок!$L$3:$L3637) -> #N/A | W83: =CONCATENATE(G83,H83," ",IF(A83=A84,IF(F83=F84," ",F83),F83)," ",I83,J83,", ") -> #N/A | X83: =W83&IF(Журнал_образцов!A83=Журнал_образцов!A82,Журнал_образцов!X82,) -> #N/A
B84: =IF(Журнал_образцов!A84=Журнал_образцов!A83,Журнал_образцов!B83,0)+1 -> 80 | C84: =CONCATENATE(Журнал_образцов!A84,"-",TEXT(Журнал_образцов!B84,"00")) -> -80 | D84: =LOOKUP(Журнал_образцов!A125,Журнал_заявок!A$3:A142,Журнал_заявок!B$3:B142) -> #N/A | E84: =LOOKUP(Журнал_образцов!A125,Журнал_заявок!$A$3:$A142,Журнал_заявок!H$3:H142) -> #N/A | J84: =LOOKUP(Журнал_образцов!F84,справочник!K$2:K483,справочник!L$2:L483) -> #N/A | L84: 1кг | M84: =LOOKUP(Журнал_образцов!$A84,Журнал_заявок!A$3:$A101,Журнал_заявок!J$3:J101) -> #N/A | N84: =LOOKUP(Журнал_образцов!$A84,Журнал_заявок!$A$3:B101,Журнал_заявок!K$3:K101) -> #N/A | U84: =LOOKUP(Журнал_образцов!$A84,Журнал_заявок!$A$3:$A101,Журнал_заявок!$D$3:$D101) -> #N/A | V84: =LOOKUP(Журнал_образцов!$A84,Журнал_заявок!$A$3:$A3638,Журнал_заявок!$L$3:$L3638) -> #N/A | W84: =CONCATENATE(G84,H84," ",IF(A84=A85,IF(F84=F85," ",F84),F84)," ",I84,J84,", ") -> #N/A | X84: =W84&IF(Журнал_образцов!A84=Журнал_образцов!A83,Журнал_образцов!X83,) -> #N/A
B85: =IF(Журнал_образцов!A85=Журнал_образцов!A84,Журнал_образцов!B84,0)+1 -> 81 | C85: =CONCATENATE(Журнал_образцов!A85,"-",TEXT(Журнал_образцов!B85,"00")) -> -81 | D85: =LOOKUP(Журнал_образцов!A126,Журнал_заявок!A$3:A143,Журнал_заявок!B$3:B143) -> #N/A | E85: =LOOKUP(Журнал_образцов!A126,Журнал_заявок!$A$3:$A143,Журнал_заявок!H$3:H143) -> #N/A | J85: =LOOKUP(Журнал_образцов!F85,справочник!K$2:K484,справочник!L$2:L484) -> #N/A | L85: 1кг | M85: =LOOKUP(Журнал_образцов!$A85,Журнал_заявок!A$3:$A102,Журнал_заявок!J$3:J102) -> #N/A | N85: =LOOKUP(Журнал_образцов!$A85,Журнал_заявок!$A$3:B102,Журнал_заявок!K$3:K102) -> #N/A | U85: =LOOKUP(Журнал_образцов!$A85,Журнал_заявок!$A$3:$A102,Журнал_заявок!$D$3:$D102) -> #N/A | V85: =LOOKUP(Журнал_образцов!$A85,Журнал_заявок!$A$3:$A3639,Журнал_заявок!$L$3:$L3639) -> #N/A | W85: =CONCATENATE(G85,H85," ",IF(A85=A86,IF(F85=F86," ",F85),F85)," ",I85,J85,", ") -> #N/A | X85: =W85&IF(Журнал_образцов!A85=Журнал_образцов!A84,Журнал_образцов!X84,) -> #N/A
B86: =IF(Журнал_образцов!A86=Журнал_образцов!A85,Журнал_образцов!B85,0)+1 -> 82 | C86: =CONCATENATE(Журнал_образцов!A86,"-",TEXT(Журнал_образцов!B86,"00")) -> -82 | D86: =LOOKUP(Журнал_образцов!A127,Журнал_заявок!A$3:A144,Журнал_заявок!B$3:B144) -> #N/A | E86: =LOOKUP(Журнал_образцов!A127,Журнал_заявок!$A$3:$A144,Журнал_заявок!H$3:H144) -> #N/A | J86: =LOOKUP(Журнал_образцов!F86,справочник!K$2:K485,справочник!L$2:L485) -> #N/A | L86: 1кг | M86: =LOOKUP(Журнал_образцов!$A86,Журнал_заявок!A$3:$A103,Журнал_заявок!J$3:J103) -> #N/A | N86: =LOOKUP(Журнал_образцов!$A86,Журнал_заявок!$A$3:B103,Журнал_заявок!K$3:K103) -> #N/A | U86: =LOOKUP(Журнал_образцов!$A86,Журнал_заявок!$A$3:$A103,Журнал_заявок!$D$3:$D103) -> #N/A | V86: =LOOKUP(Журнал_образцов!$A86,Журнал_заявок!$A$3:$A3640,Журнал_заявок!$L$3:$L3640) -> #N/A | W86: =CONCATENATE(G86,H86," ",IF(A86=A87,IF(F86=F87," ",F86),F86)," ",I86,J86,", ") -> #N/A | X86: =W86&IF(Журнал_образцов!A86=Журнал_образцов!A85,Журнал_образцов!X85,) -> #N/A
B87: =IF(Журнал_образцов!A87=Журнал_образцов!A86,Журнал_образцов!B86,0)+1 -> 83 | C87: =CONCATENATE(Журнал_образцов!A87,"-",TEXT(Журнал_образцов!B87,"00")) -> -83 | D87: =LOOKUP(Журнал_образцов!A128,Журнал_заявок!A$3:A145,Журнал_заявок!B$3:B145) -> #N/A | E87: =LOOKUP(Журнал_образцов!A128,Журнал_заявок!$A$3:$A145,Журнал_заявок!H$3:H145) -> #N/A | J87: =LOOKUP(Журнал_образцов!F87,справочник!K$2:K486,справочник!L$2:L486) -> #N/A | L87: 1кг | M87: =LOOKUP(Журнал_образцов!$A87,Журнал_заявок!A$3:$A104,Журнал_заявок!J$3:J104) -> #N/A | N87: =LOOKUP(Журнал_образцов!$A87,Журнал_заявок!$A$3:B104,Журнал_заявок!K$3:K104) -> #N/A | U87: =LOOKUP(Журнал_образцов!$A87,Журнал_заявок!$A$3:$A104,Журнал_заявок!$D$3:$D104) -> #N/A | V87: =LOOKUP(Журнал_образцов!$A87,Журнал_заявок!$A$3:$A3641,Журнал_заявок!$L$3:$L3641) -> #N/A | W87: =CONCATENATE(G87,H87," ",IF(A87=A88,IF(F87=F88," ",F87),F87)," ",I87,J87,", ") -> #N/A | X87: =W87&IF(Журнал_образцов!A87=Журнал_образцов!A86,Журнал_образцов!X86,) -> #N/A
B88: =IF(Журнал_образцов!A88=Журнал_образцов!A87,Журнал_образцов!B87,0)+1 -> 84 | C88: =CONCATENATE(Журнал_образцов!A88,"-",TEXT(Журнал_образцов!B88,"00")) -> -84 | D88: =LOOKUP(Журнал_образцов!A129,Журнал_заявок!A$3:A146,Журнал_заявок!B$3:B146) -> #N/A | E88: =LOOKUP(Журнал_образцов!A129,Журнал_заявок!$A$3:$A146,Журнал_заявок!H$3:H146) -> #N/A | J88: =LOOKUP(Журнал_образцов!F88,справочник!K$2:K487,справочник!L$2:L487) -> #N/A | L88: 1кг | M88: =LOOKUP(Журнал_образцов!$A88,Журнал_заявок!A$3:$A105,Журнал_заявок!J$3:J105) -> #N/A | N88: =LOOKUP(Журнал_образцов!$A88,Журнал_заявок!$A$3:B105,Журнал_заявок!K$3:K105) -> #N/A | U88: =LOOKUP(Журнал_образцов!$A88,Журнал_заявок!$A$3:$A105,Журнал_заявок!$D$3:$D105) -> #N/A | V88: =LOOKUP(Журнал_образцов!$A88,Журнал_заявок!$A$3:$A3642,Журнал_заявок!$L$3:$L3642) -> #N/A | W88: =CONCATENATE(G88,H88," ",IF(A88=A89,IF(F88=F89," ",F88),F88)," ",I88,J88,", ") -> #N/A | X88: =W88&IF(Журнал_образцов!A88=Журнал_образцов!A87,Журнал_образцов!X87,) -> #N/A
B89: =IF(Журнал_образцов!A89=Журнал_образцов!A88,Журнал_образцов!B88,0)+1 -> 85 | C89: =CONCATENATE(Журнал_образцов!A89,"-",TEXT(Журнал_образцов!B89,"00")) -> -85 | D89: =LOOKUP(Журнал_образцов!A130,Журнал_заявок!A$3:A147,Журнал_заявок!B$3:B147) -> #N/A | E89: =LOOKUP(Журнал_образцов!A130,Журнал_заявок!$A$3:$A147,Журнал_заявок!H$3:H147) -> #N/A | J89: =LOOKUP(Журнал_образцов!F89,справочник!K$2:K488,справочник!L$2:L488) -> #N/A | L89: 1кг | M89: =LOOKUP(Журнал_образцов!$A89,Журнал_заявок!A$3:$A106,Журнал_заявок!J$3:J106) -> #N/A | N89: =LOOKUP(Журнал_образцов!$A89,Журнал_заявок!$A$3:B106,Журнал_заявок!K$3:K106) -> #N/A | U89: =LOOKUP(Журнал_образцов!$A89,Журнал_заявок!$A$3:$A106,Журнал_заявок!$D$3:$D106) -> #N/A | V89: =LOOKUP(Журнал_образцов!$A89,Журнал_заявок!$A$3:$A3643,Журнал_заявок!$L$3:$L3643) -> #N/A | W89: =CONCATENATE(G89,H89," ",IF(A89=A90,IF(F89=F90," ",F89),F89)," ",I89,J89,", ") -> #N/A | X89: =W89&IF(Журнал_образцов!A89=Журнал_образцов!A88,Журнал_образцов!X88,) -> #N/A
...

Sheet Договора
A1: № п/п | B1: Номер договора | C1: Дата договора | D1: оригинал | E1: Наименование организации / Ф.И.О. | F1: Юр.адрес | G1: ИНН | H1: КПП | I1: Представитель | J1: Контакты | K1: почт. Адрес
A2: 1 | B2: 23 | E2: ООО Травы сухие | F2: какая улица | G2: 02556868 | H2: 0202 | I2: нет | J2: нет | K2: нет
A3: 2
A4: 3
A5: 4
A6: 5
A7: 6
A8: 7
A9: 8
A10: 9
A11: 10
A12: 11
A13: 12
A14: 13
... A401: 400

Sheet Доверенности контакты
A1: Наименование организации | B1: № доверенности | C1: Дата доверенности | D1: Ф.И.О. представителя | E1: Контактные данные (тел., эл. почта)

Sheet акт отбора
B1: ФЕДЕРАЛЬНАЯ СЛУЖБА ПО ВЕТЕРИНАРНОМУ И ФИТОСАНИТАРНОМУ НАДЗОРУ (Россельхознадзор) Протокол досмотра и отбора образцов (проб) подкарантинной продукции
C3: № | D3: 08-0001 | E3: от | F3: =LOOKUP($D$3,Журнал_заявок!A3:A1460,Журнал_заявок!H3:H1460) -> 44972
B5: По заявке от | D5: =LOOKUP($D$3,Журнал_заявок!$A$3:$A$8460,Журнал_заявок!D3:D8460) -> ООО Травы сухие
B6: Юр. адрес: | D6: =VLOOKUP(D5,Договора!E1:F499,2,0) -> какая улица
B8: в присутствии представителя (ей) | F8: =VLOOKUP(D5,Договора!E1:I500,5,0) -> нет
I9: должность, Ф.И.О.
B11: В соответствии с Федеральным законом от 21.07.2014 № 206-ФЗ «О карантине растений», произведен досмотр партий подкарантинной продукции:
B13: =VLOOKUP($D$3,Журнал_образцов!$A2:$X4931,24) -> авто - f456ds Сухофрукты (ассортимент) 10т, авто - f456ds Шиповника плоды 10т
B14: (транспортное средство - (а/м, ж/д, контейнер и др), наименование подкарантинной продукции, количество).
B16: В результате досмотра _____________________________________________________________ произведен отбор проб от партии в соответствии с
B18: Количество отобранных образцов | E18: =LOOKUP(LOOKUP($D$3,Журнал_заявок!A3:A1460,Журнал_заявок!G3:G1460),справочник!A2:A1301,справочник!C2:C1001) -> 1 (один) | H18: шт.
B20: Отобранные пробы упакованы, опечатаны и направляются в
B21: Примечание: отобранные образцы подлежат, не подлежат возврату. (нужное подчеркнуть)
B23: Представитель заявителя | I23: =F8 -> нет
G24: (подпись) | J24: (Ф.И.О.)
G26: (подпись) (Ф.И.О.)
B27: Сотрудник центра | I27: =LOOKUP($D$3,Журнал_заявок!$A$3:$A$8460,Журнал_заявок!F3:F8460) -> руководитель
G28: (подпись) (Ф.И.О.)

Sheet справочник
A1: Количество образцов прописью | F1: Сотрудники Центра | H1: Транспорт | J1: Категория материала | K1: Наименование материала | L1: Ед. измерения | M1: Количество образцов | N1: ЭНТ | O1: ГЕРБ | P1: ГЕЛ | Q1: ПЦР
A2: 1 | B2: один | C2: =CONCATENATE(A2," (",B2,")") -> 1 (один) | F2: руководитель | H2: авто - | J2: Овощи, фрукты свежие | K2: Баклажаны свежие | L2: т | M2: 50шт | N2: 1
A3: 2 | B3: два | C3: =CONCATENATE(A3," (",B3,")") -> 2 (два) | F3: сотрудник | H3: вагон - | J3: Тара | K3: Барабан деревянный | L3: шт | M3: 100г | N3: 1
A4: 3 | B4: три | C4: =CONCATENATE(A4," (",B4,")") -> 3 (три) | H4: контейнер - | J4: Тара | K4: Бочонок деревянный | L4: шт | M4: 1шт | N4: 1
A5: 4 | B5: четыре | C5: =CONCATENATE(A5," (",B5,")") -> 4 (четыре) | H5: судно - | J5: Пиломатериалы | K5: Брус деревянный (лиственных пород) | L5: куб м | M5: 100г | N5: 1
A6: 5 | B6: пять | C6: =CONCATENATE(A6," (",B6,")") -> 5 (пять) | H6: почта - | J6: Пиломатериалы | K6: Брус деревянный (хвойных пород) | L6: куб м | M6: 100г | N6: 1
A7: 6 | B7: шесть | C7: =CONCATENATE(A7," (",B7,")") -> 6 (шесть) | J7: Семена | K7: Вика (семена) | L7: т | M7: 1кг | N7: 1 | O7: 1
A8: 7 | B8: семь | C8: =CONCATENATE(A8," (",B8,")") -> 7 (семь) | J8: Семена | K8: Вика кормовая | L8: т | M8: 1кг | N8: 1 | O8: 1
A9: 8 | B9: восемь | C9: =CONCATENATE(A9," (",B9,")") -> 8 (восемь) | J9: Овощи, фрукты свежие | K9: Виноград свежий | L9: т | M9: 1кг | N9: 1
A10: 9 | B10: девять | C10: =CONCATENATE(A10," (",B10,")") -> 9 (девять) | J10: Обследование | K10: Гербарный материал | L10: га | M10: 1шт | O10: 1
A11: 10 | B11: десять | C11: =CONCATENATE(A11," (",B11,")") -> 10 (десять) | F11: Кто-то | J11: Зернобобовые (горох, нут, фасоль, соя, бобы) | K11: Горох (зерно) | L11: т | M11: 1кг | N11: 1 | O11: 1
A12: 11 | B12: одиннадцать | C12: =CONCATENATE(A12," (",B12,")") -> 11 (одиннадцать) | J12: Крупа и солод | K12: Горох колотый (крупа) | L12: т | M12: 1кг | N12: 1 | O12: 1
A13: 12 | B13: двенадцать | C13: =CONCATENATE(A13," (",B13,")") -> 12 (двенадцать) | J13: Овощи, фрукты свежие | K13: Гранат свежий | L13: т | M13: 15шт | N13: 1 | O13: 1
A14: 13 | B14: тринадцать | C14: =CONCATENATE(A14," (",B14,")") -> 13 (тринадцать) | J14: Зерно 1-4 класс | K14: Гречиха | L14: т | M14: 500г | N14: 1 | O14: 1
A15: 14 | B15: четырнадцать | C15: =CONCATENATE(A15," (",B15,")") -> 14 (четырнадцать) | J15: Крупа и солод | K15: Гречневая крупа | L15: т | M15: 1 кг | N15: 1 | O15: 1
A16: 15 | B16: пятнадцать | C16: =CONCATENATE(A16," (",B16,")") -> 15 (пятнадцать) | J16: Овощи, фрукты свежие | K16: Груша свежая | L16: т | M16: 75шт | N16: 1 | O16: 1
A17: 16 | B17: шестнадцать | C17: =CONCATENATE(A17," (",B17,")") -> 16 (шестнадцать) | J17: Деревянные изделия | K17: Деревянные изделия (лиственных пород) | L17: куб м | M17: 100г | N17: 1
A18: 17 | B18: семнадцать | C18: =CONCATENATE(A18," (",B18,")") -> 17 (семнадцать) | J18: Деревянные изделия | K18: Деревянные изделия (лиственных пород) | L18: шт | M18: 100г | N18: 1
A19: 18 | B19: восемнадцать | C19: =CONCATENATE(A19," (",B19,")") -> 18 (восемнадцать) | J19: Деревянные изделия | K19: Деревянные изделия (хвойных пород) | L19: куб м | M19: 100г | N19: 1 | P19: 1
A20: 19 | B20: девятнадцать | C20: =CONCATENATE(A20," (",B20,")") -> 19 (девятнадцать) | J20: Деревянные изделия | K20: Деревянные изделия (хвойных пород) | L20: шт | M20: 100г | N20: 1 | P20: 1
A21: 20 | B21: двадцать | C21: =CONCATENATE(A21," (",B21,")") -> 20 (двадцать) | J21: Овощи, фрукты свежие | K21: Дыни свежие | L21: т | M21: 50шт | N21: 1
A22: 21 | B22: двадцать один | C22: =CONCATENATE(A22," (",B22,")") -> 21 (двадцать один) | J22: Прочее | K22: Ель новогодняя | L22: шт | M22: 5шт | N22: 1 | P22: 1
A23: 22 | B23: двадцать два | C23: =CONCATENATE(A23," (",B23,")") -> 22 (двадцать два) | J23: Жмых и шрот | K23: Жмых подсолнечника | L23: т | M23: 1кг | N23: 1 | O23: 1
A24: 23 | B24: двадцать три | C24: =CONCATENATE(A24," (",B24,")") -> 23 (двадцать три) | J24: Овощи, фрукты свежие | K24: Капуста белокочаная | L24: т | M24: 50 шт | N24: 1
A25: 24 | B25: двадцать четыре | C25: =CONCATENATE(A25," (",B25,")") -> 24 (двадцать четыре) | J25: Овощи, фрукты свежие | K25: Капуста пекинская свежая | L25: т | M25: 50шт | N25: 1
A26: 25 | B26: двадцать пять | C26: =CONCATENATE(A26," (",B26,")") -> 25 (двадцать пять) | J26: Овощи, фрукты свежие | K26: Капуста свежая | L26: т | M26: 50шт | N26: 1
A27: 26 | B27: двадцать шесть | C27: =CONCATENATE(A27," (",B27,")") -> 26 (двадцать шесть) | J27: Овощи, фрукты свежие | K27: Картофель свежий продовольственный | L27: т | M27: 50шт | N27: 1 | O27: 1 | P27: 1
A28: 27 | B28: двадцать семь | C28: =CONCATENATE(A28," (",B28,")") -> 27 (двадцать семь) | J28: Овощи, фрукты свежие | K28: Киви | L28: т | M28: 75шт | N28: 1
A29: 28 | B29: двадцать восемь | C29: =CONCATENATE(A29," (",B29,")") -> 28 (двадцать восемь) | J29: Семена | K29: клевер луговой (семена) | L29: т | M29: 250г | N29: 1 | O29: 1
A30: 29 | B30: двадцать девять | C30: =CONCATENATE(A30," (",B30,")") -> 29 (двадцать девять) | J30: Крупа и солод | K30: Крупа пшеничная полтавская | L30: т | M30: 1кг | N30: 1 | O30: 1
A31: 30 | B31: тридцать | C31: =CONCATENATE(A31," (",B31,")") -> 30 (тридцать) | J31: Семена | K31: Лён (семена) | L31: т | M31: 500г | N31: 1 | O31: 1
A32: 31 | B32: тридцать один | C32: =CONCATENATE(A32," (",B32,")") -> 31 (тридцать один) | J32: Масличные культуры | K32: Лен масличный на переработку | L32: т | M32: 0,5кг | N32: 1 | O32: 1
A33: 32 | B33: тридцать два | C33: =CONCATENATE(A33," (",B33,")") -> 32 (тридцать два) | J33: Лесоматериалы | K33: Лесоматериал (лиственных пород) | L33: куб м | M33: 100г | N33: 1
A34: 33 | B34: тридцать три | C34: =CONCATENATE(A34," (",B34,")") -> 33 (тридцать три) | J34: Лесоматериалы | K34: Лесоматериал (хвойных пород) | L34: куб м | M34: 100г | N34: 1 | P34: 1
A35: 34 | B35: тридцать четыре | C35: =CONCATENATE(A35," (",B35,")") -> 34 (тридцать четыре) | J35: Овощи, фрукты свежие | K35: Лук репчатый | L35: т | M35: 50шт | N35: 1 | O35: 1 | P35: 1
A36: 35 | B36: тридцать пять | C36: =CONCATENATE(A36," (",B36,")") -> 35 (тридцать пять) | J36: Посадочный материал | K36: Луковицы тюльпанов | L36: шт | M36: 20шт | N36: 1 | O36: 1 | P36: 1 | Q36: 1
A37: 36 | B37: тридцать шесть | C37: =CONCATENATE(A37," (",B37,")") -> 36 (тридцать шесть) | J37: Семена | K37: люпин многолетний (семена) | L37: т | M37: 1кг | N37: 1 | O37: 1
A38: 37 | B38: тридцать семь | C38: =CONCATENATE(A38," (",B38,")") -> 37 (тридцать семь) | J38: Семена | K38: люцерна изменчивая (семена) | L38: т | M38: 250г | N38: 1 | O38: 1
A39: 38 | B39: тридцать восемь | C39: =CONCATENATE(A39," (",B39,")") -> 38 (тридцать восемь) | J39: Крупа и солод | K39: Манная крупа | L39: т | M39: 1кг | N39: 1 | O39: 1
A40: 39 | B40: тридцать девять | C40: =CONCATENATE(A40," (",B40,")") -> 39 (тридцать девять) | J40: Овощи, фрукты свежие | K40: Мандарины свежие | L40: т | M40: 75шт | N40: 1
...
