Workbook

Sheet Исходные данные
A1: Данные внутреннего контроля качества результатов анализа
A3: Наиманование лаборатории | E3: Лаборатория ООО "Рога и копыта"
A4: Объект | E4: Молоко сухое
A5: Определяемый показатель | E5: Массовая доля кадмия
A6: Методика анализа | E6: Аттестованная методика измерений определения содержания токсичных элементов (кадмия, свинца, меди и цинка) в продуктах пищевых и продовольственном сырье инверсионно-вольтамперометрическими методами
A7: Обозначение НД на методику анализа | E7: МУК ХХХХХ
A8: Диапазон методики | E8: от 0,005 до 1,5 вкл.
A9: Единица измерения | E9: мк/кг
A10: СКО повторяемости, % | E10: 13
A11: СКО внутрилабораторной прецизионности, % | E11: 13
A12: Показатель точности, % | E12: 27
A13: Период заполнения контрольной карты | E13: =CONCATENATE(TEXT(MIN(B19:B48), "ДД.ММ.ГГГГ")," — ",TEXT(MAX(B19:B48), "ДД.ММ.ГГГГ")) -> 11.01.2016 — 09.02.2016
A14: Аттестованное значение образца для контроля, % | E14: 0.015
A15: Показатели качества результатов анализа были оценены на основе даннвх | E15: контрольных измерений
A17: № п/п | B17: Дата | C17: Результаты контрольных измерений | F17: Исполнитель
C18: X1 | D18: X2 | E18: Xср
A19: 1 | B19: 42380 | C19: 0.015 | D19: 0.017 | E19: =IF(AND(ISBLANK(C19),ISBLANK(D19)),"",AVERAGE(C19:D19)) -> 0.016 | F19: И.И. Иванов
A20: 2 | B20: 42381 | C20: 0.0158 | D20: 0.0136 | E20: =IF(AND(ISBLANK(C20),ISBLANK(D20)),"",AVERAGE(C20:D20)) -> 0.0147 | F20: П.П. Петров
A21: 3 | B21: 42382 | C21: 0.0162 | D21: 0.0166 | E21: =IF(AND(ISBLANK(C21),ISBLANK(D21)),"",AVERAGE(C21:D21)) -> 0.0164 | F21: И.П. Сидоров
A22: 4 | B22: 42383 | C22: 0.0159 | D22: 0.0179 | E22: =IF(AND(ISBLANK(C22),ISBLANK(D22)),"",AVERAGE(C22:D22)) -> 0.0169 | F22: И.И. Иванов
A23: 5 | B23: 42384 | C23: 0.0171 | D23: 0.0169 | E23: =IF(AND(ISBLANK(C23),ISBLANK(D23)),"",AVERAGE(C23:D23)) -> 0.017 | F23: П.П. Петров
A24: 6 | B24: 42385 | C24: 0.015 | D24: 0.0144 | E24: =IF(AND(ISBLANK(C24),ISBLANK(D24)),"",AVERAGE(C24:D24)) -> 0.0147 | F24: И.П. Сидоров
A25: 7 | B25: 42386 | C25: 0.0175 | D25: 0.0185 | E25: =IF(AND(ISBLANK(C25),ISBLANK(D25)),"",AVERAGE(C25:D25)) -> 0.018 | F25: И.И. Иванов
A26: 8 | B26: 42387 | C26: 0.0122 | D26: 0.0148 | E26: =IF(AND(ISBLANK(C26),ISBLANK(D26)),"",AVERAGE(C26:D26)) -> 0.0135 | F26: П.П. Петров
A27: 9 | B27: 42388 | C27: 0.0138 | D27: 0.012 | E27: =IF(AND(ISBLANK(C27),ISBLANK(D27)),"",AVERAGE(C27:D27)) -> 0.0129 | F27: И.П. Сидоров
A28: 10 | B28: 42389 | C28: 0.0076 | D28: 0.0125 | E28: =IF(AND(ISBLANK(C28),ISBLANK(D28)),"",AVERAGE(C28:D28)) -> 0.01005 | F28: И.И. Иванов
A29: 11 | B29: 42390 | C29: 0.0125 | D29: 0.0135 | E29: =IF(AND(ISBLANK(C29),ISBLANK(D29)),"",AVERAGE(C29:D29)) -> 0.013 | F29: П.П. Петров
A30: 12 | B30: 42391 | C30: 0.018 | D30: 0.021 | E30: =IF(AND(ISBLANK(C30),ISBLANK(D30)),"",AVERAGE(C30:D30)) -> 0.0195 | F30: И.П. Сидоров
... A48: 30 | B48: 42409 | C48: 0.0154 | D48: 0.0156 | E48: =IF(AND(ISBLANK(C48),ISBLANK(D48)),"",AVERAGE(C48:D48)) -> 0.0155 | F48: И.П. Сидоров
A50: Должность руководителя лаборатории | E50: Заведущий лабораторией
A51: И.О. Фамилия руководителя лаборатории | E51: П.П. Иваненко
A52: Должность ответственного за ВКК | E52: Менеджер по качеству
A53: И.О. Фамилия ответственного за ВКК | E53: И.И. Петренко
A57: Автоматизированная процедура построения, анализа контрольных карт Шухарта в относительных единицах с использованием ОК и расчета новых значений показателей качества методики анализа. Для свободного распространения, модификации, улучшения и т.п. (со ссылкой на автора) 02.03.2016 © Д.А. Цимбаленко

Sheet ККШ
A1: Данные для построения контрольных карт Шухарта
A4: Объект | I4: ='Исходные данные'!E4 -> Молоко сухое
A5: Определяемый показатель | I5: ='Исходные данные'!E5 -> Массовая доля кадмия
A6: Методика анализа | I6: ='Исходные данные'!E6 -> Аттестованная методика измерений определения содержания токсичных элементов (кадмия, свинца, меди и цинка) в продуктах пищевых и продовольственном сырье инверсионно-вольтамперометрическими методами
A7: Единица измерения | I7: ='Исходные данные'!E9 -> мк/кг
A8: Среднеквадратическое отклонение повторяемости, % | I8: ='Исходные данные'!E10 -> 13
A9: Среднеквадратическое отклонение внутрилабораторной прецизионности, % | I9: ='Исходные данные'!E11 -> 13
A10: Показатель точности, % | I10: ='Исходные данные'!E12 -> 27
A11: Период заполнения контрольной карты | I11: =CONCATENATE(TEXT(MIN(B20:B49), "ДД.ММ.ГГГГ")," — ",TEXT(MAX(B20:B49), "ДД.ММ.ГГГГ")) -> 11.01.2016 — 09.02.2016
A12: Аттестованное значение образца для контроля, % | I12: ='Исходные данные'!E14 -> 0.015
A13: Контрольная карта: | I13: для контроля повторяемости | J13: для контроля внутрилабораторной прецизионности | K13: для контроля точности
K14: нижний | L14: верхний
A15: Пределы действия, отн. ед. | I15: =ROUND(0.01*3.686*I8,2) -> 0.48 | J15: =ROUND(0.01*3.686*I9,2) -> 0.48 | K15: =ROUND(-0.015*I12*I10/I12,2) -> -0.41 | L15: =ROUND(0.015*I12*I10/I12,2) -> 0.41
A16: Пределы предупреждения, отн. ед. | I16: =ROUND(0.01*2.834*I8,2) -> 0.37 | J16: =ROUND(0.01*2.834*I9,2) -> 0.37 | K16: =ROUND(-0.01*I12*I10/I12,2) -> -0.27 | L16: =ROUND(0.01*I12*I10/I12,2) -> 0.27
A17: Средняя линия, отн. ед. | I17: =ROUND(0.01*1.128*I8,2) -> 0.15 | J17: =ROUND(0.01*1.128*I9,2) -> 0.15 | K17: 0
A18: № п/п | B18: Дата | C18: Результаты контрольных измерений | F18: Результат контрольной процедуры, отн. ед. | I18: Вывод о несоответствии результата контрольной процедуры пределам действия или предупреждения
C19: X1 | D19: X2 | E19: Xср | F19: для контроля повторяемости | G19: для контроля внутрилабораторной прецизионности | H19: для контроля точности | I19: при контроле повторяемости | J19: при контроле внутрилабораторной прецизионности | K19: при контроле точности | M19: ККШ повторяемости | P19: ККШ внутрилабораторной прецизионности | S19: ККШ точности
A20: =IF(ISBLANK('Исходные данные'!C19),"",'Исходные данные'!A19) -> 1 | B20: =IF(ISBLANK('Исходные данные'!B19),"",'Исходные данные'!B19) -> 42380 | C20: =IF(ISBLANK('Исходные данные'!C19),"",'Исходные данные'!C19) -> 0.015 | D20: =IF(ISBLANK('Исходные данные'!D19),"",'Исходные данные'!D19) -> 0.017 | E20: =IF(ISERROR(AVERAGE(C20:D20)),"",AVERAGE(C20:D20)) -> 0.016 | F20: =IF(ISERROR(ABS(C20-D20)/E20),"",ABS(C20-D20)/E20) -> 0.125 | G20: — | H20: =IF(ISERROR((E20-$I$12)/$I$12),"",(E20-$I$12)/$I$12) -> 0.066666667 | I20: =IF(F20="","",IF(F20>$I$15,"Сверх предела действия",IF(F20>$I$16,"Сверх предела предупреждения","—"))) -> — | J20: — | K20: =IF(H20="","",IF(ABS(H20)>$L$15,"Сверх предела действия",IF(ABS(H20)>$L$16,"Сверх предела предупреждения","—"))) -> — | M20: =$I$17 -> 0.15 | N20: =$I$16 -> 0.37 | O20: =$I$15 -> 0.48 | P20: =$J$17 -> 0.15 | Q20: =$J$16 -> 0.37 | R20: =$J$15 -> 0.48 | S20: =$K$17 -> 0 | T20: =$K$16 -> -0.27 | U20: =$L$16 -> 0.27 | V20: =$K$15 -> -0.41 | W20: =$L$15 -> 0.41
A21: =IF(ISBLANK('Исходные данные'!C20),"",'Исходные данные'!A20) -> 2 | B21: =IF(ISBLANK('Исходные данные'!B20),"",'Исходные данные'!B20) -> 42381 | C21: =IF(ISBLANK('Исходные данные'!C20),"",'Исходные данные'!C20) -> 0.0158 | D21: =IF(ISBLANK('Исходные данные'!D20),"",'Исходные данные'!D20) -> 0.0136 | E21: =IF(ISERROR(AVERAGE(C21:D21)),"",AVERAGE(C21:D21)) -> 0.0147 | F21: =IF(ISERROR(ABS(C21-D21)/E21),"",ABS(C21-D21)/E21) -> 0.14965986 | G21: =IF(ISERROR(ABS(E21-E20)/AVERAGE(E20:E21)),"",ABS(E21-E20)/AVERAGE(E20:E21)) -> 0.084690554 | H21: =IF(ISERROR((E21-$I$12)/$I$12),"",(E21-$I$12)/$I$12) -> -0.02 | I21: =IF(F21="","",IF(F21>$I$15,"Сверх предела действия",IF(F21>$I$16,"Сверх предела предупреждения","—"))) -> — | J21: =IF(G21="","",IF(G21>$J$15,"Сверх предела действия",IF(G21>$J$16,"Сверх предела предупреждения","—"))) -> — | K21: =IF(H21="","",IF(ABS(H21)>$L$15,"Сверх предела действия",IF(ABS(H21)>$L$16,"Сверх предела предупреждения","—"))) -> — | M21: =$I$17 -> 0.15 | N21: =$I$16 -> 0.37 | O21: =$I$15 -> 0.48 | P21: =$J$17 -> 0.15 | Q21: =$J$16 -> 0.37 | R21: =$J$15 -> 0.48 | S21: =$K$17 -> 0 | T21: =$K$16 -> -0.27 | U21: =$L$16 -> 0.27 | V21: =$K$15 -> -0.41 | W21: =$L$15 -> 0.41
A22: =IF(ISBLANK('Исходные данные'!C21),"",'Исходные данные'!A21) -> 3 | B22: =IF(ISBLANK('Исходные данные'!B21),"",'Исходные данные'!B21) -> 42382 | C22: =IF(ISBLANK('Исходные данные'!C21),"",'Исходные данные'!C21) -> 0.0162 | D22: =IF(ISBLANK('Исходные данные'!D21),"",'Исходные данные'!D21) -> 0.0166 | E22: =IF(ISERROR(AVERAGE(C22:D22)),"",AVERAGE(C22:D22)) -> 0.0164 | F22: =IF(ISERROR(ABS(C22-D22)/E22),"",ABS(C22-D22)/E22) -> 0.024390244 | G22: =IF(ISERROR(ABS(E22-E21)/AVERAGE(E21:E22)),"",ABS(E22-E21)/AVERAGE(E21:E22)) -> 0.10932476 | H22: =IF(ISERROR((E22-$I$12)/$I$12),"",(E22-$I$12)/$I$12) -> 0.093333333 | I22: =IF(F22="","",IF(F22>$I$15,"Сверх предела действия",IF(F22>$I$16,"Сверх предела предупреждения","—"))) -> — | J22: =IF(G22="","",IF(G22>$J$15,"Сверх предела действия",IF(G22>$J$16,"Сверх предела предупреждения","—"))) -> — | K22: =IF(H22="","",IF(ABS(H22)>$L$15,"Сверх предела действия",IF(ABS(H22)>$L$16,"Сверх предела предупреждения","—"))) -> — | M22: =$I$17 -> 0.15 | N22: =$I$16 -> 0.37 | O22: =$I$15 -> 0.48 | P22: =$J$17 -> 0.15 | Q22: =$J$16 -> 0.37 | R22: =$J$15 -> 0.48 | S22: =$K$17 -> 0 | T22: =$K$16 -> -0.27 | U22: =$L$16 -> 0.27 | V22: =$K$15 -> -0.41 | W22: =$L$15 -> 0.41
A23: =IF(ISBLANK('Исходные данные'!C22),"",'Исходные данные'!A22) -> 4 | B23: =IF(ISBLANK('Исходные данные'!B22),"",'Исходные данные'!B22) -> 42383 | C23: =IF(ISBLANK('Исходные данные'!C22),"",'Исходные данные'!C22) -> 0.0159 | D23: =IF(ISBLANK('Исходные данные'!D22),"",'Исходные данные'!D22) -> 0.0179 | E23: =IF(ISERROR(AVERAGE(C23:D23)),"",AVERAGE(C23:D23)) -> 0.0169 | F23: =IF(ISERROR(ABS(C23-D23)/E23),"",ABS(C23-D23)/E23) -> 0.1183432 | G23: =IF(ISERROR(ABS(E23-E22)/AVERAGE(E22:E23)),"",ABS(E23-E22)/AVERAGE(E22:E23)) -> 0.03003003 | H23: =IF(ISERROR((E23-$I$12)/$I$12),"",(E23-$I$12)/$I$12) -> 0.12666667 | I23: =IF(F23="","",IF(F23>$I$15,"Сверх предела действия",IF(F23>$I$16,"Сверх предела предупреждения","—"))) -> — | J23: =IF(G23="","",IF(G23>$J$15,"Сверх предела действия",IF(G23>$J$16,"Сверх предела предупреждения","—"))) -> — | K23: =IF(H23="","",IF(ABS(H23)>$L$15,"Сверх предела действия",IF(ABS(H23)>$L$16,"Сверх предела предупреждения","—"))) -> — | M23: =$I$17 -> 0.15 | N23: =$I$16 -> 0.37 | O23: =$I$15 -> 0.48 | P23: =$J$17 -> 0.15 | Q23: =$J$16 -> 0.37 | R23: =$J$15 -> 0.48 | S23: =$K$17 -> 0 | T23: =$K$16 -> -0.27 | U23: =$L$16 -> 0.27 | V23: =$K$15 -> -0.41 | W23: =$L$15 -> 0.41
A24: =IF(ISBLANK('Исходные данные'!C23),"",'Исходные данные'!A23) -> 5 | B24: =IF(ISBLANK('Исходные данные'!B23),"",'Исходные данные'!B23) -> 42384 | C24: =IF(ISBLANK('Исходные данные'!C23),"",'Исходные данные'!C23) -> 0.0171 | D24: =IF(ISBLANK('Исходные данные'!D23),"",'Исходные данные'!D23) -> 0.0169 | E24: =IF(ISERROR(AVERAGE(C24:D24)),"",AVERAGE(C24:D24)) -> 0.017 | F24: =IF(ISERROR(ABS(C24-D24)/E24),"",ABS(C24-D24)/E24) -> 0.011764706 | G24: =IF(ISERROR(ABS(E24-E23)/AVERAGE(E23:E24)),"",ABS(E24-E23)/AVERAGE(E23:E24)) -> 0.005899705 | H24: =IF(ISERROR((E24-$I$12)/$I$12),"",(E24-$I$12)/$I$12) -> 0.13333333 | I24: =IF(F24="","",IF(F24>$I$15,"Сверх предела действия",IF(F24>$I$16,"Сверх предела предупреждения","—"))) -> — | J24: =IF(G24="","",IF(G24>$J$15,"Сверх предела действия",IF(G24>$J$16,"Сверх предела предупреждения","—"))) -> — | K24: =IF(H24="","",IF(ABS(H24)>$L$15,"Сверх предела действия",IF(ABS(H24)>$L$16,"Сверх предела предупреждения","—"))) -> — | M24: =$I$17 -> 0.15 | N24: =$I$16 -> 0.37 | O24: =$I$15 -> 0.48 | P24: =$J$17 -> 0.15 | Q24: =$J$16 -> 0.37 | R24: =$J$15 -> 0.48 | S24: =$K$17 -> 0 | T24: =$K$16 -> -0.27 | U24: =$L$16 -> 0.27 | V24: =$K$15 -> -0.41 | W24: =$L$15 -> 0.41
A25: =IF(ISBLANK('Исходные данные'!C24),"",'Исходные данные'!A24) -> 6 | B25: =IF(ISBLANK('Исходные данные'!B24),"",'Исходные данные'!B24) -> 42385 | C25: =IF(ISBLANK('Исходные данные'!C24),"",'Исходные данные'!C24) -> 0.015 | D25: =IF(ISBLANK('Исходные данные'!D24),"",'Исходные данные'!D24) -> 0.0144 | E25: =IF(ISERROR(AVERAGE(C25:D25)),"",AVERAGE(C25:D25)) -> 0.0147 | F25: =IF(ISERROR(ABS(C25-D25)/E25),"",ABS(C25-D25)/E25) -> 0.040816327 | G25: =IF(ISERROR(ABS(E25-E24)/AVERAGE(E24:E25)),"",ABS(E25-E24)/AVERAGE(E24:E25)) -> 0.14511041 | H25: =IF(ISERROR((E25-$I$12)/$I$12),"",(E25-$I$12)/$I$12) -> -0.02 | I25: =IF(F25="","",IF(F25>$I$15,"Сверх предела действия",IF(F25>$I$16,"Сверх предела предупреждения","—"))) -> — | J25: =IF(G25="","",IF(G25>$J$15,"Сверх предела действия",IF(G25>$J$16,"Сверх предела предупреждения","—"))) -> — | K25: =IF(H25="","",IF(ABS(H25)>$L$15,"Сверх предела действия",IF(ABS(H25)>$L$16,"Сверх предела предупреждения","—"))) -> — | M25: =$I$17 -> 0.15 | N25: =$I$16 -> 0.37 | O25: =$I$15 -> 0.48 | P25: =$J$17 -> 0.15 | Q25: =$J$16 -> 0.37 | R25: =$J$15 -> 0.48 | S25: =$K$17 -> 0 | T25: =$K$16 -> -0.27 | U25: =$L$16 -> 0.27 | V25: =$K$15 -> -0.41 | W25: =$L$15 -> 0.41
A26: =IF(ISBLANK('Исходные данные'!C25),"",'Исходные данные'!A25) -> 7 | B26: =IF(ISBLANK('Исходные данные'!B25),"",'Исходные данные'!B25) -> 42386 | C26: =IF(ISBLANK('Исходные данные'!C25),"",'Исходные данные'!C25) -> 0.0175 | D26: =IF(ISBLANK('Исходные данные'!D25),"",'Исходные данные'!D25) -> 0.0185 | E26: =IF(ISERROR(AVERAGE(C26:D26)),"",AVERAGE(C26:D26)) -> 0.018 | F26: =IF(ISERROR(ABS(C26-D26)/E26),"",ABS(C26-D26)/E26) -> 0.055555556 | G26: =IF(ISERROR(ABS(E26-E25)/AVERAGE(E25:E26)),"",ABS(E26-E25)/AVERAGE(E25:E26)) -> 0.20183486 | H26: =IF(ISERROR((E26-$I$12)/$I$12),"",(E26-$I$12)/$I$12) -> 0.2 | I26: =IF(F26="","",IF(F26>$I$15,"Сверх предела действия",IF(F26>$I$16,"Сверх предела предупреждения","—"))) -> — | J26: =IF(G26="","",IF(G26>$J$15,"Сверх предела действия",IF(G26>$J$16,"Сверх предела предупреждения","—"))) -> — | K26: =IF(H26="","",IF(ABS(H26)>$L$15,"Сверх предела действия",IF(ABS(H26)>$L$16,"Сверх предела предупреждения","—"))) -> — | M26: =$I$17 -> 0.15 | N26: =$I$16 -> 0.37 | O26: =$I$15 -> 0.48 | P26: =$J$17 -> 0.15 | Q26: =$J$16 -> 0.37 | R26: =$J$15 -> 0.48 | S26: =$K$17 -> 0 | T26: =$K$16 -> -0.27 | U26: =$L$16 -> 0.27 | V26: =$K$15 -> -0.41 | W26: =$L$15 -> 0.41
A27: =IF(ISBLANK('Исходные данные'!C26),"",'Исходные данные'!A26) -> 8 | B27: =IF(ISBLANK('Исходные данные'!B26),"",'Исходные данные'!B26) -> 42387 | C27: =IF(ISBLANK('Исходные данные'!C26),"",'Исходные данные'!C26) -> 0.0122 | D27: =IF(ISBLANK('Исходные данные'!D26),"",'Исходные данные'!D26) -> 0.0148 | E27: =IF(ISERROR(AVERAGE(C27:D27)),"",AVERAGE(C27:D27)) -> 0.0135 | F27: =IF(ISERROR(ABS(C27-D27)/E27),"",ABS(C27-D27)/E27) -> 0.19259259 | G27: =IF(ISERROR(ABS(E27-E26)/AVERAGE(E26:E27)),"",ABS(E27-E26)/AVERAGE(E26:E27)) -> 0.28571429 | H27: =IF(ISERROR((E27-$I$12)/$I$12),"",(E27-$I$12)/$I$12) -> -0.1 | I27: =IF(F27="","",IF(F27>$I$15,"Сверх предела действия",IF(F27>$I$16,"Сверх предела предупреждения","—"))) -> — | J27: =IF(G27="","",IF(G27>$J$15,"Сверх предела действия",IF(G27>$J$16,"Сверх предела предупреждения","—"))) -> — | K27: =IF(H27="","",IF(ABS(H27)>$L$15,"Сверх предела действия",IF(ABS(H27)>$L$16,"Сверх предела предупреждения","—"))) -> — | M27: =$I$17 -> 0.15 | N27: =$I$16 -> 0.37 | O27: =$I$15 -> 0.48 | P27: =$J$17 -> 0.15 | Q27: =$J$16 -> 0.37 | R27: =$J$15 -> 0.48 | S27: =$K$17 -> 0 | T27: =$K$16 -> -0.27 | U27: =$L$16 -> 0.27 | V27: =$K$15 -> -0.41 | W27: =$L$15 -> 0.41
A28: =IF(ISBLANK('Исходные данные'!C27),"",'Исходные данные'!A27) -> 9 | B28: =IF(ISBLANK('Исходные данные'!B27),"",'Исходные данные'!B27) -> 42388 | C28: =IF(ISBLANK('Исходные данные'!C27),"",'Исходные данные'!C27) -> 0.0138 | D28: =IF(ISBLANK('Исходные данные'!D27),"",'Исходные данные'!D27) -> 0.012 | E28: =IF(ISERROR(AVERAGE(C28:D28)),"",AVERAGE(C28:D28)) -> 0.0129 | F28: =IF(ISERROR(ABS(C28-D28)/E28),"",ABS(C28-D28)/E28) -> 0.13953488 | G28: =IF(ISERROR(ABS(E28-E27)/AVERAGE(E27:E28)),"",ABS(E28-E27)/AVERAGE(E27:E28)) -> 0.045454545 | H28: =IF(ISERROR((E28-$I$12)/$I$12),"",(E28-$I$12)/$I$12) -> -0.14 | I28: =IF(F28="","",IF(F28>$I$15,"Сверх предела действия",IF(F28>$I$16,"Сверх предела предупреждения","—"))) -> — | J28: =IF(G28="","",IF(G28>$J$15,"Сверх предела действия",IF(G28>$J$16,"Сверх предела предупреждения","—"))) -> — | K28: =IF(H28="","",IF(ABS(H28)>$L$15,"Сверх предела действия",IF(ABS(H28)>$L$16,"Сверх предела предупреждения","—"))) -> — | M28: =$I$17 -> 0.15 | N28: =$I$16 -> 0.37 | O28: =$I$15 -> 0.48 | P28: =$J$17 -> 0.15 | Q28: =$J$16 -> 0.37 | R28: =$J$15 -> 0.48 | S28: =$K$17 -> 0 | T28: =$K$16 -> -0.27 | U28: =$L$16 -> 0.27 | V28: =$K$15 -> -0.41 | W28: =$L$15 -> 0.41
A29: =IF(ISBLANK('Исходные данные'!C28),"",'Исходные данные'!A28) -> 10 | B29: =IF(ISBLANK('Исходные данные'!B28),"",'Исходные данные'!B28) -> 42389 | C29: =IF(ISBLANK('Исходные данные'!C28),"",'Исходные данные'!C28) -> 0.0076 | D29: =IF(ISBLANK('Исходные данные'!D28),"",'Исходные данные'!D28) -> 0.0125 | E29: =IF(ISERROR(AVERAGE(C29:D29)),"",AVERAGE(C29:D29)) -> 0.01005 | F29: =IF(ISERROR(ABS(C29-D29)/E29),"",ABS(C29-D29)/E29) -> 0.48756219 | G29: =IF(ISERROR(ABS(E29-E28)/AVERAGE(E28:E29)),"",ABS(E29-E28)/AVERAGE(E28:E29)) -> 0.24836601 | H29: =IF(ISERROR((E29-$I$12)/$I$12),"",(E29-$I$12)/$I$12) -> -0.33 | I29: =IF(F29="","",IF(F29>$I$15,"Сверх предела действия",IF(F29>$I$16,"Сверх предела предупреждения","—"))) -> Сверх предела действия | J29: =IF(G29="","",IF(G29>$J$15,"Сверх предела действия",IF(G29>$J$16,"Сверх предела предупреждения","—"))) -> — | K29: =IF(H29="","",IF(ABS(H29)>$L$15,"Сверх предела действия",IF(ABS(H29)>$L$16,"Сверх предела предупреждения","—"))) -> Сверх предела предупреждения | M29: =$I$17 -> 0.15 | N29: =$I$16 -> 0.37 | O29: =$I$15 -> 0.48 | P29: =$J$17 -> 0.15 | Q29: =$J$16 -> 0.37 | R29: =$J$15 -> 0.48 | S29: =$K$17 -> 0 | T29: =$K$16 -> -0.27 | U29: =$L$16 -> 0.27 | V29: =$K$15 -> -0.41 | W29: =$L$15 -> 0.41
A30: =IF(ISBLANK('Исходные данные'!C29),"",'Исходные данные'!A29) -> 11 | B30: =IF(ISBLANK('Исходные данные'!B29),"",'Исходные данные'!B29) -> 42390 | C30: =IF(ISBLANK('Исходные данные'!C29),"",'Исходные данные'!C29) -> 0.0125 | D30: =IF(ISBLANK('Исходные данные'!D29),"",'Исходные данные'!D29) -> 0.0135 | E30: =IF(ISERROR(AVERAGE(C30:D30)),"",AVERAGE(C30:D30)) -> 0.013 | F30: =IF(ISERROR(ABS(C30-D30)/E30),"",ABS(C30-D30)/E30) -> 0.076923077 | G30: =IF(ISERROR(ABS(E30-E29)/AVERAGE(E29:E30)),"",ABS(E30-E29)/AVERAGE(E29:E30)) -> 0.25596529 | H30: =IF(ISERROR((E30-$I$12)/$I$12),"",(E30-$I$12)/$I$12) -> -0.13333333 | I30: =IF(F30="","",IF(F30>$I$15,"Сверх предела действия",IF(F30>$I$16,"Сверх предела предупреждения","—"))) -> — | J30: =IF(G30="","",IF(G30>$J$15,"Сверх предела действия",IF(G30>$J$16,"Сверх предела предупреждения","—"))) -> — | K30: =IF(H30="","",IF(ABS(H30)>$L$15,"Сверх предела действия",IF(ABS(H30)>$L$16,"Сверх предела предупреждения","—"))) -> — | M30: =$I$17 -> 0.15 | N30: =$I$16 -> 0.37 | O30: =$I$15 -> 0.48 | P30: =$J$17 -> 0.15 | Q30: =$J$16 -> 0.37 | R30: =$J$15 -> 0.48 | S30: =$K$17 -> 0 | T30: =$K$16 -> -0.27 | U30: =$L$16 -> 0.27 | V30: =$K$15 -> -0.41 | W30: =$L$15 -> 0.41
A31: =IF(ISBLANK('Исходные данные'!C30),"",'Исходные данные'!A30) -> 12 | B31: =IF(ISBLANK('Исходные данные'!B30),"",'Исходные данные'!B30) -> 42391 | C31: =IF(ISBLANK('Исходные данные'!C30),"",'Исходные данные'!C30) -> 0.018 | D31: =IF(ISBLANK('Исходные данные'!D30),"",'Исходные данные'!D30) -> 0.021 | E31: =IF(ISERROR(AVERAGE(C31:D31)),"",AVERAGE(C31:D31)) -> 0.0195 | F31: =IF(ISERROR(ABS(C31-D31)/E31),"",ABS(C31-D31)/E31) -> 0.15384615 | G31: =IF(ISERROR(ABS(E31-E30)/AVERAGE(E30:E31)),"",ABS(E31-E30)/AVERAGE(E30:E31)) -> 0.4 | H31: =IF(ISERROR((E31-$I$12)/$I$12),"",(E31-$I$12)/$I$12) -> 0.3 | I31: =IF(F31="","",IF(F31>$I$15,"Сверх предела действия",IF(F31>$I$16,"Сверх предела предупреждения","—"))) -> — | J31: =IF(G31="","",IF(G31>$J$15,"Сверх предела действия",IF(G31>$J$16,"Сверх предела предупреждения","—"))) -> Сверх предела предупреждения | K31: =IF(H31="","",IF(ABS(H31)>$L$15,"Сверх предела действия",IF(ABS(H31)>$L$16,"Сверх предела предупреждения","—"))) -> Сверх предела предупреждения | M31: =$I$17 -> 0.15 | N31: =$I$16 -> 0.37 | O31: =$I$15 -> 0.48 | P31: =$J$17 -> 0.15 | Q31: =$J$16 -> 0.37 | R31: =$J$15 -> 0.48 | S31: =$K$17 -> 0 | T31: =$K$16 -> -0.27 | U31: =$L$16 -> 0.27 | V31: =$K$15 -> -0.41 | W31: =$L$15 -> 0.41
A32: =IF(ISBLANK('Исходные данные'!C31),"",'Исходные данные'!A31) -> 13 | B32: =IF(ISBLANK('Исходные данные'!B31),"",'Исходные данные'!B31) -> 42392 | C32: =IF(ISBLANK('Исходные данные'!C31),"",'Исходные данные'!C31) -> 0.0151 | D32: =IF(ISBLANK('Исходные данные'!D31),"",'Исходные данные'!D31) -> 0.0147 | E32: =IF(ISERROR(AVERAGE(C32:D32)),"",AVERAGE(C32:D32)) -> 0.0149 | F32: =IF(ISERROR(ABS(C32-D32)/E32),"",ABS(C32-D32)/E32) -> 0.026845638 | G32: =IF(ISERROR(ABS(E32-E31)/AVERAGE(E31:E32)),"",ABS(E32-E31)/AVERAGE(E31:E32)) -> 0.26744186 | H32: =IF(ISERROR((E32-$I$12)/$I$12),"",(E32-$I$12)/$I$12) -> -0.0066666667 | I32: =IF(F32="","",IF(F32>$I$15,"Сверх предела действия",IF(F32>$I$16,"Сверх предела предупреждения","—"))) -> — | J32: =IF(G32="","",IF(G32>$J$15,"Сверх предела действия",IF(G32>$J$16,"Сверх предела предупреждения","—"))) -> — | K32: =IF(H32="","",IF(ABS(H32)>$L$15,"Сверх предела действия",IF(ABS(H32)>$L$16,"Сверх предела предупреждения","—"))) -> — | M32: =$I$17 -> 0.15 | N32: =$I$16 -> 0.37 | O32: =$I$15 -> 0.48 | P32: =$J$17 -> 0.15 | Q32: =$J$16 -> 0.37 | R32: =$J$15 -> 0.48 | S32: =$K$17 -> 0 | T32: =$K$16 -> -0.27 | U32: =$L$16 -> 0.27 | V32: =$K$15 -> -0.41 | W32: =$L$15 -> 0.41
... A49: =IF(ISBLANK('Исходные данные'!C48),"",'Исходные данные'!A48) -> 30 | B49: =IF(ISBLANK('Исходные данные'!B48),"",'Исходные данные'!B48) -> 42409 | C49: =IF(ISBLANK('Исходные данные'!C48),"",'Исходные данные'!C48) -> 0.0154 | D49: =IF(ISBLANK('Исходные данные'!D48),"",'Исходные данные'!D48) -> 0.0156 | E49: =IF(ISERROR(AVERAGE(C49:D49)),"",AVERAGE(C49:D49)) -> 0.0155 | F49: =IF(ISERROR(ABS(C49-D49)/E49),"",ABS(C49-D49)/E49) -> 0.012903226 | G49: =IF(ISERROR(ABS(E49-E48)/AVERAGE(E48:E49)),"",ABS(E49-E48)/AVERAGE(E48:E49)) -> 0.13793103 | H49: =IF(ISERROR((E49-$I$12)/$I$12),"",(E49-$I$12)/$I$12) -> 0.033333333 | I49: =IF(F49="","",IF(F49>$I$15,"Сверх предела действия",IF(F49>$I$16,"Сверх предела предупреждения","—"))) -> — | J49: =IF(G49="","",IF(G49>$J$15,"Сверх предела действия",IF(G49>$J$16,"Сверх предела предупреждения","—"))) -> — | K49: =IF(H49="","",IF(ABS(H49)>$L$15,"Сверх предела действия",IF(ABS(H49)>$L$16,"Сверх предела предупреждения","—"))) -> — | M49: =$I$17 -> 0.15 | N49: =$I$16 -> 0.37 | O49: =$I$15 -> 0.48 | P49: =$J$17 -> 0.15 | Q49: =$J$16 -> 0.37 | R49: =$J$15 -> 0.48 | S49: =$K$17 -> 0 | T49: =$K$16 -> -0.27 | U49: =$L$16 -> 0.27 | V49: =$K$15 -> -0.41 | W49: =$L$15 -> 0.41
A51: Контрольные карты Шухарта
A97: АНАЛИЗ ККШ ТОЧНОСТИ
A98: № п/п | B98: Одна точка вышла за предел действия | E98: 9 точек подряд находятся по одну сторону от средней линии | G98: 6 возрастающих или убывающих точек подряд | I98: 2 из 3 последовательных точек находятся выше предела предупреждения | J98: 4 из 5 последовательных точек находятся выше половинной границы верхней или нижней зоны предупреждения | K98: модуль значений 8 последовательных точек превышает значение Kпр/2
A99: =IF(H20="","",'Исходные данные'!A19) -> 1 | B99: =IF(H20="","",IF(OR(H20>W20,H20<V20),"Да","—")) -> — | E99: — | G99: — | I99: — | J99: — | K99: —
A100: =IF(H21="","",'Исходные данные'!A20) -> 2 | B100: =IF(H21="","",IF(OR(H21>W21,H21<V21),"Да","—")) -> — | E100: — | G100: — | I100: — | J100: — | K100: —
A101: =IF(H22="","",'Исходные данные'!A21) -> 3 | B101: =IF(H22="","",IF(OR(H22>W22,H22<V22),"Да","—")) -> — | E101: — | G101: — | I101: =IF(H22="","",IF(OR(AND(ABS(H20)>$L$16,ABS(H21)>$L$16),AND(ABS(H21)>$L$16,ABS(H22)>$L$16),AND(ABS(H20)>$L$16,ABS(H22)>$L$16)),"Да","—")) -> — | J101: — | K101: —
A102: =IF(H23="","",'Исходные данные'!A22) -> 4 | B102: =IF(H23="","",IF(OR(H23>W23,H23<V23),"Да","—")) -> — | E102: — | G102: — | I102: =IF(H23="","",IF(OR(AND(ABS(H21)>$L$16,ABS(H22)>$L$16),AND(ABS(H22)>$L$16,ABS(H23)>$L$16),AND(ABS(H21)>$L$16,ABS(H23)>$L$16)),"Да","—")) -> — | J102: — | K102: —
A103: =IF(H24="","",'Исходные данные'!A23) -> 5 | B103: =IF(H24="","",IF(OR(H24>W24,H24<V24),"Да","—")) -> — | E103: — | G103: — | I103: =IF(H24="","",IF(OR(AND(ABS(H22)>$L$16,ABS(H23)>$L$16),AND(ABS(H23)>$L$16,ABS(H24)>$L$16),AND(ABS(H22)>$L$16,ABS(H24)>$L$16)),"Да","—")) -> — | J103: =IF(H24="","",IF(OR(OR(AND(H20>$L$16/2,H21>$L$16/2,H22>$L$16/2,H23>$L$16/2),AND(H20>$L$16/2,H21>$L$16/2,H22>$L$16/2,H24>$L$16/2),AND(H20>$L$16/2,H21>$L$16/2,H23>$L$16/2,H24>$L$16/2),AND(H20>$L$16/2,H22>$L$16/2,H23>$L$16/2,H24>$L$16/2),AND(H21>$L$16/2,H22>$L$16/2,H23>$L$16/2,H24>$L$16/2)),OR(AND(H20<$K$16/2,H21<$K$16/2,H22<$K$16/2,H23<$K$16/2),AND(H20<$K$16/2,H21<$K$16/2,H22<$K$16/2,H24<$K$16/2),AND(H20<$K$16/2,H21<$K$16/2,H23<$K$16/2,H24<$K$16/2),AND(H20<$K$16/2,H22<$K$16/2,H23<$K$16/2,H24<$K$16/2),AND(H21<$K$16/2,H22<$K$16/2,H23<$K$16/2,H24<$K$16/2))),"Да","—")) -> — | K103: —
A104: =IF(H25="","",'Исходные данные'!A24) -> 6 | B104: =IF(H25="","",IF(OR(H25>W25,H25<V25),"Да","—")) -> — | E104: — | G104: =IF(H25="","",IF(OR(AND(H20<H21,H21<H22,H22<H23,H23<H24,H24<H25),AND(H20>H21,H21>H22,H22>H23,H23>H24,H24>H25)),"Да","—")) -> — | I104: =IF(H25="","",IF(OR(AND(ABS(H23)>$L$16,ABS(H24)>$L$16),AND(ABS(H24)>$L$16,ABS(H25)>$L$16),AND(ABS(H23)>$L$16,ABS(H25)>$L$16)),"Да","—")) -> — | J104: =IF(H25="","",IF(OR(OR(AND(H21>$L$16/2,H22>$L$16/2,H23>$L$16/2,H24>$L$16/2),AND(H21>$L$16/2,H22>$L$16/2,H23>$L$16/2,H25>$L$16/2),AND(H21>$L$16/2,H22>$L$16/2,H24>$L$16/2,H25>$L$16/2),AND(H21>$L$16/2,H23>$L$16/2,H24>$L$16/2,H25>$L$16/2),AND(H22>$L$16/2,H23>$L$16/2,H24>$L$16/2,H25>$L$16/2)),OR(AND(H21<$K$16/2,H22<$K$16/2,H23<$K$16/2,H24<$K$16/2),AND(H21<$K$16/2,H22<$K$16/2,H23<$K$16/2,H25<$K$16/2),AND(H21<$K$16/2,H22<$K$16/2,H24<$K$16/2,H25<$K$16/2),AND(H21<$K$16/2,H23<$K$16/2,H24<$K$16/2,H25<$K$16/2),AND(H22<$K$16/2,H23<$K$16/2,H24<$K$16/2,H25<$K$16/2))),"Да","—")) -> — | K104: —
A105: =IF(H26="","",'Исходные данные'!A25) -> 7 | B105: =IF(H26="","",IF(OR(H26>W26,H26<V26),"Да","—")) -> — | E105: — | G105: =IF(H26="","",IF(OR(AND(H21<H22,H22<H23,H23<H24,H24<H25,H25<H26),AND(H21>H22,H22>H23,H23>H24,H24>H25,H25>H26)),"Да","—")) -> — | I105: =IF(H26="","",IF(OR(AND(ABS(H24)>$L$16,ABS(H25)>$L$16),AND(ABS(H25)>$L$16,ABS(H26)>$L$16),AND(ABS(H24)>$L$16,ABS(H26)>$L$16)),"Да","—")) -> — | J105: =IF(H26="","",IF(OR(OR(AND(H22>$L$16/2,H23>$L$16/2,H24>$L$16/2,H25>$L$16/2),AND(H22>$L$16/2,H23>$L$16/2,H24>$L$16/2,H26>$L$16/2),AND(H22>$L$16/2,H23>$L$16/2,H25>$L$16/2,H26>$L$16/2),AND(H22>$L$16/2,H24>$L$16/2,H25>$L$16/2,H26>$L$16/2),AND(H23>$L$16/2,H24>$L$16/2,H25>$L$16/2,H26>$L$16/2)),OR(AND(H22<$K$16/2,H23<$K$16/2,H24<$K$16/2,H25<$K$16/2),AND(H22<$K$16/2,H23<$K$16/2,H24<$K$16/2,H26<$K$16/2),AND(H22<$K$16/2,H23<$K$16/2,H25<$K$16/2,H26<$K$16/2),AND(H22<$K$16/2,H24<$K$16/2,H25<$K$16/2,H26<$K$16/2),AND(H23<$K$16/2,H24<$K$16/2,H25<$K$16/2,H26<$K$16/2))),"Да","—")) -> — | K105: —
A106: =IF(H27="","",'Исходные данные'!A26) -> 8 | B106: =IF(H27="","",IF(OR(H27>W27,H27<V27),"Да","—")) -> — | E106: — | G106: =IF(H27="","",IF(OR(AND(H22<H23,H23<H24,H24<H25,H25<H26,H26<H27),AND(H22>H23,H23>H24,H24>H25,H25>H26,H26>H27)),"Да","—")) -> — | I106: =IF(H27="","",IF(OR(AND(ABS(H25)>$L$16,ABS(H26)>$L$16),AND(ABS(H26)>$L$16,ABS(H27)>$L$16),AND(ABS(H25)>$L$16,ABS(H27)>$L$16)),"Да","—")) -> — | J106: =IF(H27="","",IF(OR(OR(AND(H23>$L$16/2,H24>$L$16/2,H25>$L$16/2,H26>$L$16/2),AND(H23>$L$16/2,H24>$L$16/2,H25>$L$16/2,H27>$L$16/2),AND(H23>$L$16/2,H24>$L$16/2,H26>$L$16/2,H27>$L$16/2),AND(H23>$L$16/2,H25>$L$16/2,H26>$L$16/2,H27>$L$16/2),AND(H24>$L$16/2,H25>$L$16/2,H26>$L$16/2,H27>$L$16/2)),OR(AND(H23<$K$16/2,H24<$K$16/2,H25<$K$16/2,H26<$K$16/2),AND(H23<$K$16/2,H24<$K$16/2,H25<$K$16/2,H27<$K$16/2),AND(H23<$K$16/2,H24<$K$16/2,H26<$K$16/2,H27<$K$16/2),AND(H23<$K$16/2,H25<$K$16/2,H26<$K$16/2,H27<$K$16/2),AND(H24<$K$16/2,H25<$K$16/2,H26<$K$16/2,H27<$K$16/2))),"Да","—")) -> — | K106: =IF(H27="","",IF(AND(ABS(H20)>$L$16/2,ABS(H21)>$L$16/2,ABS(H22)>$L$16/2,ABS(H23)>$L$16/2,ABS(H24)>$L$16/2,ABS(H25)>$L$16/2,ABS(H26)>$L$16/2,ABS(H27)>$L$16/2),"Да","—")) -> —
A107: =IF(H28="","",'Исходные данные'!A27) -> 9 | B107: =IF(H28="","",IF(OR(H28>W28,H28<V28),"Да","—")) -> — | E107: =IF(H28="","",IF(OR(AND(H20>$K$17,H21>$K$17,H22>$K$17,H23>$K$17,H24>$K$17,H25>$K$17,H26>$K$17,H27>$K$17,H28>$K$17),AND(H20<$K$17,H21<$K$17,H22<$K$17,H23<$K$17,H24<$K$17,H25<$K$17,H26<$K$17,H27<$K$17,H28<$K$17)),"Да","—")) -> — | G107: =IF(H28="","",IF(OR(AND(H23<H24,H24<H25,H25<H26,H26<H27,H27<H28),AND(H23>H24,H24>H25,H25>H26,H26>H27,H27>H28)),"Да","—")) -> — | I107: =IF(H28="","",IF(OR(AND(ABS(H26)>$L$16,ABS(H27)>$L$16),AND(ABS(H27)>$L$16,ABS(H28)>$L$16),AND(ABS(H26)>$L$16,ABS(H28)>$L$16)),"Да","—")) -> — | J107: =IF(H28="","",IF(OR(OR(AND(H24>$L$16/2,H25>$L$16/2,H26>$L$16/2,H27>$L$16/2),AND(H24>$L$16/2,H25>$L$16/2,H26>$L$16/2,H28>$L$16/2),AND(H24>$L$16/2,H25>$L$16/2,H27>$L$16/2,H28>$L$16/2),AND(H24>$L$16/2,H26>$L$16/2,H27>$L$16/2,H28>$L$16/2),AND(H25>$L$16/2,H26>$L$16/2,H27>$L$16/2,H28>$L$16/2)),OR(AND(H24<$K$16/2,H25<$K$16/2,H26<$K$16/2,H27<$K$16/2),AND(H24<$K$16/2,H25<$K$16/2,H26<$K$16/2,H28<$K$16/2),AND(H24<$K$16/2,H25<$K$16/2,H27<$K$16/2,H28<$K$16/2),AND(H24<$K$16/2,H26<$K$16/2,H27<$K$16/2,H28<$K$16/2),AND(H25<$K$16/2,H26<$K$16/2,H27<$K$16/2,H28<$K$16/2))),"Да","—")) -> — | K107: =IF(H28="","",IF(AND(ABS(H21)>$L$16/2,ABS(H22)>$L$16/2,ABS(H23)>$L$16/2,ABS(H24)>$L$16/2,ABS(H25)>$L$16/2,ABS(H26)>$L$16/2,ABS(H27)>$L$16/2,ABS(H28)>$L$16/2),"Да","—")) -> —
A108: =IF(H29="","",'Исходные данные'!A28) -> 10 | B108: =IF(H29="","",IF(OR(H29>W29,H29<V29),"Да","—")) -> — | E108: =IF(H29="","",IF(OR(AND(H21>$K$17,H22>$K$17,H23>$K$17,H24>$K$17,H25>$K$17,H26>$K$17,H27>$K$17,H28>$K$17,H29>$K$17),AND(H21<$K$17,H22<$K$17,H23<$K$17,H24<$K$17,H25<$K$17,H26<$K$17,H27<$K$17,H28<$K$17,H29<$K$17)),"Да","—")) -> — | G108: =IF(H29="","",IF(OR(AND(H24<H25,H25<H26,H26<H27,H27<H28,H28<H29),AND(H24>H25,H25>H26,H26>H27,H27>H28,H28>H29)),"Да","—")) -> — | I108: =IF(H29="","",IF(OR(AND(ABS(H27)>$L$16,ABS(H28)>$L$16),AND(ABS(H28)>$L$16,ABS(H29)>$L$16),AND(ABS(H27)>$L$16,ABS(H29)>$L$16)),"Да","—")) -> — | J108: =IF(H29="","",IF(OR(OR(AND(H25>$L$16/2,H26>$L$16/2,H27>$L$16/2,H28>$L$16/2),AND(H25>$L$16/2,H26>$L$16/2,H27>$L$16/2,H29>$L$16/2),AND(H25>$L$16/2,H26>$L$16/2,H28>$L$16/2,H29>$L$16/2),AND(H25>$L$16/2,H27>$L$16/2,H28>$L$16/2,H29>$L$16/2),AND(H26>$L$16/2,H27>$L$16/2,H28>$L$16/2,H29>$L$16/2)),OR(AND(H25<$K$16/2,H26<$K$16/2,H27<$K$16/2,H28<$K$16/2),AND(H25<$K$16/2,H26<$K$16/2,H27<$K$16/2,H29<$K$16/2),AND(H25<$K$16/2,H26<$K$16/2,H28<$K$16/2,H29<$K$16/2),AND(H25<$K$16/2,H27<$K$16/2,H28<$K$16/2,H29<$K$16/2),AND(H26<$K$16/2,H27<$K$16/2,H28<$K$16/2,H29<$K$16/2))),"Да","—")) -> — | K108: =IF(H29="","",IF(AND(ABS(H22)>$L$16/2,ABS(H23)>$L$16/2,ABS(H24)>$L$16/2,ABS(H25)>$L$16/2,ABS(H26)>$L$16/2,ABS(H27)>$L$16/2,ABS(H28)>$L$16/2,ABS(H29)>$L$16/2),"Да","—")) -> —
A109: =IF(H30="","",'Исходные данные'!A29) -> 11 | B109: =IF(H30="","",IF(OR(H30>W30,H30<V30),"Да","—")) -> — | E109: =IF(H30="","",IF(OR(AND(H22>$K$17,H23>$K$17,H24>$K$17,H25>$K$17,H26>$K$17,H27>$K$17,H28>$K$17,H29>$K$17,H30>$K$17),AND(H22<$K$17,H23<$K$17,H24<$K$17,H25<$K$17,H26<$K$17,H27<$K$17,H28<$K$17,H29<$K$17,H30<$K$17)),"Да","—")) -> — | G109: =IF(H30="","",IF(OR(AND(H25<H26,H26<H27,H27<H28,H28<H29,H29<H30),AND(H25>H26,H26>H27,H27>H28,H28>H29,H29>H30)),"Да","—")) -> — | I109: =IF(H30="","",IF(OR(AND(ABS(H28)>$L$16,ABS(H29)>$L$16),AND(ABS(H29)>$L$16,ABS(H30)>$L$16),AND(ABS(H28)>$L$16,ABS(H30)>$L$16)),"Да","—")) -> — | J109: =IF(H30="","",IF(OR(OR(AND(H26>$L$16/2,H27>$L$16/2,H28>$L$16/2,H29>$L$16/2),AND(H26>$L$16/2,H27>$L$16/2,H28>$L$16/2,H30>$L$16/2),AND(H26>$L$16/2,H27>$L$16/2,H29>$L$16/2,H30>$L$16/2),AND(H26>$L$16/2,H28>$L$16/2,H29>$L$16/2,H30>$L$16/2),AND(H27>$L$16/2,H28>$L$16/2,H29>$L$16/2,H30>$L$16/2)),OR(AND(H26<$K$16/2,H27<$K$16/2,H28<$K$16/2,H29<$K$16/2),AND(H26<$K$16/2,H27<$K$16/2,H28<$K$16/2,H30<$K$16/2),AND(H26<$K$16/2,H27<$K$16/2,H29<$K$16/2,H30<$K$16/2),AND(H26<$K$16/2,H28<$K$16/2,H29<$K$16/2,H30<$K$16/2),AND(H27<$K$16/2,H28<$K$16/2,H29<$K$16/2,H30<$K$16/2))),"Да","—")) -> — | K109: =IF(H30="","",IF(AND(ABS(H23)>$L$16/2,ABS(H24)>$L$16/2,ABS(H25)>$L$16/2,ABS(H26)>$L$16/2,ABS(H27)>$L$16/2,ABS(H28)>$L$16/2,ABS(H29)>$L$16/2,ABS(H30)>$L$16/2),"Да","—")) -> —
A110: =IF(H31="","",'Исходные данные'!A30) -> 12 | B110: =IF(H31="","",IF(OR(H31>W31,H31<V31),"Да","—")) -> — | E110: =IF(H31="","",IF(OR(AND(H23>$K$17,H24>$K$17,H25>$K$17,H26>$K$17,H27>$K$17,H28>$K$17,H29>$K$17,H30>$K$17,H31>$K$17),AND(H23<$K$17,H24<$K$17,H25<$K$17,H26<$K$17,H27<$K$17,H28<$K$17,H29<$K$17,H30<$K$17,H31<$K$17)),"Да","—")) -> — | G110: =IF(H31="","",IF(OR(AND(H26<H27,H27<H28,H28<H29,H29<H30,H30<H31),AND(H26>H27,H27>H28,H28>H29,H29>H30,H30>H31)),"Да","—")) -> — | I110: =IF(H31="","",IF(OR(AND(ABS(H29)>$L$16,ABS(H30)>$L$16),AND(ABS(H30)>$L$16,ABS(H31)>$L$16),AND(ABS(H29)>$L$16,ABS(H31)>$L$16)),"Да","—")) -> Да | J110: =IF(H31="","",IF(OR(OR(AND(H27>$L$16/2,H28>$L$16/2,H29>$L$16/2,H30>$L$16/2),AND(H27>$L$16/2,H28>$L$16/2,H29>$L$16/2,H31>$L$16/2),AND(H27>$L$16/2,H28>$L$16/2,H30>$L$16/2,H31>$L$16/2),AND(H27>$L$16/2,H29>$L$16/2,H30>$L$16/2,H31>$L$16/2),AND(H28>$L$16/2,H29>$L$16/2,H30>$L$16/2,H31>$L$16/2)),OR(AND(H27<$K$16/2,H28<$K$16/2,H29<$K$16/2,H30<$K$16/2),AND(H27<$K$16/2,H28<$K$16/2,H29<$K$16/2,H31<$K$16/2),AND(H27<$K$16/2,H28<$K$16/2,H30<$K$16/2,H31<$K$16/2),AND(H27<$K$16/2,H29<$K$16/2,H30<$K$16/2,H31<$K$16/2),AND(H28<$K$16/2,H29<$K$16/2,H30<$K$16/2,H31<$K$16/2))),"Да","—")) -> — | K110: =IF(H31="","",IF(AND(ABS(H24)>$L$16/2,ABS(H25)>$L$16/2,ABS(H26)>$L$16/2,ABS(H27)>$L$16/2,ABS(H28)>$L$16/2,ABS(H29)>$L$16/2,ABS(H30)>$L$16/2,ABS(H31)>$L$16/2),"Да","—")) -> —
A111: =IF(H32="","",'Исходные данные'!A31) -> 13 | B111: =IF(H32="","",IF(OR(H32>W32,H32<V32),"Да","—")) -> — | E111: =IF(H32="","",IF(OR(AND(H24>$K$17,H25>$K$17,H26>$K$17,H27>$K$17,H28>$K$17,H29>$K$17,H30>$K$17,H31>$K$17,H32>$K$17),AND(H24<$K$17,H25<$K$17,H26<$K$17,H27<$K$17,H28<$K$17,H29<$K$17,H30<$K$17,H31<$K$17,H32<$K$17)),"Да","—")) -> — | G111: =IF(H32="","",IF(OR(AND(H27<H28,H28<H29,H29<H30,H30<H31,H31<H32),AND(H27>H28,H28>H29,H29>H30,H30>H31,H31>H32)),"Да","—")) -> — | I111: =IF(H32="","",IF(OR(AND(ABS(H30)>$L$16,ABS(H31)>$L$16),AND(ABS(H31)>$L$16,ABS(H32)>$L$16),AND(ABS(H30)>$L$16,ABS(H32)>$L$16)),"Да","—")) -> — | J111: =IF(H32="","",IF(OR(OR(AND(H28>$L$16/2,H29>$L$16/2,H30>$L$16/2,H31>$L$16/2),AND(H28>$L$16/2,H29>$L$16/2,H30>$L$16/2,H32>$L$16/2),AND(H28>$L$16/2,H29>$L$16/2,H31>$L$16/2,H32>$L$16/2),AND(H28>$L$16/2,H30>$L$16/2,H31>$L$16/2,H32>$L$16/2),AND(H29>$L$16/2,H30>$L$16/2,H31>$L$16/2,H32>$L$16/2)),OR(AND(H28<$K$16/2,H29<$K$16/2,H30<$K$16/2,H31<$K$16/2),AND(H28<$K$16/2,H29<$K$16/2,H30<$K$16/2,H32<$K$16/2),AND(H28<$K$16/2,H29<$K$16/2,H31<$K$16/2,H32<$K$16/2),AND(H28<$K$16/2,H30<$K$16/2,H31<$K$16/2,H32<$K$16/2),AND(H29<$K$16/2,H30<$K$16/2,H31<$K$16/2,H32<$K$16/2))),"Да","—")) -> — | K111: =IF(H32="","",IF(AND(ABS(H25)>$L$16/2,ABS(H26)>$L$16/2,ABS(H27)>$L$16/2,ABS(H28)>$L$16/2,ABS(H29)>$L$16/2,ABS(H30)>$L$16/2,ABS(H31)>$L$16/2,ABS(H32)>$L$16/2),"Да","—")) -> —
A112: =IF(H33="","",'Исходные данные'!A32) -> 14 | B112: =IF(H33="","",IF(OR(H33>W33,H33<V33),"Да","—")) -> — | E112: =IF(H33="","",IF(OR(AND(H25>$K$17,H26>$K$17,H27>$K$17,H28>$K$17,H29>$K$17,H30>$K$17,H31>$K$17,H32>$K$17,H33>$K$17),AND(H25<$K$17,H26<$K$17,H27<$K$17,H28<$K$17,H29<$K$17,H30<$K$17,H31<$K$17,H32<$K$17,H33<$K$17)),"Да","—")) -> — | G112: =IF(H33="","",IF(OR(AND(H28<H29,H29<H30,H30<H31,H31<H32,H32<H33),AND(H28>H29,H29>H30,H30>H31,H31>H32,H32>H33)),"Да","—")) -> — | I112: =IF(H33="","",IF(OR(AND(ABS(H31)>$L$16,ABS(H32)>$L$16),AND(ABS(H32)>$L$16,ABS(H33)>$L$16),AND(ABS(H31)>$L$16,ABS(H33)>$L$16)),"Да","—")) -> — | J112: =IF(H33="","",IF(OR(OR(AND(H29>$L$16/2,H30>$L$16/2,H31>$L$16/2,H32>$L$16/2),AND(H29>$L$16/2,H30>$L$16/2,H31>$L$16/2,H33>$L$16/2),AND(H29>$L$16/2,H30>$L$16/2,H32>$L$16/2,H33>$L$16/2),AND(H29>$L$16/2,H31>$L$16/2,H32>$L$16/2,H33>$L$16/2),AND(H30>$L$16/2,H31>$L$16/2,H32>$L$16/2,H33>$L$16/2)),OR(AND(H29<$K$16/2,H30<$K$16/2,H31<$K$16/2,H32<$K$16/2),AND(H29<$K$16/2,H30<$K$16/2,H31<$K$16/2,H33<$K$16/2),AND(H29<$K$16/2,H30<$K$16/2,H32<$K$16/2,H33<$K$16/2),AND(H29<$K$16/2,H31<$K$16/2,H32<$K$16/2,H33<$K$16/2),AND(H30<$K$16/2,H31<$K$16/2,H32<$K$16/2,H33<$K$16/2))),"Да","—")) -> — | K112: =IF(H33="","",IF(AND(ABS(H26)>$L$16/2,ABS(H27)>$L$16/2,ABS(H28)>$L$16/2,ABS(H29)>$L$16/2,ABS(H30)>$L$16/2,ABS(H31)>$L$16/2,ABS(H32)>$L$16/2,ABS(H33)>$L$16/2),"Да","—")) -> —
A113: =IF(H34="","",'Исходные данные'!A33) -> 15 | B113: =IF(H34="","",IF(OR(H34>W34,H34<V34),"Да","—")) -> — | E113: =IF(H34="","",IF(OR(AND(H26>$K$17,H27>$K$17,H28>$K$17,H29>$K$17,H30>$K$17,H31>$K$17,H32>$K$17,H33>$K$17,H34>$K$17),AND(H26<$K$17,H27<$K$17,H28<$K$17,H29<$K$17,H30<$K$17,H31<$K$17,H32<$K$17,H33<$K$17,H34<$K$17)),"Да","—")) -> — | G113: =IF(H34="","",IF(OR(AND(H29<H30,H30<H31,H31<H32,H32<H33,H33<H34),AND(H29>H30,H30>H31,H31>H32,H32>H33,H33>H34)),"Да","—")) -> — | I113: =IF(H34="","",IF(OR(AND(ABS(H32)>$L$16,ABS(H33)>$L$16),AND(ABS(H33)>$L$16,ABS(H34)>$L$16),AND(ABS(H32)>$L$16,ABS(H34)>$L$16)),"Да","—")) -> — | J113: =IF(H34="","",IF(OR(OR(AND(H30>$L$16/2,H31>$L$16/2,H32>$L$16/2,H33>$L$16/2),AND(H30>$L$16/2,H31>$L$16/2,H32>$L$16/2,H34>$L$16/2),AND(H30>$L$16/2,H31>$L$16/2,H33>$L$16/2,H34>$L$16/2),AND(H30>$L$16/2,H32>$L$16/2,H33>$L$16/2,H34>$L$16/2),AND(H31>$L$16/2,H32>$L$16/2,H33>$L$16/2,H34>$L$16/2)),OR(AND(H30<$K$16/2,H31<$K$16/2,H32<$K$16/2,H33<$K$16/2),AND(H30<$K$16/2,H31<$K$16/2,H32<$K$16/2,H34<$K$16/2),AND(H30<$K$16/2,H31<$K$16/2,H33<$K$16/2,H34<$K$16/2),AND(H30<$K$16/2,H32<$K$16/2,H33<$K$16/2,H34<$K$16/2),AND(H31<$K$16/2,H32<$K$16/2,H33<$K$16/2,H34<$K$16/2))),"Да","—")) -> — | K113: =IF(H34="","",IF(AND(ABS(H27)>$L$16/2,ABS(H28)>$L$16/2,ABS(H29)>$L$16/2,ABS(H30)>$L$16/2,ABS(H31)>$L$16/2,ABS(H32)>$L$16/2,ABS(H33)>$L$16/2,ABS(H34)>$L$16/2),"Да","—")) -> —
A114: =IF(H35="","",'Исходные данные'!A34) -> 16 | B114: =IF(H35="","",IF(OR(H35>W35,H35<V35),"Да","—")) -> — | E114: =IF(H35="","",IF(OR(AND(H27>$K$17,H28>$K$17,H29>$K$17,H30>$K$17,H31>$K$17,H32>$K$17,H33>$K$17,H34>$K$17,H35>$K$17),AND(H27<$K$17,H28<$K$17,H29<$K$17,H30<$K$17,H31<$K$17,H32<$K$17,H33<$K$17,H34<$K$17,H35<$K$17)),"Да","—")) -> — | G114: =IF(H35="","",IF(OR(AND(H30<H31,H31<H32,H32<H33,H33<H34,H34<H35),AND(H30>H31,H31>H32,H32>H33,H33>H34,H34>H35)),"Да","—")) -> — | I114: =IF(H35="","",IF(OR(AND(ABS(H33)>$L$16,ABS(H34)>$L$16),AND(ABS(H34)>$L$16,ABS(H35)>$L$16),AND(ABS(H33)>$L$16,ABS(H35)>$L$16)),"Да","—")) -> — | J114: =IF(H35="","",IF(OR(OR(AND(H31>$L$16/2,H32>$L$16/2,H33>$L$16/2,H34>$L$16/2),AND(H31>$L$16/2,H32>$L$16/2,H33>$L$16/2,H35>$L$16/2),AND(H31>$L$16/2,H32>$L$16/2,H34>$L$16/2,H35>$L$16/2),AND(H31>$L$16/2,H33>$L$16/2,H34>$L$16/2,H35>$L$16/2),AND(H32>$L$16/2,H33>$L$16/2,H34>$L$16/2,H35>$L$16/2)),OR(AND(H31<$K$16/2,H32<$K$16/2,H33<$K$16/2,H34<$K$16/2),AND(H31<$K$16/2,H32<$K$16/2,H33<$K$16/2,H35<$K$16/2),AND(H31<$K$16/2,H32<$K$16/2,H34<$K$16/2,H35<$K$16/2),AND(H31<$K$16/2,H33<$K$16/2,H34<$K$16/2,H35<$K$16/2),AND(H32<$K$16/2,H33<$K$16/2,H34<$K$16/2,H35<$K$16/2))),"Да","—")) -> — | K114: =IF(H35="","",IF(AND(ABS(H28)>$L$16/2,ABS(H29)>$L$16/2,ABS(H30)>$L$16/2,ABS(H31)>$L$16/2,ABS(H32)>$L$16/2,ABS(H33)>$L$16/2,ABS(H34)>$L$16/2,ABS(H35)>$L$16/2),"Да","—")) -> —
A115: =IF(H36="","",'Исходные данные'!A35) -> 17 | B115: =IF(H36="","",IF(OR(H36>W36,H36<V36),"Да","—")) -> — | E115: =IF(H36="","",IF(OR(AND(H28>$K$17,H29>$K$17,H30>$K$17,H31>$K$17,H32>$K$17,H33>$K$17,H34>$K$17,H35>$K$17,H36>$K$17),AND(H28<$K$17,H29<$K$17,H30<$K$17,H31<$K$17,H32<$K$17,H33<$K$17,H34<$K$17,H35<$K$17,H36<$K$17)),"Да","—")) -> — | G115: =IF(H36="","",IF(OR(AND(H31<H32,H32<H33,H33<H34,H34<H35,H35<H36),AND(H31>H32,H32>H33,H33>H34,H34>H35,H35>H36)),"Да","—")) -> — | I115: =IF(H36="","",IF(OR(AND(ABS(H34)>$L$16,ABS(H35)>$L$16),AND(ABS(H35)>$L$16,ABS(H36)>$L$16),AND(ABS(H34)>$L$16,ABS(H36)>$L$16)),"Да","—")) -> — | J115: =IF(H36="","",IF(OR(OR(AND(H32>$L$16/2,H33>$L$16/2,H34>$L$16/2,H35>$L$16/2),AND(H32>$L$16/2,H33>$L$16/2,H34>$L$16/2,H36>$L$16/2),AND(H32>$L$16/2,H33>$L$16/2,H35>$L$16/2,H36>$L$16/2),AND(H32>$L$16/2,H34>$L$16/2,H35>$L$16/2,H36>$L$16/2),AND(H33>$L$16/2,H34>$L$16/2,H35>$L$16/2,H36>$L$16/2)),OR(AND(H32<$K$16/2,H33<$K$16/2,H34<$K$16/2,H35<$K$16/2),AND(H32<$K$16/2,H33<$K$16/2,H34<$K$16/2,H36<$K$16/2),AND(H32<$K$16/2,H33<$K$16/2,H35<$K$16/2,H36<$K$16/2),AND(H32<$K$16/2,H34<$K$16/2,H35<$K$16/2,H36<$K$16/2),AND(H33<$K$16/2,H34<$K$16/2,H35<$K$16/2,H36<$K$16/2))),"Да","—")) -> — | K115: =IF(H36="","",IF(AND(ABS(H29)>$L$16/2,ABS(H30)>$L$16/2,ABS(H31)>$L$16/2,ABS(H32)>$L$16/2,ABS(H33)>$L$16/2,ABS(H34)>$L$16/2,ABS(H35)>$L$16/2,ABS(H36)>$L$16/2),"Да","—")) -> —
A116: =IF(H37="","",'Исходные данные'!A36) -> 18 | B116: =IF(H37="","",IF(OR(H37>W37,H37<V37),"Да","—")) -> — | E116: =IF(H37="","",IF(OR(AND(H29>$K$17,H30>$K$17,H31>$K$17,H32>$K$17,H33>$K$17,H34>$K$17,H35>$K$17,H36>$K$17,H37>$K$17),AND(H29<$K$17,H30<$K$17,H31<$K$17,H32<$K$17,H33<$K$17,H34<$K$17,H35<$K$17,H36<$K$17,H37<$K$17)),"Да","—")) -> — | G116: =IF(H37="","",IF(OR(AND(H32<H33,H33<H34,H34<H35,H35<H36,H36<H37),AND(H32>H33,H33>H34,H34>H35,H35>H36,H36>H37)),"Да","—")) -> — | I116: =IF(H37="","",IF(OR(AND(ABS(H35)>$L$16,ABS(H36)>$L$16),AND(ABS(H36)>$L$16,ABS(H37)>$L$16),AND(ABS(H35)>$L$16,ABS(H37)>$L$16)),"Да","—")) -> — | J116: =IF(H37="","",IF(OR(OR(AND(H33>$L$16/2,H34>$L$16/2,H35>$L$16/2,H36>$L$16/2),AND(H33>$L$16/2,H34>$L$16/2,H35>$L$16/2,H37>$L$16/2),AND(H33>$L$16/2,H34>$L$16/2,H36>$L$16/2,H37>$L$16/2),AND(H33>$L$16/2,H35>$L$16/2,H36>$L$16/2,H37>$L$16/2),AND(H34>$L$16/2,H35>$L$16/2,H36>$L$16/2,H37>$L$16/2)),OR(AND(H33<$K$16/2,H34<$K$16/2,H35<$K$16/2,H36<$K$16/2),AND(H33<$K$16/2,H34<$K$16/2,H35<$K$16/2,H37<$K$16/2),AND(H33<$K$16/2,H34<$K$16/2,H36<$K$16/2,H37<$K$16/2),AND(H33<$K$16/2,H35<$K$16/2,H36<$K$16/2,H37<$K$16/2),AND(H34<$K$16/2,H35<$K$16/2,H36<$K$16/2,H37<$K$16/2))),"Да","—")) -> — | K116: =IF(H37="","",IF(AND(ABS(H30)>$L$16/2,ABS(H31)>$L$16/2,ABS(H32)>$L$16/2,ABS(H33)>$L$16/2,ABS(H34)>$L$16/2,ABS(H35)>$L$16/2,ABS(H36)>$L$16/2,ABS(H37)>$L$16/2),"Да","—")) -> —
A117: =IF(H38="","",'Исходные данные'!A37) -> 19 | B117: =IF(H38="","",IF(OR(H38>W38,H38<V38),"Да","—")) -> — | E117: =IF(H38="","",IF(OR(AND(H30>$K$17,H31>$K$17,H32>$K$17,H33>$K$17,H34>$K$17,H35>$K$17,H36>$K$17,H37>$K$17,H38>$K$17),AND(H30<$K$17,H31<$K$17,H32<$K$17,H33<$K$17,H34<$K$17,H35<$K$17,H36<$K$17,H37<$K$17,H38<$K$17)),"Да","—")) -> — | G117: =IF(H38="","",IF(OR(AND(H33<H34,H34<H35,H35<H36,H36<H37,H37<H38),AND(H33>H34,H34>H35,H35>H36,H36>H37,H37>H38)),"Да","—")) -> Да | I117: =IF(H38="","",IF(OR(AND(ABS(H36)>$L$16,ABS(H37)>$L$16),AND(ABS(H37)>$L$16,ABS(H38)>$L$16),AND(ABS(H36)>$L$16,ABS(H38)>$L$16)),"Да","—")) -> — | J117: =IF(H38="","",IF(OR(OR(AND(H34>$L$16/2,H35>$L$16/2,H36>$L$16/2,H37>$L$16/2),AND(H34>$L$16/2,H35>$L$16/2,H36>$L$16/2,H38>$L$16/2),AND(H34>$L$16/2,H35>$L$16/2,H37>$L$16/2,H38>$L$16/2),AND(H34>$L$16/2,H36>$L$16/2,H37>$L$16/2,H38>$L$16/2),AND(H35>$L$16/2,H36>$L$16/2,H37>$L$16/2,H38>$L$16/2)),OR(AND(H34<$K$16/2,H35<$K$16/2,H36<$K$16/2,H37<$K$16/2),AND(H34<$K$16/2,H35<$K$16/2,H36<$K$16/2,H38<$K$16/2),AND(H34<$K$16/2,H35<$K$16/2,H37<$K$16/2,H38<$K$16/2),AND(H34<$K$16/2,H36<$K$16/2,H37<$K$16/2,H38<$K$16/2),AND(H35<$K$16/2,H36<$K$16/2,H37<$K$16/2,H38<$K$16/2))),"Да","—")) -> — | K117: =IF(H38="","",IF(AND(ABS(H31)>$L$16/2,ABS(H32)>$L$16/2,ABS(H33)>$L$16/2,ABS(H34)>$L$16/2,ABS(H35)>$L$16/2,ABS(H36)>$L$16/2,ABS(H37)>$L$16/2,ABS(H38)>$L$16/2),"Да","—")) -> —
A118: =IF(H39="","",'Исходные данные'!A38) -> 20 | B118: =IF(H39="","",IF(OR(H39>W39,H39<V39),"Да","—")) -> — | E118: =IF(H39="","",IF(OR(AND(H31>$K$17,H32>$K$17,H33>$K$17,H34>$K$17,H35>$K$17,H36>$K$17,H37>$K$17,H38>$K$17,H39>$K$17),AND(H31<$K$17,H32<$K$17,H33<$K$17,H34<$K$17,H35<$K$17,H36<$K$17,H37<$K$17,H38<$K$17,H39<$K$17)),"Да","—")) -> — | G118: =IF(H39="","",IF(OR(AND(H34<H35,H35<H36,H36<H37,H37<H38,H38<H39),AND(H34>H35,H35>H36,H36>H37,H37>H38,H38>H39)),"Да","—")) -> Да | I118: =IF(H39="","",IF(OR(AND(ABS(H37)>$L$16,ABS(H38)>$L$16),AND(ABS(H38)>$L$16,ABS(H39)>$L$16),AND(ABS(H37)>$L$16,ABS(H39)>$L$16)),"Да","—")) -> — | J118: =IF(H39="","",IF(OR(OR(AND(H35>$L$16/2,H36>$L$16/2,H37>$L$16/2,H38>$L$16/2),AND(H35>$L$16/2,H36>$L$16/2,H37>$L$16/2,H39>$L$16/2),AND(H35>$L$16/2,H36>$L$16/2,H38>$L$16/2,H39>$L$16/2),AND(H35>$L$16/2,H37>$L$16/2,H38>$L$16/2,H39>$L$16/2),AND(H36>$L$16/2,H37>$L$16/2,H38>$L$16/2,H39>$L$16/2)),OR(AND(H35<$K$16/2,H36<$K$16/2,H37<$K$16/2,H38<$K$16/2),AND(H35<$K$16/2,H36<$K$16/2,H37<$K$16/2,H39<$K$16/2),AND(H35<$K$16/2,H36<$K$16/2,H38<$K$16/2,H39<$K$16/2),AND(H35<$K$16/2,H37<$K$16/2,H38<$K$16/2,H39<$K$16/2),AND(H36<$K$16/2,H37<$K$16/2,H38<$K$16/2,H39<$K$16/2))),"Да","—")) -> — | K118: =IF(H39="","",IF(AND(ABS(H32)>$L$16/2,ABS(H33)>$L$16/2,ABS(H34)>$L$16/2,ABS(H35)>$L$16/2,ABS(H36)>$L$16/2,ABS(H37)>$L$16/2,ABS(H38)>$L$16/2,ABS(H39)>$L$16/2),"Да","—")) -> —
... A128: =IF(H49="","",'Исходные данные'!A48) -> 30 | B128: =IF(H49="","",IF(OR(H49>W49,H49<V49),"Да","—")) -> — | E128: =IF(H49="","",IF(OR(AND(H41>$K$17,H42>$K$17,H43>$K$17,H44>$K$17,H45>$K$17,H46>$K$17,H47>$K$17,H48>$K$17,H49>$K$17),AND(H41<$K$17,H42<$K$17,H43<$K$17,H44<$K$17,H45<$K$17,H46<$K$17,H47<$K$17,H48<$K$17,H49<$K$17)),"Да","—")) -> — | G128: =IF(H49="","",IF(OR(AND(H44<H45,H45<H46,H46<H47,H47<H48,H48<H49),AND(H44>H45,H45>H46,H46>H47,H47>H48,H48>H49)),"Да","—")) -> — | I128: =IF(H49="","",IF(OR(AND(ABS(H47)>$L$16,ABS(H48)>$L$16),AND(ABS(H48)>$L$16,ABS(H49)>$L$16),AND(ABS(H47)>$L$16,ABS(H49)>$L$16)),"Да","—")) -> — | J128: =IF(H49="","",IF(OR(OR(AND(H45>$L$16/2,H46>$L$16/2,H47>$L$16/2,H48>$L$16/2),AND(H45>$L$16/2,H46>$L$16/2,H47>$L$16/2,H49>$L$16/2),AND(H45>$L$16/2,H46>$L$16/2,H48>$L$16/2,H49>$L$16/2),AND(H45>$L$16/2,H47>$L$16/2,H48>$L$16/2,H49>$L$16/2),AND(H46>$L$16/2,H47>$L$16/2,H48>$L$16/2,H49>$L$16/2)),OR(AND(H45<$K$16/2,H46<$K$16/2,H47<$K$16/2,H48<$K$16/2),AND(H45<$K$16/2,H46<$K$16/2,H47<$K$16/2,H49<$K$16/2),AND(H45<$K$16/2,H46<$K$16/2,H48<$K$16/2,H49<$K$16/2),AND(H45<$K$16/2,H47<$K$16/2,H48<$K$16/2,H49<$K$16/2),AND(H46<$K$16/2,H47<$K$16/2,H48<$K$16/2,H49<$K$16/2))),"Да","—")) -> — | K128: =IF(H49="","",IF(AND(ABS(H42)>$L$16/2,ABS(H43)>$L$16/2,ABS(H44)>$L$16/2,ABS(H45)>$L$16/2,ABS(H46)>$L$16/2,ABS(H47)>$L$16/2,ABS(H48)>$L$16/2,ABS(H49)>$L$16/2),"Да","—")) -> —
A130: АНАЛИЗ ККШ ВНУТРИЛАБОРАТОРНОЙ ПРЕЦИЗИОННОСТИ
A131: № п/п | B131: Одна точка вышла за предел действия | E131: 9 точек подряд находятся выше средней линии | G131: 6 возрастающих точек подряд | I131: 2 из 3 последовательных точек находятся выше предела предупреждения | J131: 4 из 5 последовательных точек находятся выше половинной границы зоны предупреждения | K131: Половинная граница зоны предупреждения
A132: 1 | B132: — | E132: — | G132: — | I132: — | J132: — | K132: =J17+(J16-J17)/2 -> 0.26
A133: =IF(G21="","",'Исходные данные'!A20) -> 2 | B133: =IF(G21="","",IF(G21>R21,"Да","—")) -> — | E133: — | G133: — | I133: — | J133: —
A134: =IF(G22="","",'Исходные данные'!A21) -> 3 | B134: =IF(G22="","",IF(G22>R22,"Да","—")) -> — | E134: — | G134: — | I134: =IF(G22="","",IF(OR(AND(G20>$J$16,G21>$J$16),AND(G21>$J$16,G22>$J$16),AND(G20>$J$16,G22>$J$16)),"Да","—")) -> — | J134: —
A135: =IF(G23="","",'Исходные данные'!A22) -> 4 | B135: =IF(G23="","",IF(G23>R23,"Да","—")) -> — | E135: — | G135: — | I135: =IF(G23="","",IF(OR(AND(G21>$J$16,G22>$J$16),AND(G22>$J$16,G23>$J$16),AND(G21>$J$16,G23>$J$16)),"Да","—")) -> — | J135: —
A136: =IF(G24="","",'Исходные данные'!A23) -> 5 | B136: =IF(G24="","",IF(G24>R24,"Да","—")) -> — | E136: — | G136: — | I136: =IF(G24="","",IF(OR(AND(G22>$J$16,G23>$J$16),AND(G23>$J$16,G24>$J$16),AND(G22>$J$16,G24>$J$16)),"Да","—")) -> — | J136: =IF(G24="","",IF(OR(AND(G20>$K$132,G21>$K$132,G22>$K$132,G23>$K$132),AND(G20>$K$132,G21>$K$132,G22>$K$132,G24>$K$132),AND(G20>$K$132,G21>$K$132,G23>$K$132,G24>$K$132),AND(G20>$K$132,G22>$K$132,G23>$K$132,G24>$K$132),AND(G21>$K$132,G22>$K$132,G23>$K$132,G24>$K$132)),"Да","—")) -> —
A137: =IF(G25="","",'Исходные данные'!A24) -> 6 | B137: =IF(G25="","",IF(G25>R25,"Да","—")) -> — | E137: — | G137: =IF(G25="","",IF(AND(G20<G21,G21<G22,G22<G23,G23<G24,G24<G25),"Да","—")) -> — | I137: =IF(G25="","",IF(OR(AND(G23>$J$16,G24>$J$16),AND(G24>$J$16,G25>$J$16),AND(G23>$J$16,G25>$J$16)),"Да","—")) -> — | J137: =IF(G25="","",IF(OR(AND(G21>$K$132,G22>$K$132,G23>$K$132,G24>$K$132),AND(G21>$K$132,G22>$K$132,G23>$K$132,G25>$K$132),AND(G21>$K$132,G22>$K$132,G24>$K$132,G25>$K$132),AND(G21>$K$132,G23>$K$132,G24>$K$132,G25>$K$132),AND(G22>$K$132,G23>$K$132,G24>$K$132,G25>$K$132)),"Да","—")) -> —
A138: =IF(G26="","",'Исходные данные'!A25) -> 7 | B138: =IF(G26="","",IF(G26>R26,"Да","—")) -> — | E138: — | G138: =IF(G26="","",IF(AND(G21<G22,G22<G23,G23<G24,G24<G25,G25<G26),"Да","—")) -> — | I138: =IF(G26="","",IF(OR(AND(G24>$J$16,G25>$J$16),AND(G25>$J$16,G26>$J$16),AND(G24>$J$16,G26>$J$16)),"Да","—")) -> — | J138: =IF(G26="","",IF(OR(AND(G22>$K$132,G23>$K$132,G24>$K$132,G25>$K$132),AND(G22>$K$132,G23>$K$132,G24>$K$132,G26>$K$132),AND(G22>$K$132,G23>$K$132,G25>$K$132,G26>$K$132),AND(G22>$K$132,G24>$K$132,G25>$K$132,G26>$K$132),AND(G23>$K$132,G24>$K$132,G25>$K$132,G26>$K$132)),"Да","—")) -> —
A139: =IF(G27="","",'Исходные данные'!A26) -> 8 | B139: =IF(G27="","",IF(G27>R27,"Да","—")) -> — | E139: — | G139: =IF(G27="","",IF(AND(G22<G23,G23<G24,G24<G25,G25<G26,G26<G27),"Да","—")) -> — | I139: =IF(G27="","",IF(OR(AND(G25>$J$16,G26>$J$16),AND(G26>$J$16,G27>$J$16),AND(G25>$J$16,G27>$J$16)),"Да","—")) -> — | J139: =IF(G27="","",IF(OR(AND(G23>$K$132,G24>$K$132,G25>$K$132,G26>$K$132),AND(G23>$K$132,G24>$K$132,G25>$K$132,G27>$K$132),AND(G23>$K$132,G24>$K$132,G26>$K$132,G27>$K$132),AND(G23>$K$132,G25>$K$132,G26>$K$132,G27>$K$132),AND(G24>$K$132,G25>$K$132,G26>$K$132,G27>$K$132)),"Да","—")) -> —
A140: =IF(G28="","",'Исходные данные'!A27) -> 9 | B140: =IF(G28="","",IF(G28>R28,"Да","—")) -> — | E140: =IF(G28="","",IF(AND(G20>$J$17,G21>$J$17,G22>$J$17,G23>$J$17,G24>$J$17,G25>$J$17,G26>$J$17,G27>$J$17,G28>$J$17),"Да","—")) -> — | G140: =IF(G28="","",IF(AND(G23<G24,G24<G25,G25<G26,G26<G27,G27<G28),"Да","—")) -> — | I140: =IF(G28="","",IF(OR(AND(G26>$J$16,G27>$J$16),AND(G27>$J$16,G28>$J$16),AND(G26>$J$16,G28>$J$16)),"Да","—")) -> — | J140: =IF(G28="","",IF(OR(AND(G24>$K$132,G25>$K$132,G26>$K$132,G27>$K$132),AND(G24>$K$132,G25>$K$132,G26>$K$132,G28>$K$132),AND(G24>$K$132,G25>$K$132,G27>$K$132,G28>$K$132),AND(G24>$K$132,G26>$K$132,G27>$K$132,G28>$K$132),AND(G25>$K$132,G26>$K$132,G27>$K$132,G28>$K$132)),"Да","—")) -> —
A141: =IF(G29="","",'Исходные данные'!A28) -> 10 | B141: =IF(G29="","",IF(G29>R29,"Да","—")) -> — | E141: =IF(G29="","",IF(AND(G21>$J$17,G22>$J$17,G23>$J$17,G24>$J$17,G25>$J$17,G26>$J$17,G27>$J$17,G28>$J$17,G29>$J$17),"Да","—")) -> — | G141: =IF(G29="","",IF(AND(G24<G25,G25<G26,G26<G27,G27<G28,G28<G29),"Да","—")) -> — | I141: =IF(G29="","",IF(OR(AND(G27>$J$16,G28>$J$16),AND(G28>$J$16,G29>$J$16),AND(G27>$J$16,G29>$J$16)),"Да","—")) -> — | J141: =IF(G29="","",IF(OR(AND(G25>$K$132,G26>$K$132,G27>$K$132,G28>$K$132),AND(G25>$K$132,G26>$K$132,G27>$K$132,G29>$K$132),AND(G25>$K$132,G26>$K$132,G28>$K$132,G29>$K$132),AND(G25>$K$132,G27>$K$132,G28>$K$132,G29>$K$132),AND(G26>$K$132,G27>$K$132,G28>$K$132,G29>$K$132)),"Да","—")) -> —
A142: =IF(G30="","",'Исходные данные'!A29) -> 11 | B142: =IF(G30="","",IF(G30>R30,"Да","—")) -> — | E142: =IF(G30="","",IF(AND(G22>$J$17,G23>$J$17,G24>$J$17,G25>$J$17,G26>$J$17,G27>$J$17,G28>$J$17,G29>$J$17,G30>$J$17),"Да","—")) -> — | G142: =IF(G30="","",IF(AND(G25<G26,G26<G27,G27<G28,G28<G29,G29<G30),"Да","—")) -> — | I142: =IF(G30="","",IF(OR(AND(G28>$J$16,G29>$J$16),AND(G29>$J$16,G30>$J$16),AND(G28>$J$16,G30>$J$16)),"Да","—")) -> — | J142: =IF(G30="","",IF(OR(AND(G26>$K$132,G27>$K$132,G28>$K$132,G29>$K$132),AND(G26>$K$132,G27>$K$132,G28>$K$132,G30>$K$132),AND(G26>$K$132,G27>$K$132,G29>$K$132,G30>$K$132),AND(G26>$K$132,G28>$K$132,G29>$K$132,G30>$K$132),AND(G27>$K$132,G28>$K$132,G29>$K$132,G30>$K$132)),"Да","—")) -> —
A143: =IF(G31="","",'Исходные данные'!A30) -> 12 | B143: =IF(G31="","",IF(G31>R31,"Да","—")) -> — | E143: =IF(G31="","",IF(AND(G23>$J$17,G24>$J$17,G25>$J$17,G26>$J$17,G27>$J$17,G28>$J$17,G29>$J$17,G30>$J$17,G31>$J$17),"Да","—")) -> — | G143: =IF(G31="","",IF(AND(G26<G27,G27<G28,G28<G29,G29<G30,G30<G31),"Да","—")) -> — | I143: =IF(G31="","",IF(OR(AND(G29>$J$16,G30>$J$16),AND(G30>$J$16,G31>$J$16),AND(G29>$J$16,G31>$J$16)),"Да","—")) -> — | J143: =IF(G31="","",IF(OR(AND(G27>$K$132,G28>$K$132,G29>$K$132,G30>$K$132),AND(G27>$K$132,G28>$K$132,G29>$K$132,G31>$K$132),AND(G27>$K$132,G28>$K$132,G30>$K$132,G31>$K$132),AND(G27>$K$132,G29>$K$132,G30>$K$132,G31>$K$132),AND(G28>$K$132,G29>$K$132,G30>$K$132,G31>$K$132)),"Да","—")) -> —
A144: =IF(G32="","",'Исходные данные'!A31) -> 13 | B144: =IF(G32="","",IF(G32>R32,"Да","—")) -> — | E144: =IF(G32="","",IF(AND(G24>$J$17,G25>$J$17,G26>$J$17,G27>$J$17,G28>$J$17,G29>$J$17,G30>$J$17,G31>$J$17,G32>$J$17),"Да","—")) -> — | G144: =IF(G32="","",IF(AND(G27<G28,G28<G29,G29<G30,G30<G31,G31<G32),"Да","—")) -> — | I144: =IF(G32="","",IF(OR(AND(G30>$J$16,G31>$J$16),AND(G31>$J$16,G32>$J$16),AND(G30>$J$16,G32>$J$16)),"Да","—")) -> — | J144: =IF(G32="","",IF(OR(AND(G28>$K$132,G29>$K$132,G30>$K$132,G31>$K$132),AND(G28>$K$132,G29>$K$132,G30>$K$132,G32>$K$132),AND(G28>$K$132,G29>$K$132,G31>$K$132,G32>$K$132),AND(G28>$K$132,G30>$K$132,G31>$K$132,G32>$K$132),AND(G29>$K$132,G30>$K$132,G31>$K$132,G32>$K$132)),"Да","—")) -> —
A145: =IF(G33="","",'Исходные данные'!A32) -> 14 | B145: =IF(G33="","",IF(G33>R33,"Да","—")) -> — | E145: =IF(G33="","",IF(AND(G25>$J$17,G26>$J$17,G27>$J$17,G28>$J$17,G29>$J$17,G30>$J$17,G31>$J$17,G32>$J$17,G33>$J$17),"Да","—")) -> — | G145: =IF(G33="","",IF(AND(G28<G29,G29<G30,G30<G31,G31<G32,G32<G33),"Да","—")) -> — | I145: =IF(G33="","",IF(OR(AND(G31>$J$16,G32>$J$16),AND(G32>$J$16,G33>$J$16),AND(G31>$J$16,G33>$J$16)),"Да","—")) -> — | J145: =IF(G33="","",IF(OR(AND(G29>$K$132,G30>$K$132,G31>$K$132,G32>$K$132),AND(G29>$K$132,G30>$K$132,G31>$K$132,G33>$K$132),AND(G29>$K$132,G30>$K$132,G32>$K$132,G33>$K$132),AND(G29>$K$132,G31>$K$132,G32>$K$132,G33>$K$132),AND(G30>$K$132,G31>$K$132,G32>$K$132,G33>$K$132)),"Да","—")) -> —
A146: =IF(G34="","",'Исходные данные'!A33) -> 15 | B146: =IF(G34="","",IF(G34>R34,"Да","—")) -> — | E146: =IF(G34="","",IF(AND(G26>$J$17,G27>$J$17,G28>$J$17,G29>$J$17,G30>$J$17,G31>$J$17,G32>$J$17,G33>$J$17,G34>$J$17),"Да","—")) -> — | G146: =IF(G34="","",IF(AND(G29<G30,G30<G31,G31<G32,G32<G33,G33<G34),"Да","—")) -> — | I146: =IF(G34="","",IF(OR(AND(G32>$J$16,G33>$J$16),AND(G33>$J$16,G34>$J$16),AND(G32>$J$16,G34>$J$16)),"Да","—")) -> — | J146: =IF(G34="","",IF(OR(AND(G30>$K$132,G31>$K$132,G32>$K$132,G33>$K$132),AND(G30>$K$132,G31>$K$132,G32>$K$132,G34>$K$132),AND(G30>$K$132,G31>$K$132,G33>$K$132,G34>$K$132),AND(G30>$K$132,G32>$K$132,G33>$K$132,G34>$K$132),AND(G31>$K$132,G32>$K$132,G33>$K$132,G34>$K$132)),"Да","—")) -> —
A147: =IF(G35="","",'Исходные данные'!A34) -> 16 | B147: =IF(G35="","",IF(G35>R35,"Да","—")) -> — | E147: =IF(G35="","",IF(AND(G27>$J$17,G28>$J$17,G29>$J$17,G30>$J$17,G31>$J$17,G32>$J$17,G33>$J$17,G34>$J$17,G35>$J$17),"Да","—")) -> — | G147: =IF(G35="","",IF(AND(G30<G31,G31<G32,G32<G33,G33<G34,G34<G35),"Да","—")) -> — | I147: =IF(G35="","",IF(OR(AND(G33>$J$16,G34>$J$16),AND(G34>$J$16,G35>$J$16),AND(G33>$J$16,G35>$J$16)),"Да","—")) -> — | J147: =IF(G35="","",IF(OR(AND(G31>$K$132,G32>$K$132,G33>$K$132,G34>$K$132),AND(G31>$K$132,G32>$K$132,G33>$K$132,G35>$K$132),AND(G31>$K$132,G32>$K$132,G34>$K$132,G35>$K$132),AND(G31>$K$132,G33>$K$132,G34>$K$132,G35>$K$132),AND(G32>$K$132,G33>$K$132,G34>$K$132,G35>$K$132)),"Да","—")) -> —
A148: =IF(G36="","",'Исходные данные'!A35) -> 17 | B148: =IF(G36="","",IF(G36>R36,"Да","—")) -> — | E148: =IF(G36="","",IF(AND(G28>$J$17,G29>$J$17,G30>$J$17,G31>$J$17,G32>$J$17,G33>$J$17,G34>$J$17,G35>$J$17,G36>$J$17),"Да","—")) -> — | G148: =IF(G36="","",IF(AND(G31<G32,G32<G33,G33<G34,G34<G35,G35<G36),"Да","—")) -> — | I148: =IF(G36="","",IF(OR(AND(G34>$J$16,G35>$J$16),AND(G35>$J$16,G36>$J$16),AND(G34>$J$16,G36>$J$16)),"Да","—")) -> — | J148: =IF(G36="","",IF(OR(AND(G32>$K$132,G33>$K$132,G34>$K$132,G35>$K$132),AND(G32>$K$132,G33>$K$132,G34>$K$132,G36>$K$132),AND(G32>$K$132,G33>$K$132,G35>$K$132,G36>$K$132),AND(G32>$K$132,G34>$K$132,G35>$K$132,G36>$K$132),AND(G33>$K$132,G34>$K$132,G35>$K$132,G36>$K$132)),"Да","—")) -> —
A149: =IF(G37="","",'Исходные данные'!A36) -> 18 | B149: =IF(G37="","",IF(G37>R37,"Да","—")) -> — | E149: =IF(G37="","",IF(AND(G29>$J$17,G30>$J$17,G31>$J$17,G32>$J$17,G33>$J$17,G34>$J$17,G35>$J$17,G36>$J$17,G37>$J$17),"Да","—")) -> — | G149: =IF(G37="","",IF(AND(G32<G33,G33<G34,G34<G35,G35<G36,G36<G37),"Да","—")) -> — | I149: =IF(G37="","",IF(OR(AND(G35>$J$16,G36>$J$16),AND(G36>$J$16,G37>$J$16),AND(G35>$J$16,G37>$J$16)),"Да","—")) -> — | J149: =IF(G37="","",IF(OR(AND(G33>$K$132,G34>$K$132,G35>$K$132,G36>$K$132),AND(G33>$K$132,G34>$K$132,G35>$K$132,G37>$K$132),AND(G33>$K$132,G34>$K$132,G36>$K$132,G37>$K$132),AND(G33>$K$132,G35>$K$132,G36>$K$132,G37>$K$132),AND(G34>$K$132,G35>$K$132,G36>$K$132,G37>$K$132)),"Да","—")) -> —
A150: =IF(G38="","",'Исходные данные'!A37) -> 19 | B150: =IF(G38="","",IF(G38>R38,"Да","—")) -> — | E150: =IF(G38="","",IF(AND(G30>$J$17,G31>$J$17,G32>$J$17,G33>$J$17,G34>$J$17,G35>$J$17,G36>$J$17,G37>$J$17,G38>$J$17),"Да","—")) -> — | G150: =IF(G38="","",IF(AND(G33<G34,G34<G35,G35<G36,G36<G37,G37<G38),"Да","—")) -> — | I150: =IF(G38="","",IF(OR(AND(G36>$J$16,G37>$J$16),AND(G37>$J$16,G38>$J$16),AND(G36>$J$16,G38>$J$16)),"Да","—")) -> — | J150: =IF(G38="","",IF(OR(AND(G34>$K$132,G35>$K$132,G36>$K$132,G37>$K$132),AND(G34>$K$132,G35>$K$132,G36>$K$132,G38>$K$132),AND(G34>$K$132,G35>$K$132,G37>$K$132,G38>$K$132),AND(G34>$K$132,G36>$K$132,G37>$K$132,G38>$K$132),AND(G35>$K$132,G36>$K$132,G37>$K$132,G38>$K$132)),"Да","—")) -> —
A151: =IF(G39="","",'Исходные данные'!A38) -> 20 | B151: =IF(G39="","",IF(G39>R39,"Да","—")) -> — | E151: =IF(G39="","",IF(AND(G31>$J$17,G32>$J$17,G33>$J$17,G34>$J$17,G35>$J$17,G36>$J$17,G37>$J$17,G38>$J$17,G39>$J$17),"Да","—")) -> — | G151: =IF(G39="","",IF(AND(G34<G35,G35<G36,G36<G37,G37<G38,G38<G39),"Да","—")) -> — | I151: =IF(G39="","",IF(OR(AND(G37>$J$16,G38>$J$16),AND(G38>$J$16,G39>$J$16),AND(G37>$J$16,G39>$J$16)),"Да","—")) -> — | J151: =IF(G39="","",IF(OR(AND(G35>$K$132,G36>$K$132,G37>$K$132,G38>$K$132),AND(G35>$K$132,G36>$K$132,G37>$K$132,G39>$K$132),AND(G35>$K$132,G36>$K$132,G38>$K$132,G39>$K$132),AND(G35>$K$132,G37>$K$132,G38>$K$132,G39>$K$132),AND(G36>$K$132,G37>$K$132,G38>$K$132,G39>$K$132)),"Да","—")) -> —
... A161: =IF(G49="","",'Исходные данные'!A48) -> 30 | B161: =IF(G49="","",IF(G49>R49,"Да","—")) -> — | E161: =IF(G49="","",IF(AND(G41>$J$17,G42>$J$17,G43>$J$17,G44>$J$17,G45>$J$17,G46>$J$17,G47>$J$17,G48>$J$17,G49>$J$17),"Да","—")) -> — | G161: =IF(G49="","",IF(AND(G44<G45,G45<G46,G46<G47,G47<G48,G48<G49),"Да","—")) -> — | I161: =IF(G49="","",IF(OR(AND(G47>$J$16,G48>$J$16),AND(G48>$J$16,G49>$J$16),AND(G47>$J$16,G49>$J$16)),"Да","—")) -> — | J161: =IF(G49="","",IF(OR(AND(G45>$K$132,G46>$K$132,G47>$K$132,G48>$K$132),AND(G45>$K$132,G46>$K$132,G47>$K$132,G49>$K$132),AND(G45>$K$132,G46>$K$132,G48>$K$132,G49>$K$132),AND(G45>$K$132,G47>$K$132,G48>$K$132,G49>$K$132),AND(G46>$K$132,G47>$K$132,G48>$K$132,G49>$K$132)),"Да","—")) -> —
A163: АНАЛИЗ ККШ ПОВТОРЯЕМОСТИ
A164: № п/п | B164: Одна точка вышла за предел действия | E164: 9 точек подряд находятся выше средней линии | G164: 6 возрастающих точек подряд | I164: 2 из 3 последовательных точек находятся выше предела предупреждения | J164: 4 из 5 последовательных точек находятся выше половинной границы зоны предупреждения | K164: Половинная граница зоны предупреждения
A165: =IF(F20="","",'Исходные данные'!A19) -> 1 | B165: =IF(F20="","",IF(F20>O20,"Да","—")) -> — | E165: — | G165: — | I165: — | J165: — | K165: =I17+(I16-I17)/2 -> 0.26
A166: =IF(F21="","",'Исходные данные'!A20) -> 2 | B166: =IF(F21="","",IF(F21>O21,"Да","—")) -> — | E166: — | G166: — | I166: — | J166: —
A167: =IF(F22="","",'Исходные данные'!A21) -> 3 | B167: =IF(F22="","",IF(F22>O22,"Да","—")) -> — | E167: — | G167: — | I167: =IF(F22="","",IF(OR(AND(F20>$I$16,F21>$I$16),AND(F21>$I$16,F22>$I$16),AND(F20>$I$16,F22>$I$16)),"Да","—")) -> — | J167: —
A168: =IF(F23="","",'Исходные данные'!A22) -> 4 | B168: =IF(F23="","",IF(F23>O23,"Да","—")) -> — | E168: — | G168: — | I168: =IF(F23="","",IF(OR(AND(F21>$I$16,F22>$I$16),AND(F22>$I$16,F23>$I$16),AND(F21>$I$16,F23>$I$16)),"Да","—")) -> — | J168: —
A169: =IF(F24="","",'Исходные данные'!A23) -> 5 | B169: =IF(F24="","",IF(F24>O24,"Да","—")) -> — | E169: — | G169: — | I169: =IF(F24="","",IF(OR(AND(F22>$I$16,F23>$I$16),AND(F23>$I$16,F24>$I$16),AND(F22>$I$16,F24>$I$16)),"Да","—")) -> — | J169: =IF(F24="","",IF(OR(AND(F20>$K$165,F21>$K$165,F22>$K$165,F23>$K$165),AND(F20>$K$165,F21>$K$165,F22>$K$165,F24>$K$165),AND(F20>$K$165,F21>$K$165,F23>$K$165,F24>$K$165),AND(F20>$K$165,F22>$K$165,F23>$K$165,F24>$K$165),AND(F21>$K$165,F22>$K$165,F23>$K$165,F24>$K$165)),"Да","—")) -> —
A170: =IF(F25="","",'Исходные данные'!A24) -> 6 | B170: =IF(F25="","",IF(F25>O25,"Да","—")) -> — | E170: — | G170: =IF(F25="","",IF(AND(F20<F21,F21<F22,F22<F23,F23<F24,F24<F25),"Да","—")) -> — | I170: =IF(F25="","",IF(OR(AND(F23>$I$16,F24>$I$16),AND(F24>$I$16,F25>$I$16),AND(F23>$I$16,F25>$I$16)),"Да","—")) -> — | J170: =IF(F25="","",IF(OR(AND(F21>$K$165,F22>$K$165,F23>$K$165,F24>$K$165),AND(F21>$K$165,F22>$K$165,F23>$K$165,F25>$K$165),AND(F21>$K$165,F22>$K$165,F24>$K$165,F25>$K$165),AND(F21>$K$165,F23>$K$165,F24>$K$165,F25>$K$165),AND(F22>$K$165,F23>$K$165,F24>$K$165,F25>$K$165)),"Да","—")) -> —
A171: =IF(F26="","",'Исходные данные'!A25) -> 7 | B171: =IF(F26="","",IF(F26>O26,"Да","—")) -> — | E171: — | G171: =IF(F26="","",IF(AND(F21<F22,F22<F23,F23<F24,F24<F25,F25<F26),"Да","—")) -> — | I171: =IF(F26="","",IF(OR(AND(F24>$I$16,F25>$I$16),AND(F25>$I$16,F26>$I$16),AND(F24>$I$16,F26>$I$16)),"Да","—")) -> — | J171: =IF(F26="","",IF(OR(AND(F22>$K$165,F23>$K$165,F24>$K$165,F25>$K$165),AND(F22>$K$165,F23>$K$165,F24>$K$165,F26>$K$165),AND(F22>$K$165,F23>$K$165,F25>$K$165,F26>$K$165),AND(F22>$K$165,F24>$K$165,F25>$K$165,F26>$K$165),AND(F23>$K$165,F24>$K$165,F25>$K$165,F26>$K$165)),"Да","—")) -> —
A172: =IF(F27="","",'Исходные данные'!A26) -> 8 | B172: =IF(F27="","",IF(F27>O27,"Да","—")) -> — | E172: — | G172: =IF(F27="","",IF(AND(F22<F23,F23<F24,F24<F25,F25<F26,F26<F27),"Да","—")) -> — | I172: =IF(F27="","",IF(OR(AND(F25>$I$16,F26>$I$16),AND(F26>$I$16,F27>$I$16),AND(F25>$I$16,F27>$I$16)),"Да","—")) -> — | J172: =IF(F27="","",IF(OR(AND(F23>$K$165,F24>$K$165,F25>$K$165,F26>$K$165),AND(F23>$K$165,F24>$K$165,F25>$K$165,F27>$K$165),AND(F23>$K$165,F24>$K$165,F26>$K$165,F27>$K$165),AND(F23>$K$165,F25>$K$165,F26>$K$165,F27>$K$165),AND(F24>$K$165,F25>$K$165,F26>$K$165,F27>$K$165)),"Да","—")) -> —
A173: =IF(F28="","",'Исходные данные'!A27) -> 9 | B173: =IF(F28="","",IF(F28>O28,"Да","—")) -> — | E173: =IF(F28="","",IF(AND(F20>$I$17,F21>$I$17,F22>$I$17,F23>$I$17,F24>$I$17,F25>$I$17,F26>$I$17,F27>$I$17,F28>$I$17),"Да","—")) -> — | G173: =IF(F28="","",IF(AND(F23<F24,F24<F25,F25<F26,F26<F27,F27<F28),"Да","—")) -> — | I173: =IF(F28="","",IF(OR(AND(F26>$I$16,F27>$I$16),AND(F27>$I$16,F28>$I$16),AND(F26>$I$16,F28>$I$16)),"Да","—")) -> — | J173: =IF(F28="","",IF(OR(AND(F24>$K$165,F25>$K$165,F26>$K$165,F27>$K$165),AND(F24>$K$165,F25>$K$165,F26>$K$165,F28>$K$165),AND(F24>$K$165,F25>$K$165,F27>$K$165,F28>$K$165),AND(F24>$K$165,F26>$K$165,F27>$K$165,F28>$K$165),AND(F25>$K$165,F26>$K$165,F27>$K$165,F28>$K$165)),"Да","—")) -> —
A174: =IF(F29="","",'Исходные данные'!A28) -> 10 | B174: =IF(F29="","",IF(F29>O29,"Да","—")) -> Да | E174: =IF(F29="","",IF(AND(F21>$I$17,F22>$I$17,F23>$I$17,F24>$I$17,F25>$I$17,F26>$I$17,F27>$I$17,F28>$I$17,F29>$I$17),"Да","—")) -> — | G174: =IF(F29="","",IF(AND(F24<F25,F25<F26,F26<F27,F27<F28,F28<F29),"Да","—")) -> — | I174: =IF(F29="","",IF(OR(AND(F27>$I$16,F28>$I$16),AND(F28>$I$16,F29>$I$16),AND(F27>$I$16,F29>$I$16)),"Да","—")) -> — | J174: =IF(F29="","",IF(OR(AND(F25>$K$165,F26>$K$165,F27>$K$165,F28>$K$165),AND(F25>$K$165,F26>$K$165,F27>$K$165,F29>$K$165),AND(F25>$K$165,F26>$K$165,F28>$K$165,F29>$K$165),AND(F25>$K$165,F27>$K$165,F28>$K$165,F29>$K$165),AND(F26>$K$165,F27>$K$165,F28>$K$165,F29>$K$165)),"Да","—")) -> —
A175: =IF(F30="","",'Исходные данные'!A29) -> 11 | B175: =IF(F30="","",IF(F30>O30,"Да","—")) -> — | E175: =IF(F30="","",IF(AND(F22>$I$17,F23>$I$17,F24>$I$17,F25>$I$17,F26>$I$17,F27>$I$17,F28>$I$17,F29>$I$17,F30>$I$17),"Да","—")) -> — | G175: =IF(F30="","",IF(AND(F25<F26,F26<F27,F27<F28,F28<F29,F29<F30),"Да","—")) -> — | I175: =IF(F30="","",IF(OR(AND(F28>$I$16,F29>$I$16),AND(F29>$I$16,F30>$I$16),AND(F28>$I$16,F30>$I$16)),"Да","—")) -> — | J175: =IF(F30="","",IF(OR(AND(F26>$K$165,F27>$K$165,F28>$K$165,F29>$K$165),AND(F26>$K$165,F27>$K$165,F28>$K$165,F30>$K$165),AND(F26>$K$165,F27>$K$165,F29>$K$165,F30>$K$165),AND(F26>$K$165,F28>$K$165,F29>$K$165,F30>$K$165),AND(F27>$K$165,F28>$K$165,F29>$K$165,F30>$K$165)),"Да","—")) -> —
A176: =IF(F31="","",'Исходные данные'!A30) -> 12 | B176: =IF(F31="","",IF(F31>O31,"Да","—")) -> — | E176: =IF(F31="","",IF(AND(F23>$I$17,F24>$I$17,F25>$I$17,F26>$I$17,F27>$I$17,F28>$I$17,F29>$I$17,F30>$I$17,F31>$I$17),"Да","—")) -> — | G176: =IF(F31="","",IF(AND(F26<F27,F27<F28,F28<F29,F29<F30,F30<F31),"Да","—")) -> — | I176: =IF(F31="","",IF(OR(AND(F29>$I$16,F30>$I$16),AND(F30>$I$16,F31>$I$16),AND(F29>$I$16,F31>$I$16)),"Да","—")) -> — | J176: =IF(F31="","",IF(OR(AND(F27>$K$165,F28>$K$165,F29>$K$165,F30>$K$165),AND(F27>$K$165,F28>$K$165,F29>$K$165,F31>$K$165),AND(F27>$K$165,F28>$K$165,F30>$K$165,F31>$K$165),AND(F27>$K$165,F29>$K$165,F30>$K$165,F31>$K$165),AND(F28>$K$165,F29>$K$165,F30>$K$165,F31>$K$165)),"Да","—")) -> —
A177: =IF(F32="","",'Исходные данные'!A31) -> 13 | B177: =IF(F32="","",IF(F32>O32,"Да","—")) -> — | E177: =IF(F32="","",IF(AND(F24>$I$17,F25>$I$17,F26>$I$17,F27>$I$17,F28>$I$17,F29>$I$17,F30>$I$17,F31>$I$17,F32>$I$17),"Да","—")) -> — | G177: =IF(F32="","",IF(AND(F27<F28,F28<F29,F29<F30,F30<F31,F31<F32),"Да","—")) -> — | I177: =IF(F32="","",IF(OR(AND(F30>$I$16,F31>$I$16),AND(F31>$I$16,F32>$I$16),AND(F30>$I$16,F32>$I$16)),"Да","—")) -> — | J177: =IF(F32="","",IF(OR(AND(F28>$K$165,F29>$K$165,F30>$K$165,F31>$K$165),AND(F28>$K$165,F29>$K$165,F30>$K$165,F32>$K$165),AND(F28>$K$165,F29>$K$165,F31>$K$165,F32>$K$165),AND(F28>$K$165,F30>$K$165,F31>$K$165,F32>$K$165),AND(F29>$K$165,F30>$K$165,F31>$K$165,F32>$K$165)),"Да","—")) -> —
A178: =IF(F33="","",'Исходные данные'!A32) -> 14 | B178: =IF(F33="","",IF(F33>O33,"Да","—")) -> — | E178: =IF(F33="","",IF(AND(F25>$I$17,F26>$I$17,F27>$I$17,F28>$I$17,F29>$I$17,F30>$I$17,F31>$I$17,F32>$I$17,F33>$I$17),"Да","—")) -> — | G178: =IF(F33="","",IF(AND(F28<F29,F29<F30,F30<F31,F31<F32,F32<F33),"Да","—")) -> — | I178: =IF(F33="","",IF(OR(AND(F31>$I$16,F32>$I$16),AND(F32>$I$16,F33>$I$16),AND(F31>$I$16,F33>$I$16)),"Да","—")) -> — | J178: =IF(F33="","",IF(OR(AND(F29>$K$165,F30>$K$165,F31>$K$165,F32>$K$165),AND(F29>$K$165,F30>$K$165,F31>$K$165,F33>$K$165),AND(F29>$K$165,F30>$K$165,F32>$K$165,F33>$K$165),AND(F29>$K$165,F31>$K$165,F32>$K$165,F33>$K$165),AND(F30>$K$165,F31>$K$165,F32>$K$165,F33>$K$165)),"Да","—")) -> —
A179: =IF(F34="","",'Исходные данные'!A33) -> 15 | B179: =IF(F34="","",IF(F34>O34,"Да","—")) -> — | E179: =IF(F34="","",IF(AND(F26>$I$17,F27>$I$17,F28>$I$17,F29>$I$17,F30>$I$17,F31>$I$17,F32>$I$17,F33>$I$17,F34>$I$17),"Да","—")) -> — | G179: =IF(F34="","",IF(AND(F29<F30,F30<F31,F31<F32,F32<F33,F33<F34),"Да","—")) -> — | I179: =IF(F34="","",IF(OR(AND(F32>$I$16,F33>$I$16),AND(F33>$I$16,F34>$I$16),AND(F32>$I$16,F34>$I$16)),"Да","—")) -> — | J179: =IF(F34="","",IF(OR(AND(F30>$K$165,F31>$K$165,F32>$K$165,F33>$K$165),AND(F30>$K$165,F31>$K$165,F32>$K$165,F34>$K$165),AND(F30>$K$165,F31>$K$165,F33>$K$165,F34>$K$165),AND(F30>$K$165,F32>$K$165,F33>$K$165,F34>$K$165),AND(F31>$K$165,F32>$K$165,F33>$K$165,F34>$K$165)),"Да","—")) -> —
A180: =IF(F35="","",'Исходные данные'!A34) -> 16 | B180: =IF(F35="","",IF(F35>O35,"Да","—")) -> — | E180: =IF(F35="","",IF(AND(F27>$I$17,F28>$I$17,F29>$I$17,F30>$I$17,F31>$I$17,F32>$I$17,F33>$I$17,F34>$I$17,F35>$I$17),"Да","—")) -> — | G180: =IF(F35="","",IF(AND(F30<F31,F31<F32,F32<F33,F33<F34,F34<F35),"Да","—")) -> — | I180: =IF(F35="","",IF(OR(AND(F33>$I$16,F34>$I$16),AND(F34>$I$16,F35>$I$16),AND(F33>$I$16,F35>$I$16)),"Да","—")) -> — | J180: =IF(F35="","",IF(OR(AND(F31>$K$165,F32>$K$165,F33>$K$165,F34>$K$165),AND(F31>$K$165,F32>$K$165,F33>$K$165,F35>$K$165),AND(F31>$K$165,F32>$K$165,F34>$K$165,F35>$K$165),AND(F31>$K$165,F33>$K$165,F34>$K$165,F35>$K$165),AND(F32>$K$165,F33>$K$165,F34>$K$165,F35>$K$165)),"Да","—")) -> —
A181: =IF(F36="","",'Исходные данные'!A35) -> 17 | B181: =IF(F36="","",IF(F36>O36,"Да","—")) -> — | E181: =IF(F36="","",IF(AND(F28>$I$17,F29>$I$17,F30>$I$17,F31>$I$17,F32>$I$17,F33>$I$17,F34>$I$17,F35>$I$17,F36>$I$17),"Да","—")) -> — | G181: =IF(F36="","",IF(AND(F31<F32,F32<F33,F33<F34,F34<F35,F35<F36),"Да","—")) -> — | I181: =IF(F36="","",IF(OR(AND(F34>$I$16,F35>$I$16),AND(F35>$I$16,F36>$I$16),AND(F34>$I$16,F36>$I$16)),"Да","—")) -> — | J181: =IF(F36="","",IF(OR(AND(F32>$K$165,F33>$K$165,F34>$K$165,F35>$K$165),AND(F32>$K$165,F33>$K$165,F34>$K$165,F36>$K$165),AND(F32>$K$165,F33>$K$165,F35>$K$165,F36>$K$165),AND(F32>$K$165,F34>$K$165,F35>$K$165,F36>$K$165),AND(F33>$K$165,F34>$K$165,F35>$K$165,F36>$K$165)),"Да","—")) -> —
A182: =IF(F37="","",'Исходные данные'!A36) -> 18 | B182: =IF(F37="","",IF(F37>O37,"Да","—")) -> — | E182: =IF(F37="","",IF(AND(F29>$I$17,F30>$I$17,F31>$I$17,F32>$I$17,F33>$I$17,F34>$I$17,F35>$I$17,F36>$I$17,F37>$I$17),"Да","—")) -> — | G182: =IF(F37="","",IF(AND(F32<F33,F33<F34,F34<F35,F35<F36,F36<F37),"Да","—")) -> — | I182: =IF(F37="","",IF(OR(AND(F35>$I$16,F36>$I$16),AND(F36>$I$16,F37>$I$16),AND(F35>$I$16,F37>$I$16)),"Да","—")) -> — | J182: =IF(F37="","",IF(OR(AND(F33>$K$165,F34>$K$165,F35>$K$165,F36>$K$165),AND(F33>$K$165,F34>$K$165,F35>$K$165,F37>$K$165),AND(F33>$K$165,F34>$K$165,F36>$K$165,F37>$K$165),AND(F33>$K$165,F35>$K$165,F36>$K$165,F37>$K$165),AND(F34>$K$165,F35>$K$165,F36>$K$165,F37>$K$165)),"Да","—")) -> —
A183: =IF(F38="","",'Исходные данные'!A37) -> 19 | B183: =IF(F38="","",IF(F38>O38,"Да","—")) -> — | E183: =IF(F38="","",IF(AND(F30>$I$17,F31>$I$17,F32>$I$17,F33>$I$17,F34>$I$17,F35>$I$17,F36>$I$17,F37>$I$17,F38>$I$17),"Да","—")) -> — | G183: =IF(F38="","",IF(AND(F33<F34,F34<F35,F35<F36,F36<F37,F37<F38),"Да","—")) -> — | I183: =IF(F38="","",IF(OR(AND(F36>$I$16,F37>$I$16),AND(F37>$I$16,F38>$I$16),AND(F36>$I$16,F38>$I$16)),"Да","—")) -> — | J183: =IF(F38="","",IF(OR(AND(F34>$K$165,F35>$K$165,F36>$K$165,F37>$K$165),AND(F34>$K$165,F35>$K$165,F36>$K$165,F38>$K$165),AND(F34>$K$165,F35>$K$165,F37>$K$165,F38>$K$165),AND(F34>$K$165,F36>$K$165,F37>$K$165,F38>$K$165),AND(F35>$K$165,F36>$K$165,F37>$K$165,F38>$K$165)),"Да","—")) -> —
A184: =IF(F39="","",'Исходные данные'!A38) -> 20 | B184: =IF(F39="","",IF(F39>O39,"Да","—")) -> — | E184: =IF(F39="","",IF(AND(F31>$I$17,F32>$I$17,F33>$I$17,F34>$I$17,F35>$I$17,F36>$I$17,F37>$I$17,F38>$I$17,F39>$I$17),"Да","—")) -> — | G184: =IF(F39="","",IF(AND(F34<F35,F35<F36,F36<F37,F37<F38,F38<F39),"Да","—")) -> — | I184: =IF(F39="","",IF(OR(AND(F37>$I$16,F38>$I$16),AND(F38>$I$16,F39>$I$16),AND(F37>$I$16,F39>$I$16)),"Да","—")) -> — | J184: =IF(F39="","",IF(OR(AND(F35>$K$165,F36>$K$165,F37>$K$165,F38>$K$165),AND(F35>$K$165,F36>$K$165,F37>$K$165,F39>$K$165),AND(F35>$K$165,F36>$K$165,F38>$K$165,F39>$K$165),AND(F35>$K$165,F37>$K$165,F38>$K$165,F39>$K$165),AND(F36>$K$165,F37>$K$165,F38>$K$165,F39>$K$165)),"Да","—")) -> —
...

Sheet Протокол
A1: Протокол установленных показателей качества результатов анализа при реализации методики анализа в лаборатории
D3: УТВЕРЖДАЮ
D4: ='Исходные данные'!E50 -> Заведущий лабораторией
E5: ='Исходные данные'!E51 -> П.П. Иваненко
D6: " ___ " ____________ 20 ___ г.
A9: Наименование лаборатории, применяющей данную методику | C9: ='Исходные данные'!E3 -> Лаборатория ООО "Рога и копыта"
A10: Наименование методики анализа | C10: ='Исходные данные'!E6 -> Аттестованная методика измерений определения содержания токсичных элементов (кадмия, свинца, меди и цинка) в продуктах пищевых и продовольственном сырье инверсионно-вольтамперометрическими методами
A11: Обозначение НД на методику анализа | C11: ='Исходные данные'!E7 -> МУК ХХХХХ
A12: Показатели качества результатов анализа были оценены на основе даннвх | C12: =IF(ISBLANK('Исходные данные'!E15),"",'Исходные данные'!E15) -> контрольных измерений
A13: полученных в период | C13: =CONCATENATE("с ",TEXT(MIN('Исходные данные'!B19:B48),"ДД.ММ.ГГГГ")," по ",TEXT(MAX('Исходные данные'!B19:B48),"ДД.ММ.ГГГГ")) -> с 11.01.2016 по 09.02.2016
A16: Наименование и диапазон измерений определяемых компонентов, единиц измерений | B16: Показатель повторяемости результатов анализа в виде СКО, % | C16: Показатель внутрилабораторной прецизионности результатов анализа в виде СКО, % | D16: Показатель правильности результатов анализа, % | E16: Показатель точности результатов анализа, %
A17: =CONCATENATE('Исходные данные'!E5,", диапазон ",'Исходные данные'!E8,", ",'Исходные данные'!E9) -> Массовая доля кадмия , диапазон от 0,005 до 1,5 вкл., мк/кг | B17: =ККШ!G214 -> 8.8304249 | C17: =ККШ!G199 -> 11.44143 | D17: =IF(ККШ!G204="выполняется",ККШ!G206,ККШ!G207) -> 4.414574 | E17: =ККШ!G213 -> 22.88286
A20: ='Исходные данные'!E52 -> Менеджер по качеству | E20: ='Исходные данные'!E53:F53 -> И.И. Петренко

Sheet Число КП
A1: Расчет числа результатов контрольных процедур, необходимых для достоверной оценки новых значений показателей качества результатов анализа
A3: γ = | B3: =ROUND(SQRT(POWER('Исходные данные'!E11/'Исходные данные'!E10,2)+(2-1)/2),1) -> 1.2
A5: L, при условии А ≤ 0,33 | B5: =VLOOKUP(0.33,A11:B109,2) -> 18 | C5: L, при условии А ≤ 0,33 | D5: =VLOOKUP(0.33,C11:D109,2) -> 11 | E5: L, при условии А ≤ 0,33 | F5: =VLOOKUP(0.33,E11:F109,2) -> 23
A8: А
A10: для повторяемости | B10: Число контрольных процедур, L | C10: для внутрилабораторной прецизионности | D10: Число контрольных процедур, L | E10: для точности | F10: Число контрольных процедур, L
A11: =ROUND(1.96*SQRT(1/((2*B11)*(2-1))),3) -> 0.139 | B11: 100 | C11: =ROUND(1.96*SQRT((D11*(POWER(1+2*($B$3^2-1),2))+(2-1)*(D11-1))/(2*$B$3^4*2^2*(D11-1)*D11)),3) -> 0.103 | D11: 100 | E11: =ROUND(1.96*SQRT((2*($B$3^2-1)+1)/($B$3^2*F11*2)),3) -> 0.158 | F11: 100
A12: =ROUND(1.96*SQRT(1/((2*B12)*(2-1))),3) -> 0.139 | B12: 99 | C12: =ROUND(1.96*SQRT((D12*(POWER(1+2*($B$3^2-1),2))+(2-1)*(D12-1))/(2*$B$3^4*2^2*(D12-1)*D12)),3) -> 0.103 | D12: 99 | E12: =ROUND(1.96*SQRT((2*($B$3^2-1)+1)/($B$3^2*F12*2)),3) -> 0.159 | F12: 99
A13: =ROUND(1.96*SQRT(1/((2*B13)*(2-1))),3) -> 0.14 | B13: 98 | C13: =ROUND(1.96*SQRT((D13*(POWER(1+2*($B$3^2-1),2))+(2-1)*(D13-1))/(2*$B$3^4*2^2*(D13-1)*D13)),3) -> 0.104 | D13: 98 | E13: =ROUND(1.96*SQRT((2*($B$3^2-1)+1)/($B$3^2*F13*2)),3) -> 0.16 | F13: 98
A14: =ROUND(1.96*SQRT(1/((2*B14)*(2-1))),3) -> 0.141 | B14: 97 | C14: =ROUND(1.96*SQRT((D14*(POWER(1+2*($B$3^2-1),2))+(2-1)*(D14-1))/(2*$B$3^4*2^2*(D14-1)*D14)),3) -> 0.104 | D14: 97 | E14: =ROUND(1.96*SQRT((2*($B$3^2-1)+1)/($B$3^2*F14*2)),3) -> 0.161 | F14: 97
A15: =ROUND(1.96*SQRT(1/((2*B15)*(2-1))),3) -> 0.141 | B15: 96 | C15: =ROUND(1.96*SQRT((D15*(POWER(1+2*($B$3^2-1),2))+(2-1)*(D15-1))/(2*$B$3^4*2^2*(D15-1)*D15)),3) -> 0.105 | D15: 96 | E15: =ROUND(1.96*SQRT((2*($B$3^2-1)+1)/($B$3^2*F15*2)),3) -> 0.162 | F15: 96
A16: =ROUND(1.96*SQRT(1/((2*B16)*(2-1))),3) -> 0.142 | B16: 95 | C16: =ROUND(1.96*SQRT((D16*(POWER(1+2*($B$3^2-1),2))+(2-1)*(D16-1))/(2*$B$3^4*2^2*(D16-1)*D16)),3) -> 0.106 | D16: 95 | E16: =ROUND(1.96*SQRT((2*($B$3^2-1)+1)/($B$3^2*F16*2)),3) -> 0.162 | F16: 95
A17: =ROUND(1.96*SQRT(1/((2*B17)*(2-1))),3) -> 0.143 | B17: 94 | C17: =ROUND(1.96*SQRT((D17*(POWER(1+2*($B$3^2-1),2))+(2-1)*(D17-1))/(2*$B$3^4*2^2*(D17-1)*D17)),3) -> 0.106 | D17: 94 | E17: =ROUND(1.96*SQRT((2*($B$3^2-1)+1)/($B$3^2*F17*2)),3) -> 0.163 | F17: 94
A18: =ROUND(1.96*SQRT(1/((2*B18)*(2-1))),3) -> 0.144 | B18: 93 | C18: =ROUND(1.96*SQRT((D18*(POWER(1+2*($B$3^2-1),2))+(2-1)*(D18-1))/(2*$B$3^4*2^2*(D18-1)*D18)),3) -> 0.107 | D18: 93 | E18: =ROUND(1.96*SQRT((2*($B$3^2-1)+1)/($B$3^2*F18*2)),3) -> 0.164 | F18: 93
A19: =ROUND(1.96*SQRT(1/((2*B19)*(2-1))),3) -> 0.144 | B19: 92 | C19: =ROUND(1.96*SQRT((D19*(POWER(1+2*($B$3^2-1),2))+(2-1)*(D19-1))/(2*$B$3^4*2^2*(D19-1)*D19)),3) -> 0.107 | D19: 92 | E19: =ROUND(1.96*SQRT((2*($B$3^2-1)+1)/($B$3^2*F19*2)),3) -> 0.165 | F19: 92
A20: =ROUND(1.96*SQRT(1/((2*B20)*(2-1))),3) -> 0.145 | B20: 91 | C20: =ROUND(1.96*SQRT((D20*(POWER(1+2*($B$3^2-1),2))+(2-1)*(D20-1))/(2*$B$3^4*2^2*(D20-1)*D20)),3) -> 0.108 | D20: 91 | E20: =ROUND(1.96*SQRT((2*($B$3^2-1)+1)/($B$3^2*F20*2)),3) -> 0.166 | F20: 91
A21: =ROUND(1.96*SQRT(1/((2*B21)*(2-1))),3) -> 0.146 | B21: 90 | C21: =ROUND(1.96*SQRT((D21*(POWER(1+2*($B$3^2-1),2))+(2-1)*(D21-1))/(2*$B$3^4*2^2*(D21-1)*D21)),3) -> 0.108 | D21: 90 | E21: =ROUND(1.96*SQRT((2*($B$3^2-1)+1)/($B$3^2*F21*2)),3) -> 0.167 | F21: 90
A22: =ROUND(1.96*SQRT(1/((2*B22)*(2-1))),3) -> 0.147 | B22: 89 | C22: =ROUND(1.96*SQRT((D22*(POWER(1+2*($B$3^2-1),2))+(2-1)*(D22-1))/(2*$B$3^4*2^2*(D22-1)*D22)),3) -> 0.109 | D22: 89 | E22: =ROUND(1.96*SQRT((2*($B$3^2-1)+1)/($B$3^2*F22*2)),3) -> 0.168 | F22: 89
... A109: =ROUND(1.96*SQRT(1/((2*B109)*(2-1))),3) -> 0.98 | B109: 2 | C109: =ROUND(1.96*SQRT((D109*(POWER(1+2*($B$3^2-1),2))+(2-1)*(D109-1))/(2*$B$3^4*2^2*(D109-1)*D109)),3) -> 0.967 | D109: 2 | E109: =ROUND(1.96*SQRT((2*($B$3^2-1)+1)/($B$3^2*F109*2)),3) -> 1.12 | F109: 2
