Workbook

Sheet Исходные данные
A1: Периодическая проверка подконтрольности процедуры выполнения анализа
A3: Наиманование лаборатории | D3: испытательная лаборатория ООО "Зеленая Лунь"
A4: Объект | D4: нефтепродукты
A5: Определяемый показатель | D5: давление насыщенных паров
A6: Методика анализа | D6: определение давления насыщенных паров
A7: Обозначение НД на методику анализа | D7: ГОСТ РЕН 13016-1
A8: Единица измерения | D8: кПа
A9: Период проведения проверки | D9: =CONCATENATE(TEXT(MIN(B25:B34),"ДД.ММ.ГГГГ")," — ",TEXT(MAX(B25:B34),"ДД.ММ.ГГГГ")) -> 15.01.2018 — 14.06.2018
A11: Аттестованное значение в ОК | D11: 34.4
A12: Погрешность аттестованного значения | D12: 0.1
A14: Показатели качества (в абс. ед.) | D14: методики | E14: результатов анализа в лаборатории
A15: СКО повторяемости | D15: 0.46 | E15: 0.46
A16: Предел повторяемости | D16: 1.26 | E16: 1.26
A17: СКО воспроизводимости* | D17: 0.91 | E17: 0.91
A18: Предел воспроизводимости* | D18: 2.52 | E18: 2.52
A19: Правильность (интервальная оценка) | D19: 0 | E19: 0.5
A20: Погрешность | D20: 1.79 | E20: 1.79
A21: *Для результатов, полученных в лаборатории - внутрилабораторная прецизионность.
A23: Результаты измерений
A24: № п/п | B24: Дата | C24: 1-ое определение | D24: 2-ое определение
A25: 1 | B25: 43115 | C25: 34.6 | D25: 34.6
A26: 2 | B26: 43152 | C26: 34.4 | D26: 34.4
A27: 3 | B27: 43182 | C27: 34.1 | D27: 34.3
A28: 4 | B28: 43195 | C28: 34.4 | D28: 34
A29: 5 | B29: 43201 | C29: 34 | D29: 34.2
A30: 6 | B30: 43231 | C30: 34.4 | D30: 34.2
A31: 7 | B31: 43265 | C31: 34.6 | D31: 34.4
A32: 8
A33: 9
A34: 10
A36: Должность исполнителя | D36: Инженер-химик
A37: И.О. Фамилия руководителя лаборатории | D37: И.И. Петров
A38: Должность ответственного за ВКК | D38: Менеджер по качеству
A39: И.О. Фамилия ответственного за ВКК | D39: П.П. Иванов
A42: Автоматизированная процедура расчета результатов периодической проверки подконтрольности процедуры анализа с применением образца для контроля. © Д.А. Цимбаленко, d_tsim@list.ru, версия 23.04.2016

Sheet Расчет ПППА
A1: Периодическая проверка подконтрольности процедуры выполнения анализа с образцом для контроля
A3: =CONCATENATE("1. Наименование лаборатории: ",'Исходные данные'!D3,".") -> 1. Наименование лаборатории: испытательная лаборатория ООО "Зеленая Лунь".
A4: =CONCATENATE("2. Контролируемый объект: ",'Исходные данные'!D4,".") -> 2. Контролируемый объект: нефтепродукты.
A5: =CONCATENATE("3. Определяемый показатель: ",'Исходные данные'!D5,".") -> 3. Определяемый показатель: давление насыщенных паров.
A6: =CONCATENATE("4. Методика анализа: ",'Исходные данные'!D6," по ",'Исходные данные'!D7,".") -> 4. Методика анализа: определение давления насыщенных паров по ГОСТ РЕН 13016-1.
A7: 5. Данные для проверки подконтрольности процедуры анализа:
A9: Параметры образца для контроля
A10: =CONCATENATE("Значение показателя в образце для контроля, ",'Исходные данные'!D8) -> Значение показателя в образце для контроля, кПа | H10: ='Исходные данные'!D11 -> 34.4
A11: =CONCATENATE("Погрешность значения показателя в образце для контроля, ",'Исходные данные'!D8) -> Погрешность значения показателя в образце для контроля, кПа | H11: ='Исходные данные'!D12 -> 0.1
A13: Фактические значения показателей качества результатов анализа в лаборатории (в абс. ед.)
A14: СКО повторяемости | H14: ='Исходные данные'!E15 -> 0.46
A15: СКО внутрилабораторной прецизионности | H15: ='Исходные данные'!E17 -> 0.91
A16: Правильность | H16: ='Исходные данные'!E19 -> 0.5
A17: Погрешность | H17: ='Исходные данные'!E20 -> 1.79
A19: =CONCATENATE("6. Период проведения проверки подконтрольности процедуры анализа ",'Исходные данные'!D9) -> 6. Период проведения проверки подконтрольности процедуры анализа 15.01.2018 — 14.06.2018
A21: Результаты проверки подконтрольности процедуры выполнения анализа
A23: № п/п | B23: Дата | C23: X1 | D23: X2 | E23: Xср | F23: Xсрср | G23: Sx | H23: KВП | I23: Условие Sx ≤ KВП | J23: θ'л | K23: KП | L23: Условие ǀθ'лǀ ≤ KП | M23: Стабильность процесса анализа
A24: =IF(C24="","",1) -> 1 | B24: =IF(ISBLANK('Исходные данные'!B25),"",'Исходные данные'!B25) -> 43115 | C24: =IF(ISBLANK('Исходные данные'!C25),"",'Исходные данные'!C25) -> 34.6 | D24: =IF(ISBLANK('Исходные данные'!D25),"",'Исходные данные'!D25) -> 34.6 | E24: =IF(OR(C24="",D24=""),"",AVERAGE(C24:D24)) -> 34.6 | F24: =IFERROR(AVERAGE(E24:E33),"") -> 34.328571 | G24: =IFERROR(_xlfn.STDEV.S(E24:E33),"") -> 0.17994708 | H24: =IF(COUNT(E24:E33)<4,1.54*H15,H15*VLOOKUP(COUNT(E24:E33)-1,B41:C58,2,TRUE)) -> 1.3195 | I24: =IF(G24="","",IF(G24<=H24,"выполняется","не выполняется")) -> выполняется | J24: =IFERROR(F24-H10,"") -> -0.071428571 | K24: =IFERROR(SQRT((_xlfn.T.INV(0.975,COUNT(E24:E33)-1)*H15)^2/COUNT(E24:E33)+H16^2),"") -> 0.97893144 | L24: =IF(K24="","",IF(ABS(J24)<=K24,"выполняется","не выполняется")) -> выполняется | M24: =IF(G24="","",IF(AND(I24="выполняется",L24="выполняется"),"удовлетворительная","неудовлетворительная")) -> удовлетворительная
A25: =IF(C25="","",2) -> 2 | B25: =IF(ISBLANK('Исходные данные'!B26),"",'Исходные данные'!B26) -> 43152 | C25: =IF(ISBLANK('Исходные данные'!C26),"",'Исходные данные'!C26) -> 34.4 | D25: =IF(ISBLANK('Исходные данные'!D26),"",'Исходные данные'!D26) -> 34.4 | E25: =IF(OR(C25="",D25=""),"",AVERAGE(C25:D25)) -> 34.4
A26: =IF(C26="","",3) -> 3 | B26: =IF(ISBLANK('Исходные данные'!B27),"",'Исходные данные'!B27) -> 43182 | C26: =IF(ISBLANK('Исходные данные'!C27),"",'Исходные данные'!C27) -> 34.1 | D26: =IF(ISBLANK('Исходные данные'!D27),"",'Исходные данные'!D27) -> 34.3 | E26: =IF(OR(C26="",D26=""),"",AVERAGE(C26:D26)) -> 34.2
A27: =IF(C27="","",4) -> 4 | B27: =IF(ISBLANK('Исходные данные'!B28),"",'Исходные данные'!B28) -> 43195 | C27: =IF(ISBLANK('Исходные данные'!C28),"",'Исходные данные'!C28) -> 34.4 | D27: =IF(ISBLANK('Исходные данные'!D28),"",'Исходные данные'!D28) -> 34 | E27: =IF(OR(C27="",D27=""),"",AVERAGE(C27:D27)) -> 34.2
A28: =IF(C28="","",5) -> 5 | B28: =IF(ISBLANK('Исходные данные'!B29),"",'Исходные данные'!B29) -> 43201 | C28: =IF(ISBLANK('Исходные данные'!C29),"",'Исходные данные'!C29) -> 34 | D28: =IF(ISBLANK('Исходные данные'!D29),"",'Исходные данные'!D29) -> 34.2 | E28: =IF(OR(C28="",D28=""),"",AVERAGE(C28:D28)) -> 34.1
A29: =IF(C29="","",6) -> 6 | B29: =IF(ISBLANK('Исходные данные'!B30),"",'Исходные данные'!B30) -> 43231 | C29: =IF(ISBLANK('Исходные данные'!C30),"",'Исходные данные'!C30) -> 34.4 | D29: =IF(ISBLANK('Исходные данные'!D30),"",'Исходные данные'!D30) -> 34.2 | E29: =IF(OR(C29="",D29=""),"",AVERAGE(C29:D29)) -> 34.3
A30: =IF(C30="","",7) -> 7 | B30: =IF(ISBLANK('Исходные данные'!B31),"",'Исходные данные'!B31) -> 43265 | C30: =IF(ISBLANK('Исходные данные'!C31),"",'Исходные данные'!C31) -> 34.6 | D30: =IF(ISBLANK('Исходные данные'!D31),"",'Исходные данные'!D31) -> 34.4 | E30: =IF(OR(C30="",D30=""),"",AVERAGE(C30:D30)) -> 34.5
A31: =IF(C31="","",8) | B31: =IF(ISBLANK('Исходные данные'!B32),"",'Исходные данные'!B32) | C31: =IF(ISBLANK('Исходные данные'!C32),"",'Исходные данные'!C32) | D31: =IF(ISBLANK('Исходные данные'!D32),"",'Исходные данные'!D32) | E31: =IF(OR(C31="",D31=""),"",AVERAGE(C31:D31))
A32: =IF(C32="","",9) | B32: =IF(ISBLANK('Исходные данные'!B33),"",'Исходные данные'!B33) | C32: =IF(ISBLANK('Исходные данные'!C33),"",'Исходные данные'!C33) | D32: =IF(ISBLANK('Исходные данные'!D33),"",'Исходные данные'!D33) | E32: =IF(OR(C32="",D32=""),"",AVERAGE(C32:D32))
A33: =IF(C33="","",10) | B33: =IF(ISBLANK('Исходные данные'!B34),"",'Исходные данные'!B34) | C33: =IF(ISBLANK('Исходные данные'!C34),"",'Исходные данные'!C34) | D33: =IF(ISBLANK('Исходные данные'!D34),"",'Исходные данные'!D34) | E33: =IF(OR(C33="",D33=""),"",AVERAGE(C33:D33))
A34: =IF(COUNT(E24:E33)>=5,CONCATENATE("Примечание: L = ",COUNT(E24:E33)," , условие L ≥ 5 выполняется."),"ВНИМАНИЕ!!! Недостаточное количество контрольных процедур (менее пяти)!") -> Примечание: L = 7 , условие L ≥ 5 выполняется.
A36: ='Исходные данные'!D36 -> Инженер-химик | K36: ='Исходные данные'!D37 -> И.И. Петров
A37: ='Исходные данные'!D38 -> Менеджер по качеству | K37: ='Исходные данные'!D39 -> П.П. Иванов | M37: ='Исходные данные'!D39 -> П.П. Иванов
B40: f=L-1 | C40: µ(f)
B41: 4 | C41: 1.54
B42: 5 | C42: 1.49
B43: 6 | C43: 1.45
B44: 7 | C44: 1.42
B45: 8 | C45: 1.39
B46: 9 | C46: 1.37
B47: 10 | C47: 1.35
B48: 11 | C48: 1.34
B49: 12 | C49: 1.32
...
